BEGIN:VCALENDAR
PRODID:-//github.com/rianjs/ical.net//NONSGML ical.net 2.2//EN
VERSION:2.0
BEGIN:VEVENT
CATEGORIES:Activitats
CREATED;TZID=Europe/Madrid:20260424T210926
DESCRIPTION:<span style="font-size: 12px\; color: #7f7f7f\;"><span style="
 font-size: 12px\;">La <strong>CEPTA </strong>organitza el mes de setembre
  un curs sobre&nbsp\; <strong>PRACTITIONER EN PNL</strong> de 90 hores de
  durada.<br />\n</span><br />\n</span><span style="font-family: arial-bol
 dmt\; font-size: 16px\; color: #7f7f7f\;"><span style="font-size: 12px\; 
 color: #7f7f7f\;"><span style="font-size: 12px\;">&ldquo\;Practitioner &e
 acute\;s el primer nivell de formaci&oacute\; acreditat en PNL. En ell s'
 adquireixen els coneixements te&ograve\;rics i l'experi&egrave\;ncia pr&a
 grave\;ctica i vivencial necessaris per comprendre i utilitzar la metodol
 ogia de la PNL en les &agrave\;rees\, conductes i habilitats humanes en g
 eneral.&rdquo\;<br />\n</span><br />\n</span><span style="font-family: ar
 ialmt\; font-size: 16px\;"><span style="font-size: 12px\; color: #7f7f7f\
 ;"><strong>LLOC:</strong> El curs tindr&agrave\; lloc a les instal&middot
 \;lacions de Cepta de l'Avinguda Roma\, 7\, 6a planta de Tarragona\, els 
 </span><span style="font-size: 12px\; color: #7f7f7f\;"><span style="font
 -size: 12px\; color: #7f7f7f\;">dimarts\, dimecres i dijous del 13 de set
 embre al 8 de Novembre de 2011 de 17a 21h.<br />\n<br />\n</span><span st
 yle="font-family: arial-boldmt\; font-size: 12px\; color: #7f7f7f\;"><spa
 n style="font-size: 12px\;"><strong>INVERSI&Oacute\; I INSCRIPCIONS:</str
 ong></span> <br />\n<br />\n</span><span style="font-family: arialmt\;"><
 span style="font-size: 12px\; color: #7f7f7f\;">Preu adaptat a la situaci
 &oacute\; actual ajustant-lo al m&agrave\;xim. </span><span style="font-s
 ize: 12px\; color: #7f7f7f\;">La inversi&oacute\; del curs &eacute\;s de 
 1.400 &euro\;.<br />\n<br />\n</span></span><span style="font-family: ari
 al-boldmt\; font-size: 12px\; color: #7f7f7f\;"><span style="font-size: 1
 2px\;">Consulteu descomptes per empreses associades a Cepta i persones at
 urades.<br />\n<br />\n</span><span style="font-size: 12px\;">Possibilita
 t de bonificaci&oacute\; per part de l'empresa fins el 100% del cost. </s
 pan></span><span style="font-size: 12px\; color: #7f7f7f\;"><span style="
 font-family: arialmt\; font-size: 12px\;"><span style="font-size: 12px\;"
 >Consultar condicions i </span><span style="font-size: 12px\;">terminis.<
 /span> <br />\n<br />\n<span style="color: #7f7f7f\;"><strong>***ASSOCIAT
 S: 10 % DE DESCOMPTE***</strong></span><br />\n<br />\n</span><span style
 ="font-family: arial-boldmt\; font-size: 12px\;"><strong>M&eacute\;s info
 rmaci&oacute\; i inscripcions:</strong> Sra.Marga Pallar&egrave\;s\; A/E:
  </span></span><span style="font-family: arial-boldmt\; font-size: 12px\;
  color: #0000ff\;"><span style="font-size: 12px\; color: #7f7f7f\;"><a hr
 ef="mailto:mpallares@cepta">mpallares@cepta</a>\;&nbsp\;<span style="colo
 r: #7f7f7f\;">http://www.cepta.es</span></span><span style="font-size: 12
 px\; color: #7f7f7f\;"><br />\n<br />\n<span style="font-size: 12px\;"><s
 trong>PODEU DESCARREGAR EL PROGRAMA&nbsp\;I M&Eacute\;S INFORMACI&Oacute\
 ; A L'ARXIU ADJUNT QUE TROBAREU A ENLLA&Ccedil\;OS D'INTER&Eacute\;S.</st
 rong></span></span>&nbsp\; </span></span></span></span>
DTEND;TZID=Europe/Madrid:20110913T210000
DTSTAMP:20260424T190926Z
DTSTART;TZID=Europe/Madrid:20110913T170000
LOCATION:https://www.enginyerstarragona.cat/agenda/details/841/841-practit
 ioner-en-pnl
SEQUENCE:0
SUMMARY:PRACTITIONER en PNL
UID:ET_Activitat_841
URL:https://www.enginyerstarragona.cathttps://www.enginyerstarragona.cat/a
 genda/details/841/841-practitioner-en-pnl
END:VEVENT
END:VCALENDAR
