BEGIN:VCALENDAR
PRODID:-//github.com/rianjs/ical.net//NONSGML ical.net 2.2//EN
VERSION:2.0
BEGIN:VEVENT
CATEGORIES:Instal?lacions d'aigua
CREATED;TZID=Europe/Madrid:20260423T033225
DESCRIPTION:<p style="text-align: justify\;"><span><strong>CODI CIRCULAR: 
 22/11</strong><br />\n<br />\nEl CETIT ha signat un conveni de col&middot
 \;laboraci&oacute\; formativa <em>on line</em> amb e-TECMA LEARNING S.L.\
 , amb l&rsquo\;objectiu de poder oferir-vos accions formatives t&egrave\;
 cniques a un preu especial.<br />\n<br />\n</span>E-TECMA LEARNING SL.\, 
 &eacute\;s una empresa amb experi&egrave\;ncia entre altres camps\, en fo
 rmaci&oacute\; t&egrave\;cnica i mediambiental\, impartida per profession
 als del sector.<br />\n<br />\n<span>A partir de l&rsquo\;abril s&rsquo\;
 obriran v&agrave\;ries convocat&ograve\;ries per poder realitzar\, en mod
 alitat on line\, un curs sobre <strong>ENERGIES RENOVABLES I APLICACI&Oac
 ute\; A LA ARQUITECTURA BIOCLIM&Agrave\;TICA.</strong></span></p>\n<p sty
 le="text-align: justify\;"><strong></strong></p>\n<p style="text-align: j
 ustify\;"><strong>L&rsquo\;OBJECTIU </strong>del curs &eacute\;s que l&rs
 quo\;alumne conegui la situaci&oacute\; de les EERR en el panorama energ&
 egrave\;tic nacional i europeu\, aix&iacute\; com les principals tecnolog
 ies de cadascuna i les seves aplicacions a les noves tend&egrave\;ncies e
 n l&rsquo\;edificaci&oacute\;.</p>\n<p style="text-align: justify\;"><str
 ong></strong></p>\n<p style="text-align: justify\;"><span>Aquest curs t&e
 acute\; una <strong>durada</strong> de 40 h i el termini per a la seva re
 alitzaci&oacute\; &eacute\;s de dos mesos. <br />\n<br />\n</span>Les dat
 es de les convocat&ograve\;ries s&oacute\;n les seg&uuml\;ents: </p>\n<p 
 style="text-align: justify\;">&nbsp\;<span style="font-family: tahoma\;">
 -<span style="font: normal normal normal 7pt/normal 'times new roman'\;">
 &nbsp\;&nbsp\;&nbsp\;&nbsp\;&nbsp\;&nbsp\;&nbsp\;&nbsp\;</span></span>11 
 d&rsquo\;abril (dilluns)</p>\n<p style="text-align: justify\;"><span styl
 e="font-family: tahoma\;">-<span style="font: normal normal normal 7pt/no
 rmal 'times new roman'\;">&nbsp\;&nbsp\;&nbsp\;&nbsp\;&nbsp\;&nbsp\;&nbsp
 \;&nbsp\; </span></span>13 de juny (dilluns)</p>\n<p style="text-align: j
 ustify\;"><span style="font-family: tahoma\;">-</span><span style="font: 
 normal normal normal 7pt/normal 'times new roman'\;"><span style="font-fa
 mily: tahoma\;">&nbsp\; &nbsp\; &nbsp\; &nbsp\;</span><span style="font-f
 amily: arial\; font-size: 12px\;" _face="Arial">2</span><span style="font
 -family: arial\; font-size: 13px\;">4 d'octubre&nbsp\;</span></span>(dill
 uns)</p>\n<p style="text-align: justify\;"><span style="font-family: taho
 ma\;">-<span style="font: normal normal normal 7pt/normal 'times new roma
 n'\;">&nbsp\;&nbsp\;&nbsp\;&nbsp\;&nbsp\;&nbsp\;&nbsp\;&nbsp\; </span></s
 pan>14 de novembre (dilluns)</p>\n<p style="text-align: justify\;">&nbsp\
 ;<strong>PROGRAMA:</strong></p>\n<p style="text-align: justify\;"><strong
 ></strong></p>\n<ol style="list-style-type: decimal\; margin-top: 0cm\;">
 \n    <li style="text-align: justify\;">Els problemes del model energ&egr
 ave\;tic actual i el nou model. </li>\n    <li style="text-align: justify
 \;">Energies renovables d&rsquo\;aplicaci&oacute\; en l&rsquo\;edificaci&
 oacute\;. </li>\n    <li style="text-align: justify\;">Energia solar </li
 >\n    <li style="text-align: justify\;">Energia geot&egrave\;rmica </li>
 \n    <li style="text-align: justify\;">Biomassa </li>\n    <li style="te
 xt-align: justify\;">Energia e&ograve\;lica </li>\n    <li style="text-al
 ign: justify\;">Les EERR i el CTE </li>\n    <li style="text-align: justi
 fy\;">Principis d&rsquo\;arquitectura bioclim&agrave\;tica </li>\n</ol>\n
 <p style="text-align: justify\;"><strong><span style="color: #333333\;">P
 REU: </span></strong><span style="color: #333333\;">300 &euro\; <br />\n<
 /span><strong><span style="background-color: #cccccc\; background-origin:
  initial\; background-clip: initial\; color: #333333\;">COL&middot\;LEGIA
 TS: 225 &euro\;</span></strong></p>\n<p style="text-align: justify\;"><st
 rong></strong></p>\n<p style="text-align: justify\;"><strong><span style=
 "color: #333333\;">DOCUMENTACI&Oacute\;: </span></strong><span style="col
 or: #333333\;">es facilitar&agrave\; documentaci&oacute\; de seguiment a 
 trav&eacute\;s de la plataforma.</span></p>\n<p style="text-align: justif
 y\;"><strong><span style="color: #333333\;">C</span></strong><strong><spa
 n style="color: #333333\;">ERTIFICACI&Oacute\;: </span></strong><span sty
 le="color: #333333\;">es</span><span style="color: #333333\;"> lliurar&ag
 rave\; un certificat d&rsquo\;assist&egrave\;ncia al curs. Assist&egrave\
 ;ncia m&iacute\;nima obligat&ograve\;ria del 80 % de les hores lectives. 
 </span></p>\n<p><strong><span style="font-size: 14pt\; color: #333333\;">
 M&Eacute\;S INFORMACI&Oacute\; I INSCRIPCIONS:</span></strong> <br />\n<s
 pan style="color: #333333\;">Sra. Ana D&iacute\;az\, <a href="mailto:ana@
 e-tecmalearning.es'" target="_blank" re_target="null">ana@e-tecmalearning
 .es<span style="color: #333333\;">'</span></a></span><span style="color: 
 #333333\;"> 984 28 53 95</span></p>\n<p style="text-align: justify\;"><st
 rong><span style="color: #333333\;">TERMINI D&rsquo\;INSCRIPCI&Oacute\;:<
 /span></strong><span style="color: #333333\;"> les inscripcions es poden 
 realitzar fins el mateix dia de la convocat&ograve\;ria.</span></p>
DTEND;TZID=Europe/Madrid;VALUE=DATE:20111114
DTSTAMP:20260423T013225Z
DTSTART;TZID=Europe/Madrid;VALUE=DATE:20110411
LOCATION:https://www.enginyerstarragona.cat/agenda/details/813/813-energie
 s-renovables-i-aplicacio-a-la-arquitec
SEQUENCE:0
SUMMARY:ENERGIES RENOVABLES I APLICACI? A LA ARQUITECTURA BIOCLIM?TICA
UID:ET_Activitat_813
URL:https://www.enginyerstarragona.cathttps://www.enginyerstarragona.cat/a
 genda/details/813/813-energies-renovables-i-aplicacio-a-la-arquitec
END:VEVENT
END:VCALENDAR
