BEGIN:VCALENDAR
PRODID:-//github.com/rianjs/ical.net//NONSGML ical.net 2.2//EN
VERSION:2.0
BEGIN:VEVENT
CATEGORIES:Activitats
CREATED;TZID=Europe/Madrid:20260425T160638
DESCRIPTION:<b>CODI CIRCULAR: 14/11 A<br />\nORGANITZA: AETIGT</b><br />\n
 <br />\nDes del dilluns passat est&agrave\; fet l'esborrany de les oposic
 ions i en uns 15 dies sortir&agrave\; publicat al DOGC\, per tant podem d
 ir que s'organitza el curs de <b>PREPARACI&Oacute\; A OPOSICIONS PER AL C
 OS DE PROFESSORS D'ENSENYAMENT SECUNDARI (Tecnologia).</b><br />\nL'ocupa
 ci&oacute\; p&uacute\;blica &eacute\;s una sortida professional segura qu
 e volem que tu puguis aconseguir amb aquest curs que tindr&agrave\; inici
  <b>l'2 de mar&ccedil\; de 2011</b>.<br />\n<br />\nSer&agrave\; un curs 
 te&ograve\;ric i presencial\, impartit per professorat amb m&eacute\;s de
  20 anys d'experi&egrave\;ncia docent\, en el sistema educatiu i l'&agrav
 e\;rea de tecnologia. <br />\n<br />\nEs far&agrave\; classe un dia a la 
 setmana (dimecres)\, i t&eacute\; previst una durada aproximada de quatre
  mesos\, fins al juny (incl&ograve\;s)\, que dependr&agrave\; de la publi
 caci&oacute\; de la data de la convocat&ograve\;ria. <br />\n<br />\nEls 
 <b>objectius</b> principals d'aquest curs s&oacute\;n els seg&uuml\;ents:
  <br />\n<br />\n? Con&egrave\;ixer el funcionament i el proc&eacute\;s d
 'oposicions. <br />\n? Con&egrave\;ixer la normativa b&agrave\;sica educa
 tiva a Catalunya. <br />\n? Realitzar simulacions de la defensa de la pro
 gramaci&oacute\; did&agrave\;ctica. <br />\n? Determinar criteris per a l
 'elaboraci&oacute\; de la unitat did&agrave\;ctica.<br />\n? Identificar 
 instruments i materials did&agrave\;ctics a l'aula de tecnologia.<br />\n
 <br />\n<b>LLOC: </b>avinguda de Roma\, 7 de Tarragona i transmesa per vi
 deoconfer&egrave\;ncia a les instal'lacions de les Terres de l'Ebre\, car
 rer Mercaders\, 2 de Tortosa.<br />\n<br />\n<b>HORARI:</b> 17 a 20 h <br
  />\n<br />\n<b>PREU:</b> 850 ?<br />\n<b>DESCOMPTE ESPECIAL SI REUNEIXES
  LES DUES CONDICIONS de (COL'LEGIAT I ASSOCIAT) </b><br />\n<b>NO COL'LEG
 IATS:</b> 1020 ?<br />\n<br />\n<b>INFORMA'T DE LES POSSIBILITATS DE FRAC
 CIONAMENT DEL PAGAMENT</b><br />\n<br />\n<b>DOCUMENTACI&Oacute\;:</b> es
  lliurar&agrave\; documentaci&oacute\; de seguiment.<br />\n<br />\n<b>LL
 OC: </b>Avinguda de Roma\, 7 de Tarragona. <br />\n<br />\n<b>NOMBRE M&Ia
 cute\;NIM / M&Agrave\;XIM D'ASSISTENTS: </b>6/25<br />\n<br />\n<b>FORMA 
 DE PAGAMENT: </b>Transfer&egrave\;ncia banc&agrave\;ria o ingr&eacute\;s 
 en efectiu al n&uacute\;mero de compte 0081.0088.16.0001793085 del Banc d
 e Sabadell\, (cal indicar al document justificatiu de pagament el nom de 
 la persona assistent i el nom de l'activitat).<br />\n<br />\nEn efectiu 
 o cobrament a trav&eacute\;s del seu n&uacute\;mero de compte\, que haur&
 agrave\; de facilitar a l'hora de fer la inscripci&oacute\;.<br />\n<br /
 >\n<b>CONFIRMACI&Oacute\; D'ASSIST&Egrave\;NCIA</b>: a l'administraci&oac
 ute\; del Col'legi al 977 251 877 a trav&eacute\;s de l'adre&ccedil\;a el
 ectr&ograve\;nica formacio@cetit.org.<br />\n<br />\n<b>TERMINI D'INSCRIP
 CI&Oacute\; I DE PAGAMENT:</b> 22 de febrer de 2011 o fins completar-se e
 l nombre m&agrave\;xim d'inscripcions si &eacute\;s abans del termini.
DTEND;TZID=Europe/Madrid;VALUE=DATE:20110302
DTSTAMP:20260425T140638Z
DTSTART;TZID=Europe/Madrid;VALUE=DATE:20110302
LOCATION:https://www.enginyerstarragona.cat/agenda/details/808/808-curs-de
 -preparacio-a-oposicions
SEQUENCE:0
SUMMARY:Curs de PREPARACI? A OPOSICIONS
UID:ET_Activitat_808
URL:https://www.enginyerstarragona.cathttps://www.enginyerstarragona.cat/a
 genda/details/808/808-curs-de-preparacio-a-oposicions
END:VEVENT
END:VCALENDAR
