BEGIN:VCALENDAR
PRODID:-//github.com/rianjs/ical.net//NONSGML ical.net 2.2//EN
VERSION:2.0
BEGIN:VEVENT
CATEGORIES:Activitats
CREATED;TZID=Europe/Madrid:20260422T182946
DESCRIPTION:<b>CODI CIRCULAR: 52/10<br><br>\nORGANITZA: CETIT</b>\n<br><br
 >Abans d'iniciar l'exercici de la professi? per compte propi ?s important
  con?ixer amb profunditat l'opci? que com a Enginyer T?cnic Industrial a 
 trav?s de la mutualitat MUPITI.<br><br>\nEn aquesta jornada donaran ?resp
 ostes? a les q?estions relacionades amb l'inici de l'exercici  de la prof
 essi? per ?compte pr?pia? i els avantatges que t'ofereix des de el Col'le
 gi\, amb la teva mutualitat\, i tamb? parlarem de temes relacionats amb l
 a Jubilaci? i el benestar de les nostres fam?lies:<br><br>\n\n-	Puc dedic
 ar-me a l'exercici lliure de la professi?  sense necessitat de donar-me d
 'alta d'aut?nom i obtenir uns beneficis fiscals importants?<br>\n\n-	Puc 
 compatibilitzar l'exercici de la professi?\, per compte ?ali?? amb l'exer
 cici ?lliure? de la professi? evitant la doble cotitzaci??<br>\n\n-	Puc j
 ubilar-me de la meva feina com a treballador per compte ?ali??\, cobrant 
 la pensi? de jubilaci? de la Seguretat Social i a la vegada dedicar-me a 
 ?l'exercici lliure? de la professi??<br>\n\nA c?rrec de la Coordinadora d
 e MUPITI pels col'legis de Catalunya\, la Sra. Dolors Arderiu.<br><br>\n\
 n<b>DATA:</b> 6 d'octubre de 2010 (dimecres) a les 19 hores.<br><br>\n\n<
 b>LLOC: </b>seu del CETIT\, Avinguda de Roma\, 7 i transm?s per videoconf
 er?ncia a les instal'lacions de les Terres de l'Ebre\, carrer Mercaders\,
  2 de Tortosa.<br><br>\n\n<b>CONFIRMACI? D'ASSIST?NCIA:</b> a l'administr
 aci? del Col'legi al 977 251 877 o a trav?s de l'adre?a electr?nica forma
 cio@cetit.org.<br><br>\n\n<b>TERMINI D'INSCRIPCI?:</b> 1 d'octubre de 201
 0 o fins completar-se el nombre m?xim d'inscripcions si ?s abans del term
 ini.<br><br>\n\n<b>INSCRIPCI? GRATU?TA.</b>
DTEND;TZID=Europe/Madrid;VALUE=DATE:20101007
DTSTAMP:20260422T162946Z
DTSTART;TZID=Europe/Madrid;VALUE=DATE:20101006
LOCATION:https://www.enginyerstarragona.cat/agenda/details/783/783-confere
 ncia-mupiti-la-millor-manera-per-exerc
SEQUENCE:0
SUMMARY:Confer?ncia MUPITI ?LA MILLOR MANERA PER EXERCIR LA PROFESSI??
UID:ET_Activitat_783
URL:https://www.enginyerstarragona.cathttps://www.enginyerstarragona.cat/a
 genda/details/783/783-conferencia-mupiti-la-millor-manera-per-exerc
END:VEVENT
END:VCALENDAR
