BEGIN:VCALENDAR
PRODID:-//github.com/rianjs/ical.net//NONSGML ical.net 2.2//EN
VERSION:2.0
BEGIN:VEVENT
CATEGORIES:Activitats
CREATED;TZID=Europe/Madrid:20260421T174323
DESCRIPTION:<b>CODI CIRCULAR: 32/10</b><br><br>Curs DIRECTIVA DE M?QUINES 
 I RD 1215/1997. PERSPECTIVA DE LA SITUACI? DE LES M?QUINES AMB L'ENTRADA 
 EN VIGOR DE LA DIRECTIVA 2006/42.<br><br>\n\nLa nova Directiva de m?quine
 s\, 2006/42/CE\, publicada al DOUE (Diari Oficial de la Uni? Europea) del
  dia 9.6.2006 i transposada a l'ordenament jur?dic intern de l'estat espa
 nyol pel Reial Decret 1644/2008\, de 10 d'octubre (BOE de l'11.10.2008)\,
  incorpora una s?rie de modificacions que f?cilment poden passar desaperc
 ebudes per? que s?n d'un abast molt significatiu i que afecten de ple no 
 tan sols el fabricant\, sin? tamb? l'usuari de la maquin?ria industrial. 
 <br><br>\n\nEl seminari proposat pret?n aclarir i donar respostes concret
 es a tot l'anterior i a d'altres preguntes com ara:<br><br>\n\n-	Si faig 
 canvis a una m?quina nova\, els haig de justificar d'acord amb la directi
 va o basta l'acompliment del RD 1215/1997?<br>\n-	Si faig canvis a una m?
 quina nova\, em converteixo en el fabricant?<br>\n-	I si nom?s en modific
 o l'?s de la m?quina?<br>\n-	Siguin quines siguin les respostes a les pre
 guntes anteriors\, qu? haig de fer?<br>\n-	I qu? passa si ajunto m?quines
  que estan funcionant separadament a la meva planta.<br>\n-	El meu client
  m'encarrega a mi\, i a d'altres prove?dors\, unes m?quines que pensa aju
 ntar en una l?nia. Com haig de tractar jo la meva? Com s'ha de tractar la
  l?nia?   <br><br>\n\n<b>DIRIGIT A:</b> Fabricants de maquin?ria\, enginy
 ers responsables d'assessorar fabricants de maquin?ria\, empreses comerci
 alitzadores\, importadores o instal?ladores de m?quines\, personal d'empr
 eses que utilitzin equips de treball que tingui la responsabilitat de man
 tenir l'adequaci? al RD 1215/1997 (especialment - en el cas de grups de m
 ?quines funcionant solid?riament)\, personal d'empreses dedicades a la po
 sada en conformitat de m?quines\, personal d'empreses que utilitzin m?qui
 nes que sigui responsable de la seva adaptaci? o modificaci? per motius p
 roductius o necessitats pr?pies de l'empresa\, personal responsable de pr
 evenci? de riscos laborals\, ja sigui d'una empresa usu?ria de m?quines o
  d'un servei de prevenci? extern\, personal de manteniment de maquin?ria 
 industrial.<br><br>\n\n<b>PROGRAMA DEL CURS (4 hores):</b><br><br> \n\n?	
 Visi? global dels canvis en normes legals i t?cniques. Afectaci? a la maq
 uin?ria nova i existent.<br>\n?	La nova Directiva de m?quines\, 2006/42/C
 E.<br>  \no	Definicions m?s importants: m?quina\, quasi m?quina\, comerci
 alitzaci?\, posada en servei\, fabricant\, representant.<br>\no	M?quines 
 incloses i excloses.<br>\no	M?quines de l'annex IV: quines s?n i quins s?
 n llurs procediments d'avaluaci? de la conformitat. Aquests s?n m?s liber
 als o m?s intervencionistes?<br>\n&#61607\;	Assegurament de qualitat tota
 l.<br>\n&#61607\;	Control intern de fabricaci? (sense organisme notificat
 ).<br>\no	\n\n\n?s dels sistemes electr?nics programables en les funcions
  de seguretat.<br>\no	Els organismes notificats i l'expedient t?cnic.<br>
 \no	Utilitzaci? de les lleng?es. <br>\no	Els requisits essencials.<br>\no
 	La Declaraci? CE de conformitat: m?quines i quasi m?quines.<br>\no	Com a
 fecta tot l'anterior als departaments de disseny i enginyeria dels fabric
 ants de maquin?ria:\n<br>&#61607\;	De l'Annex IV.\n<br>&#61607\;	No inclo
 sa en l'Annex IV.\n<br>?	Els canvis en les normes harmonitzades.<br>\no	C
 anvis en normes de tipus A i B<br>\no	La nova Norma EN ISO 13849: encaix 
 de la Norma EN ISO 13849 en la directiva de m?quines.<br>\n&#61607\;	Les 
 funcions de seguretat: quantificaci? de llur fiabilitat.<br>\n?	Determina
 ci? del nivell de prestacions requerit (PLr)<br>\n?	Soluciones possibles:
  avaluaci? del nivell de prestacions assolit (PL)\n<br>?	Temps mitj? entr
 e fallades perilloses (MTTFd)\n<br>?	Cobertura del diagn?stic (DC)\n<br>?
 	Fallades por causa comuna (CCF)\n<br>?	Categories\n<br>?	?s del software
  en funcions de seguretat\n<br>?	Com afecta tot l'anterior als usuaris so
 tmesos al RD 1215/1997<br>\no	Com fer per a ajuntar m?quines perqu? funci
 onin solid?riament.<br>\no	Qu? fer per modificar una m?quina per raons fu
 ncionals<br> \no	Modificaci? de l'?s a qu? est? destinada la m?quina<br>\
 no	Modificaci? de caracter?stiques t?cniques\n<br>?	Quins camps obre la n
 ova Directiva <br>\no	Qu? necessiten saber els fabricants per treure prof
 it de les noves opcions de certificaci? de m?quines de l'Annex IV<br>\no	
 Com assegurar que s'apliquin correctament les noves opcions<br>\no	Qu? po
 den fer els professionals d'exercici lliure per a llurs clients fabricant
 s i/o usuaris de maquin?ria.<br>\n?	Col?loqui \n<br><br>\n<b>PREU COL?LEG
 IAT</b>: 55 ? <br>\n<b>PREU NO COL?LEGIAT</b>: 75 ?<br><br>\n\n\n\n\n\n\n
 \n\n\n<b>PROFESSOR:</b> Alfons de Vict?ria i Pou\, Enginyer Industrial\, 
 Cap de Seguretat de productes a la Subdirecci? General de Seguretat Indus
 trial. Membre de dos comit?s t?cnics de normalitzaci? d'AENOR i de certif
 icaci? APPLUS i Bureau Veritas\, amb llarga experipencia en el m?n de la 
 ind?stria\, havent treballar en varis pa?sos.<br><br>\n\n<b>CALENDARI:</b
 > 12 de maig de 2010 (dimecres)\, de 16.30 a 20.30 hores.<br><br>\n\n<b>D
 OCUMENTACI?: </b>es lliurar? documentaci? de seguiment.<br><br>\n\n<b>CER
 TIFICACI?:</b> el CETIT lliurar? un certificat d'assist?ncia al curs pr?v
 ia sol?licitud del participant. Assist?ncia m?nima obligat?ria del 80 % d
 e les hores lectives. <br><br>\n\n\n\n<b>LLOC: </b>Avinguda de Roma\, 7 d
 e Tarragona. <br><br>\n\n<b>NOMBRE M?NIM / M?XIM D'ASSISTENTS:</b> 15<br>
 <br>\n\n<b>FORMA DE PAGAMENT: </b>Transfer?ncia banc?ria o ingr?s en efec
 tiu al n?mero de compte 2073.0074.34.0110965962 de la Caixa de Tarragona\
 , (cal indicar al document justificatiu de pagament el nom de la persona 
 assistent i el nom de l'activitat).<br><br>\n\n<b>CONFIRMACI? D'ASSIST?NC
 IA:</b> a l'administraci? del Col?legi al  977 251 877 a trav?s de l'adre
 ?a electr?nica formacio@cetit.org.<br><br>\n\n<b>TERMINI D'INSCRIPCI? I D
 E PAGAMENT: </b>05 de maig de 2010 o fins completar-se en nombre m?xim d'
 inscripcions si ?s abans del termini.\n
DTEND;TZID=Europe/Madrid;VALUE=DATE:20100512
DTSTAMP:20260421T154323Z
DTSTART;TZID=Europe/Madrid;VALUE=DATE:20100511
LOCATION:https://www.enginyerstarragona.cat/agenda/details/759/759-curs-di
 rectiva-de-maquines-i-rd-12151997-pers
SEQUENCE:0
SUMMARY:Curs DIRECTIVA DE M?QUINES I RD 1215/1997. PERSPECTIVA DE LA SITUA
 CI? DE LES M?QUINES AMB L'ENTRADA EN VIGOR DE LA DIRECTIVA 2006/42.
UID:ET_Activitat_759
URL:https://www.enginyerstarragona.cathttps://www.enginyerstarragona.cat/a
 genda/details/759/759-curs-directiva-de-maquines-i-rd-12151997-pers
END:VEVENT
END:VCALENDAR
