BEGIN:VCALENDAR
PRODID:-//github.com/rianjs/ical.net//NONSGML ical.net 2.2//EN
VERSION:2.0
BEGIN:VEVENT
CATEGORIES:Activitats
CREATED;TZID=Europe/Madrid:20260423T192253
DESCRIPTION:Amb la voluntat de continuar oferint al col?lectiu la millor a
 ssist?ncia en els aspectes professionals\, us convidem a assistir a la Co
 nfer?ncia informativa sobre la Responsabilitat Civil Professional de l'En
 ginyer T?cnic Industrial\, per part de la corredoria d'assegurances ADART
 IA.<br><br>\n\nEn aquesta es tractaran els seg?ents temes:<br><br>\n\n-	L
 a Responsabilitat Civil Professional de l'Enginyer T?cnic Industrial.<br>
 \n-	L'ARC col?lectiva pels col?legiats del CETIT. Caracter?stiques\, cobe
 rtures i novetats pel 2010.<br>\n-	Novetats legislatives i com afectaran 
 a l'Enginyer T?cnic Industrial i a l'ARC.<br><br>\n\nAquesta p?lissa\, qu
 e ofereix el CETIT\, t? especial cura d'emparar els diferents ?mbits labo
 rals\; per? sobretot els que estan desenvolupant el seu treball dins d'un
 a empresa o com a projectista\, tenint les seg?ents modalitats:<br><br>\n
 ?	Funcionari<br>\n?	Assalariat<br>\n?	Exercici lliure<br>\n?	Exercici lli
 ure singular<br>\n?	Exercici lliure prevencionista<br>\n?	Empresari<br>\n
 ?	Recent titulat<br><br>\n\nAquesta confer?ncia es dur? a terme el proper
  <b>25 de mar? entre 19.00 i 21.00 hores</b> a la sala d'actes del CETIT 
 a l'avinguda Roma\, 7 i ser? retransmesa per videoconfer?ncia a les insta
 l?lacions del Col?legi a les Terres de l'Ebre del C/ Mercaders\, 2 Tortos
 a.<br><br>\n
DTEND;TZID=Europe/Madrid;VALUE=DATE:20100325
DTSTAMP:20260423T172253Z
DTSTART;TZID=Europe/Madrid;VALUE=DATE:20100324
LOCATION:https://www.enginyerstarragona.cat/agenda/details/756/756-confere
 ncia-informativa-sobre-responsabilitat
SEQUENCE:0
SUMMARY:Confer?ncia informativa sobre RESPONSABILITAT CIVIL PROFESSIONAL
UID:ET_Activitat_756
URL:https://www.enginyerstarragona.cathttps://www.enginyerstarragona.cat/a
 genda/details/756/756-conferencia-informativa-sobre-responsabilitat
END:VEVENT
END:VCALENDAR
