BEGIN:VCALENDAR
PRODID:-//github.com/rianjs/ical.net//NONSGML ical.net 2.2//EN
VERSION:2.0
BEGIN:VEVENT
CATEGORIES:Activitats
CREATED;TZID=Europe/Madrid:20260419T170138
DESCRIPTION:<b>CODI CIRCULAR: 14/10</b><br><br>\n\n<b>ORGANITZA:</b>CETIT<
 br><br>\n\n\n\n<br><br>Per a tots aquells col?legiats que utilitzen el se
 rvei de visats o tinguin la intenci? de donar-se d'alta\, s'organitza aqu
 est curs pr?ctic sobre APRENENTATGE B?SIC DEL VISAT TELEM?TIC AMB DNI ELE
 CTR?NIC.<br><br>\n\n<b>OBJECTIU:</b> formar al col?legiat usuari sobre l'
 ?s b?sic del DNIe per a la generaci? i tramitaci? d'un visat telem?tic\, 
 des de casa\, la feina o qualsevol altre lloc que disposi de connexi? a I
 nternet.<br><br>\n\n<b>CALENDARI: </b><br>\n\n<b>TARRAGONA:</b> 23 de mar
 ? de 2010\, de 10.30 a 12.30 hores.<br>\n<b>TORTOSA:</b> 25 de mar? de 20
 10\, de 11.00 a 13.00 hores.<br><br>\n\n<b>PROGRAMA DEL CURS (2 h): </b><
 br><br>\n\n-	Instal?laci? de controlador i software del DNI electr?nic.<b
 r>\n-	Connexi? a la plataforma del visat telem?tic.<br> \n-	Generaci? de 
 la sol?licitud del visat telem?tic. <br>\n-	Recollida de dades del visat 
 telem?tic.<br> \n-	Adjuntar fitxers. <br>\n-	Posici? de la marca d'aigua 
 (segell).<br>\n-	Cerca i extracci? d'una sol?licitud visada i consells de
  desc?rrega.<br> \n-	Generaci? b?sica de pdfs amb Adobe Acrobat. <br>\n-	
 Generaci? b?sica de pdfs amb software gratu?t.\n<br>-	Utilitzaci? del DNI
 e amb altres plataformes.<br><br>\n\n<b>PREU COL?LEGIAT: </b>30 ? <b>(inc
 lou lector targetes DNIe). </b>\n<b>PREU NO COL?LEGIAT:</b> 40 ? <b>(incl
 ou lector targetes DNIe).</b><br><br>\n\n<b>PROFESSORS: </b>Jose Manuel B
 onache Arroyo i David Bernal L?pez\, personal dels servei de visats i res
 ponsables de l'?rea d'inform?tica del CETIT.<br><br>\n\n<b>DOCUMENTACI?:<
 /b> es lliurar? documentaci? de seguiment. INCLOU EL LECTOR DE TARGETES D
 NIe NECESSARI PER PODER VISAR TELEMATICAMENT.<br><br>\n\n<b>LLOC:</b> Avi
 nguda de Roma\, 7 de Tarragona i carrer Mercaders\, 2 de Tortosa.<br><br>
 \n\n<b>NOMBRE M?NIM / M?XIM D'ASSISTENTS: </b>10/30<br><br>\n\n<b>FORMA D
 E PAGAMENT:</b> Transfer?ncia banc?ria o ingr?s en efectiu al n?mero de c
 ompte 2073.0074.34.0110965962 de la Caixa de Tarragona\, (cal indicar al 
 document justificatiu de pagament el nom de la persona assistent i el nom
  de l'activitat).<br><br>\n\n\n\n\n\n\n\n\n<b>CONFIRMACI? D'ASSIST?NCIA:<
 /b> a l'administraci? del Col?legi al 977 251 877 o 902 076 777 o a trav?
 s de l'adre?a electr?nica formacio@cetit.org.<br><br>\n\n<b>TERMINI D'INS
 CRIPCI? I DE PAGAMENT:</b> 18 de mar? 2010 o fins completar-se el nombre 
 m?xim d'inscripcions si ?s abans del termini.<br><br>\n
DTEND;TZID=Europe/Madrid;VALUE=DATE:20100323
DTSTAMP:20260419T150138Z
DTSTART;TZID=Europe/Madrid;VALUE=DATE:20100322
LOCATION:https://www.enginyerstarragona.cat/agenda/details/749/749-curs-pr
 actic-aprenentatge-basic-del-visat-tel
SEQUENCE:0
SUMMARY:Curs pr?ctic APRENENTATGE B?SIC DEL VISAT TELEM?TIC AMB DNI ELECTR
 ?NIC
UID:ET_Activitat_749
URL:https://www.enginyerstarragona.cathttps://www.enginyerstarragona.cat/a
 genda/details/749/749-curs-practic-aprenentatge-basic-del-visat-tel
END:VEVENT
END:VCALENDAR
