BEGIN:VCALENDAR
PRODID:-//github.com/rianjs/ical.net//NONSGML ical.net 2.2//EN
VERSION:2.0
BEGIN:VEVENT
CATEGORIES:Activitats
CREATED;TZID=Europe/Madrid:20260421T090112
DESCRIPTION:<b>CODI CIRCULAR: 31/09</b><br><br>S'han organitzat unes jorna
 des sobre <b>C?LCUL DE PROJECTES DE L?NIES A?RIES I SOTERR?NIES DE BAIXA 
 I MITJA TENSI?</b> amb l'objectiu d'ampliar coneixements de c?lcul respec
 te a projectes de Fecsa- Endesa.<br><br>\n\n<b>DATES I HORARI: </b>19\, 2
 0 i 21 de maig de 2009 (dimarts\, dimecres i dijous)\, de 19 a 21 hores.<
 br><br>\n<b>\nPROGRAMA:</b><br><br>\n\n<b>19 de maig-</b> C?lcul de l?nie
 s de baixa i mitja tensi?\, soterr?nies i a?ries.<br>\n<b>PONENT:</b> Joa
 n Aguil? Aguil?\, Enginyer T?cnic Industrial.<br><br>\n\n<b>20 de maig- <
 /b>Recomanacions t?cniques i espec?fiques per realitzar projectes de Fecs
 a-Endesa.<br>\n<b>PONENT:</b> Joan Pouget Alberich\, Enginyer T?cnic Indu
 strial de Fecsa Endesa.<br><br>\n\n<b>21 de maig-</b> C?lcul de l?nies de
  baixa i mitja tensi? d'acord amb el programa DMELECT.<br>\n<b>PONENT:</b
 > Juan Mart?n\, T?cnic de DMELECT.<br><br>\n\n<b>DOCUMENTACI?:</b> es lli
 urar? documentaci? t?cnica de seguiment del curs.<br><br>\n \n<b>CERTIFIC
 ACI?:</b> es lliurar? un certificat d'assist?ncia al curs. Assist?ncia m?
 nima obligat?ria del 80 % de les hores lectives.<br><br>\n\n<b>LLOC: </b>
 carrer Mercaders\, 2\, de Tortosa\, tel. 977 511 049.<br><br>\n<b>\nPREU 
 COL?LEGIAT/ NO COL?LEGIAT:</b>  35/ 50 ?<br><br>\n\n<b>NOMBRE M?NIM/ M?XI
 M D'ASSISTENTS:</b> 20/ 40\n<br><br>\n<b>***NOTA ***: </b>Abans de fer el
  pagament cal verificar si resten places.<br><br>\nLa confirmaci? d'assis
 t?ncia implica l'obligaci? de pagament abans del termini.<br><br>\n\n<b>F
 ORMA DE PAGAMENT: </b>Transfer?ncia banc?ria o ingr?s en efectiu al n?mer
 o de compte 2073.0074.34.0110965962 de la Caixa de Tarragona\, (cal indic
 ar al document justificatiu de pagament el nom de la persona assistent i 
 el nom de l'activitat).<br><br>\n\n<b>CONFIRMACI? D'ASSIST?NCIA:</b> a l'
 administraci? del Col?legi al tel. 977 251 877 o 902 076 777 o a trav?s d
 e l'adre?a electr?nica formacio@cetit.org.<br><br>\n\n<b>TERMINI D'INSCRI
 PCI? I DE PAGAMENT: </b>14 de maig de 2009 o fins completar-se el nombre 
 m?xim d'assistents si ?s abans del termini.\n
DTEND;TZID=Europe/Madrid;VALUE=DATE:20090519
DTSTAMP:20260421T070112Z
DTSTART;TZID=Europe/Madrid;VALUE=DATE:20090518
LOCATION:https://www.enginyerstarragona.cat/agenda/details/701/701-jornade
 s-de-calcul-i-projectes-de-linies-aeri
SEQUENCE:0
SUMMARY:Jornades de  C?LCUL I PROJECTES DE L?NIES A?RIES I SOTERR?NIES DE 
 B.T. I M.T.
UID:ET_Activitat_701
URL:https://www.enginyerstarragona.cathttps://www.enginyerstarragona.cat/a
 genda/details/701/701-jornades-de-calcul-i-projectes-de-linies-aeri
END:VEVENT
END:VCALENDAR
