BEGIN:VCALENDAR
PRODID:-//github.com/rianjs/ical.net//NONSGML ical.net 2.2//EN
VERSION:2.0
BEGIN:VEVENT
CATEGORIES:Activitats
CREATED;TZID=Europe/Madrid:20260426T031513
DESCRIPTION:<b>CODI CIRCULAR: 58/08</b><br><br>El SUDOKU ?s un trencaclosq
 ues num?ric que es va donar a con?ixer l'any 2005 l'objectiu del qual ?s 
 omplir una quadr?cula de 9 x 9 cel?les dividida en subquadr?cules de 3 x 
 3 amb les xifres de l'1 al 9 partint d'alguns n?meros ja disposats en alg
 unes de les cel?les.<br><br>\n\n<b>La resoluci? del problema requereix pa
 ci?ncia i dots de l?gica!!</b><br><br>\n\nPartint dels actes de lleure qu
 e normalment s'organitzen s'ha volgut inaugurar l'Associaci? amb aquesta 
 original confer?ncia que volem compartir amb tu i amb la teva fam?lia. <b
 r><br>\n                                 \n<b>S&#363\;doku (&#25968\;&#29
 420\;\; s&#363\; = n?mero\, doku = solo)</b><br><br>\n\nAprendre a resold
 re sudokus i mantenir la teva ment desperta s?n els principals <b>objecti
 us </b>d'aquesta confer?ncia que tindr? lloc el proper <u><b>13 d'octubre
  de 2008 a les 19 hores</b></u>. <br><br>\n\n<b>PONENT:</b> Josep A. Viud
 ez i Carricondo\, Enginyer T?cnic Industrial i aficionat a resoldre sudok
 us.<br><br>\n\n<b>CONTINGUT DE LA CONFER?NCIA: </b><br><br>\n\n- Introduc
 ci? <br>\n- Origen<br>\n- M?todes de resoluci?<br>\n- Exemples did?ctics<
 br>\n- Correccions<br>\n- Variants<br>\n- Resolucions pr?ctiques: f?cil\,
  mitj?\, dif?cil\, molt dif?cil.<br><br> \n<b>\nDOCUMENTACI?:</b> es lliu
 rar? les diapositives de la confer?ncia.<br><br>\n\n<b>LLOC:</b> A la seu
  del CETIT\, Av. de Roma\, 7 de Tarragona i transm?s per videoconfer?ncia
  a les instal?lacions de les Terres de l'Ebre\, carrer Mercaders\, 2 de T
 ortosa.<br><br>\n\n<b>CONFIRMACI? D'ASSIST?NCIA:</b> a l'administraci? de
 l Col?legi al 977 251 877 o 902 076 777 o a trav?s de l'adre?a electr?nic
 a formacio@cetit.org.<br><br>\n\n<b>TERMINI D'INSCRIPCI?: </b>29 de setem
 bre de 2008 o fins completar-se l'aforament m?xim de la Sala d'Actes.<br>
 <br>\n\n<b>INSCRIPCI? GRATU?TA.</b>
DTEND;TZID=Europe/Madrid;VALUE=DATE:20081013
DTSTAMP:20260426T011513Z
DTSTART;TZID=Europe/Madrid;VALUE=DATE:20081012
LOCATION:https://www.enginyerstarragona.cat/agenda/details/652/652-confere
 ncia-sobre-el-sudoku-i-la-seva-solucio
SEQUENCE:0
SUMMARY:Confer?ncia sobre el SUDOKU I LA SEVA SOLUCI?
UID:ET_Activitat_652
URL:https://www.enginyerstarragona.cathttps://www.enginyerstarragona.cat/a
 genda/details/652/652-conferencia-sobre-el-sudoku-i-la-seva-solucio
END:VEVENT
END:VCALENDAR
