BEGIN:VCALENDAR
PRODID:-//github.com/rianjs/ical.net//NONSGML ical.net 2.2//EN
VERSION:2.0
BEGIN:VEVENT
CATEGORIES:Activitats
CREATED;TZID=Europe/Madrid:20260421T070104
DESCRIPTION:<b>OBJECTIU:</b> presentar les noves tecnologies que aplica we
 ber cemarksa en els seus revestiments continus\, destinats a millorar la 
 qualitat i a la prevenci? de les patologies m?s habituals. <br><br>\nAdap
 taci? dels revestiments continus de weber cemarksa al nou CTE\, requisits
  referits a la posada en marxa de l'obra i a les caracter?stiques t?cniqu
 es.<br><br>\n<b>PROGRAMA: </b><br>\n1. Introducci? i presentaci? del pone
 nt i de weber cemarksa.<br>\n2. Evoluci? dels revestiments de fa?anes. <b
 r>\n3. Els morters Monocapa.<br>\n4. Revestiments continus: adequaci? al 
 CTE.<br>\nNocions b?siques del CTE referides a la fa?ana.<br>\nRequisits 
 de la posada en obra.<br>\nEls soports.<br>\nL'aplicaci?.<br>\nPatologies
  m?s freq?ents. <br>\n5. Requisits i caracter?stiques t?cniques.<br>\nDes
 envolupament sostenible: comprom?s Weber Cemarksa.<br><br>\n\n<b>PONENT:<
 /b> Sr. Josep Borrull\, Director de mercat l?nia prescripci? de weber Cem
 arksa.<br><br>\n\n<b>DATA: </b>24 d'abril de 2007.<br>\n<b>HORARI: </b>18
  a 20 hores. <br>\n<b>PREU: </b>NO COL?LEGIATS DEL COL?LEGI D'APARELLADOR
 S I ARQUITECTES T?CNICS DE TARRAGONA: 20 ?.<br>\n<b>LLOC:</b> Sala d'Acte
 s del Col?legi d'Aparelladors i Arquitectes T?cnics de Tarragona\, Av. Pr
 esident Francesc Maci?\, 6 de Tarragona.<br><br>\n<b>TEL./FAX.:</b> 977 2
 12 799 - 977 224 152 <br><br>\n
DTEND;TZID=Europe/Madrid;VALUE=DATE:20070424
DTSTAMP:20260421T050104Z
DTSTART;TZID=Europe/Madrid;VALUE=DATE:20070423
LOCATION:https://www.enginyerstarragona.cat/agenda/details/516/516-revesti
 ments-monocapa-evolucio-tecnica-i-form
SEQUENCE:0
SUMMARY:REVESTIMENTS MONOCAPA. EVOLUCI? T?CNICA I FORMAL. ADEQUACI? AL CTE
UID:ET_Activitat_516
URL:https://www.enginyerstarragona.cathttps://www.enginyerstarragona.cat/a
 genda/details/516/516-revestiments-monocapa-evolucio-tecnica-i-form
END:VEVENT
END:VCALENDAR
