BEGIN:VCALENDAR
PRODID:-//github.com/rianjs/ical.net//NONSGML ical.net 2.2//EN
VERSION:2.0
BEGIN:VEVENT
CATEGORIES:Activitats
CREATED;TZID=Europe/Madrid:20260422T163352
DESCRIPTION:S'ha organitzat una xerrada t?cnica sobre ENERGIA SOLAR\, que 
 realitzar? l'empresa IBERSOLAR ENERGIA S.A. \, una de les primeres compan
 yies de producci? i distribuci? de productes i sistemes d'energia solar t
 ?rmica\, fotovoltaica i  de climatitzaci? per absorci?.<br><br>\n\nL'<b>o
 bjectiu </b>d'aquest curs b?sic es poder respondre i aclarir tots els dub
 tes que es puguin tenir al respecte. <br><br>\n\n<b>CONTINGUT DE LA CONFE
 R?NCIA</b><br><br>\n\n1.	Introducci?.<br>\n2.	Recurs solar. Radicaci? sol
 ar.<br>\n3.	Components i subsistemes  d'instal?lacions solars t?rmiques.<
 br>\n4.	Instal?lacions solars t?rmiques.<br>\n5.	Aplicacions. <br>\n6.	Di
 sseny i dimensionat. <br>\n7.	Muntatge d'instal?lacions. <br>\n8.	Operaci
 ? i manteniment. <br><br>\n<b>\nDOCUMENTACI?</b>: es lliurar? un CD que c
 ont? la presentaci? del curs\, programes de c?lcul\, Codi T?cnic ( part s
 olar).<br><br>\n\n<b>PONENT: </b>Sr. Klaus Liebisch\,  Mater Europeu en e
 nergies renovables de la Universitat de Zaragoza. <br><br>\n\n\n\n<b>DATA
  I HORARI:</b>   6 de novembre de 2006 de 17.30 a 21.30 h. ( es far? una 
 pausa )<br><br>\n<b>LLOC DE REALITZACI?: </b>A la seu del CETIT\, Av. de 
 Roma\, 7 de Tarragona i transm?s per videoconfer?ncia a la seu de les Ter
 res de l'Ebre.<br><br>\n<b>CONFIRMACI? D'ASSIST?NCIA:</b> ?s necessari co
 nfirmar l'assist?ncia a l'administraci? del Col?legi al  977 251 877 o 90
 2 076 777 o a trav?s de l'adre?a electr?nica formacio@cetit.org.<br><br>\
 n<b>TERMINI D'INSCRIPCI?:</b> 2 de novembre de 2006.<br><br>\n\n<b>INSCRI
 PCI? GRATU?TA.</b>
DTEND;TZID=Europe/Madrid;VALUE=DATE:20061106
DTSTAMP:20260422T143352Z
DTSTART;TZID=Europe/Madrid;VALUE=DATE:20061105
LOCATION:https://www.enginyerstarragona.cat/agenda/details/461/461-confere
 ncia-tecnica-sobre-lenergia-solar
SEQUENCE:0
SUMMARY:Confer?ncia t?cnica sobre l'ENERGIA SOLAR
UID:ET_Activitat_461
URL:https://www.enginyerstarragona.cathttps://www.enginyerstarragona.cat/a
 genda/details/461/461-conferencia-tecnica-sobre-lenergia-solar
END:VEVENT
END:VCALENDAR
