BEGIN:VCALENDAR
PRODID:-//github.com/rianjs/ical.net//NONSGML ical.net 2.2//EN
VERSION:2.0
BEGIN:VEVENT
CATEGORIES:Activitats
CREATED;TZID=Europe/Madrid:20260420T070624
DESCRIPTION:S'han organitzat unes jornades sobre <b>L'ACTUACI? DEL PERIT E
 N L'?MBIT JUR?DIC.</b> El CETIT ?s el primer col?legi que promou aquest t
 ipus de formaci?.<br><br>\n\nAquestes jornades que inaugurem i que es rep
 etiran cada any tenen un valor afegit que volem que tingueu present: van 
 dirigides a uns objectius molt concrets que s?n prestigiar el col?lectiu 
 i evitar l'intrusisme d'altres col?lectius. <br><br>\n\nLa compet?ncia da
 vant associacions de perits i d'altres fa que vulguem prestigiar el perit
  judicial enginyers t?cnics industrial comen?ant per la formaci?.<br><br>
 \n\nHem mantingut converses amb el president de l'Audi?ncia Provincial\, 
 Sr. Francisco Jos? Revuelta Mu?oz\, i amb el Conseller de Just?cia\, Sr. 
 Josep M. Vall?s que han vist molt positiva aquesta iniciativa en qu? els 
 dos estaments\, el judicial i el CETIT\, estableixen l'acord de formaci? 
 per al col?lectiu que s'hi dedica.<br><br>\n\nPer inscriure's a les llist
 es de Perits Judicials del Departament de Just?cia i Interior de la Gener
 alitat de Catalunya (que es demanen peri?dicament al CETIT i que aquest r
 egula) caldr? haver passat per la formaci? d'aquestes Jornades\, que ser?
  obligat?ria per a tots els qui s'hi dediquin a partir de l'any 2000. Cre
 iem\, per?\, que\, a m?s dels qui s'hi dediquen o els que s'hi volen dedi
 car\, l'assist?ncia ?s profitosa per a tothom.<br><br>\n\n<b>Programa</b>
 <br><br>\n\n<b>26 de juny de 2006</b><br>\n\n17\,00 h.		Presentaci? a c?r
 rec del deg? del CETIT.<br>\n17\,15 h. 	La intervenci? del perit: pericia
 ls de part i pericials judicials. ?mbit civil i penal.<br>\n17\,30 h 	El 
 perit en la Llei d'enjudiciament civil.<br>\n18\,15 h 	Col?loqui<br><br>\
 n\n<b>27 de juny de 2006</b><br><br>\n\n17\,00 h		La valoraci? del dictam
 en.<br>\n17\,15 h		Forma de dictamen<br>\n17\,30 h 	Responsabilitat del p
 erit.<br>\n18\,15 h		Col?loqui.<br><br>\n\n<b>Ponents:</b><br>-	Sr. Franc
 isco Jos? Revuelta. Magistrat Jutge de Instrucci? n?m. 4 de Tarragona<br>
 \n-	Sr. Ferran Huidobro Menci?. Advocat en exercici. Exdirector de l'Esco
 la de Pr?ctica Jur?dica del Col?legi d'Advocats i assessor de diverses co
 mpanyies d'assegurances.<br><br>\n\n\n\n\n\n\n\n\n\n\nEs lliurar?  docume
 nt acreditatiu d'assist?ncia. <br><br>\n\n<b>LLOC:</b> Seu del CETIT a Ta
 rragona\, Av. de Roma\, 7\, i tranm?s per videoconfer?ncia a la seu de le
 s Terres de l'Ebre\, carrer Mercaders\, 2 de Tortosa.<br><br>\n\n<b>CONFI
 RMACI? D'ASSIST?NCIA:</b> ?s necessari confirmar l'assist?ncia a l'admini
 straci? del Col?legi al tel?fon 977 251 877 o a trav?s de l'adre?a electr
 ?nica formacio@cetit.org.<br><br>\n\n<b>INSCRIPCI? GRATU?TA.</b><br><br>\
 n\nEl tema ?s prou important des del punt de la defensa de la professi? i
  esperem que el trobeu interessant.\n
DTEND;TZID=Europe/Madrid;VALUE=DATE:20060627
DTSTAMP:20260420T050624Z
DTSTART;TZID=Europe/Madrid;VALUE=DATE:20060626
LOCATION:https://www.enginyerstarragona.cat/agenda/details/429/429-jornade
 s-sobre-lactuacio-del-perit-en-lambit
SEQUENCE:0
SUMMARY:Jornades sobre l'ACTUACI? DEL P?RIT EN L'?MBIT JUR?DIC
UID:ET_Activitat_429
URL:https://www.enginyerstarragona.cathttps://www.enginyerstarragona.cat/a
 genda/details/429/429-jornades-sobre-lactuacio-del-perit-en-lambit
END:VEVENT
END:VCALENDAR
