BEGIN:VCALENDAR
PRODID:-//github.com/rianjs/ical.net//NONSGML ical.net 2.2//EN
VERSION:2.0
BEGIN:VEVENT
CATEGORIES:Activitats
CREATED;TZID=Europe/Madrid:20260422T011112
DESCRIPTION:Un any m?s i com cada any\, s'organitza un curs de <b>PREPARAC
 I? PER A OPOSICIONS 2006\, per al cos de PROFESSORS D'ENSENYAMENT SECUNDA
 RI I DE FORMACI? PROFESSIONAL\, </b>on es tindr? que realitzar dos proves
 .<br><br>\n\n?s un curs impartit per professorat amb experi?ncia sobre el
  sistema educatiu i pr?ctica a l'?rea de Tecnologia. Es far? una reuni? i
 nformativa el dijous 26 de gener de 2006 a les 18.00 hores\, PER ACLARIR 
 DUBTES<br><br>\n\n<b>CONTINGUT DEL CURS: </b>	<br>Estructura i funcioname
 nt del proc?s d'oposicions <br>\n      	Orientaci? del proc?s d'oposicion
 s <br>\n	Decrets d'Ordenaci? Curriculars. Normativa vigent  <br><br>\n\n 
 \n<b>CONTINGUT de la 1a. prova: </b><br>	Orientaci? en la preparaci? del 
 temari espec?fic<br>\n 	Pautes i criteris per a la nova pr?ctica<br><br>\
 n\n     <b>CONTINGUT de la 2a. prova :     </b><br>	Criteris per l'elabor
 aci? de la programaci? did?ctica <br>\n	Models d'elaboraci? d'unitats did
 ?ctiques<br>\n	Continguts b?sics d'una unitat did?ctica<br>\n	Metodologia
 . Sistemes d'avaluaci? i recursos did?ctics <br>\n	Simulacions de la defe
 nsa oral de la programaci? did?ctica <br>\n	Simulacions i debats en la de
 fensa de la unitat did?ctica<br><br>\n<b>HORARI:</b> de 18 a 21 hores	<br
 >\n<b>INICI:</b> Tots els dijous a partir del 2 de febrer de 2006<br>\n<b
 >NOMBRE M?NIM/M?XIM D'ASSISTENTS: </b>12 / 30 assistents<br>\n<b>PREU COL
 ?LEGIAT/NO COL?LEGIAT:</b> 400 / 600 ?<br>\n<b>LLOC DE REALITZACI?:</b> A
  la seu del Col?legi a Tarragona\, Av. de Roma\, 7 i transm?s per videoco
 nfer?ncia a la seu de les Terres de l'Ebre c/Mercaders\, 2 de Tortosa <br
 ><br>\n\n<b>CONFIRMACI? D'ASSIST?NCIA:</b> ?s necessari confirmar l'assis
 t?ncia\, tant al curs com a la confer?ncia\, a l'administraci? del Col?le
 gi al  977 251 877 o 902 076 777 i\, si ho prefereixes\, tamb? ho pots fe
 r a trav?s de la nova adre?a electr?nica formacio@cetit.org (la teva insc
 ripci? no ser? efectiva fins que es rebi la confirmaci? per part del Col?
 legi). <br><br>\n <b>FORMA DE PAGAMENT:</b>Transfer?ncia banc?ria o ingr?
 s en efectiu al n?mero de compte 0081.0088.19.0001081810\, del Banc de Sa
 badell (?s necessari indicar al document justificatiu de pagament el nom 
 de la persona assistent i el nom de l'activitat) <br>\n<b>NOTA:</b> Abans
  de realitzar el pagament cal verificar si resten places. No es considera
 r? ferma la inscripci? fins que el pagament no sigui efectiu. <br><br>\n\
 n<b>TERMINI D'INSCRIPCI?:</b> Fins completar-se el curs \n\n
DTEND;TZID=Europe/Madrid;VALUE=DATE:20060202
DTSTAMP:20260422T231112Z
DTSTART;TZID=Europe/Madrid;VALUE=DATE:20060201
LOCATION:https://www.enginyerstarragona.cat/agenda/details/384/384-curs-de
 -preparacio-per-a-oposicions-2006
SEQUENCE:0
SUMMARY:Curs DE PREPARACI? PER A OPOSICIONS 2006
UID:ET_Activitat_384
URL:https://www.enginyerstarragona.cathttps://www.enginyerstarragona.cat/a
 genda/details/384/384-curs-de-preparacio-per-a-oposicions-2006
END:VEVENT
END:VCALENDAR
