BEGIN:VCALENDAR
PRODID:-//github.com/rianjs/ical.net//NONSGML ical.net 2.2//EN
VERSION:2.0
BEGIN:VEVENT
CATEGORIES:Activitats
CREATED;TZID=Europe/Madrid:20260423T125419
DESCRIPTION:<i><b>INAUGURACI? DEL SISTEMA DE LA V?DEO- CONFER?NCIA ENTRE L
 ES SEUS DEL CETIT </b></i><br><br>\n\n\n\n<b><i>Els submarins alemanys i 
 els naufragis de la Gran Guerra al litoral Tarragon?</b></i><br><br>\n\nE
 ntre els esdeveniments menys coneguts de la hist?ria del nostre pa?s cal 
 destacar-hi  les accions b?l?liques que dugueren a terme els submarins al
 emanys contra la navegaci? aliada en el decurs de la Primera Guerra Mundi
 al. Per la seva configuraci? o dins d'una de les rutes habituals dels vai
 xells aliats\, les costes de Tarragona i de l'Ebre van estar uns escenari
 s excepcionals d'aquells fets amb el resultat  de nombrosos combats naval
 s i l'enfonsament d'un gran nombre de vaixells mercants\, molts d'ells en
  l'editorial m?s proper\, convertits ara en una extraordin?ria mostra arq
 ueol?gica de l'?poca de la navegaci? a vapor. <br><br>\n\n<b>PONENTS:</b>
 <br>\n<i>Sr. Josep M Castellv? i Josep Guarro\, historiadors i membres de
  l'equip de "Al filo de lo imposible" de TVE\, i autors del llibre "La Gu
 erra secreta del Mediterrani"</i><br><br>\n\n<b>Es projectar? en v?deo le
 s exploracions submarines de localitzaci? dels vaixells. "Enginys i engin
 yers sota el foc"</b><br><br>\n\n<b>HORARI:</b> 19.30 hores<br><br>\n<b>L
 LOC DE REALITZACI?:</b> A les Sales d'Actes de la seu del Col?legi\, Av. 
 de Roma\, 7 i carrer Mercaders\, 2\, entresol de Tortosa<br><br>\n\n<b>IN
 SCRIPCI? GRATU?TA</b>\n\n
DTEND;TZID=Europe/Madrid;VALUE=DATE:20051221
DTSTAMP:20260423T105419Z
DTSTART;TZID=Europe/Madrid;VALUE=DATE:20051220
LOCATION:https://www.enginyerstarragona.cat/agenda/details/379/379-la-guer
 ra-oblidada-de-tarragona
SEQUENCE:0
SUMMARY:LA GUERRA OBLIDADA DE TARRAGONA
UID:ET_Activitat_379
URL:https://www.enginyerstarragona.cathttps://www.enginyerstarragona.cat/a
 genda/details/379/379-la-guerra-oblidada-de-tarragona
END:VEVENT
END:VCALENDAR
