BEGIN:VCALENDAR
PRODID:-//github.com/rianjs/ical.net//NONSGML ical.net 2.2//EN
VERSION:2.0
BEGIN:VEVENT
CATEGORIES:Activitats
CREATED;TZID=Europe/Madrid:20260423T125317
DESCRIPTION:<br>El proper mes d'octubre s'impartir? a Tarragona un curs de
  <b>PERIT JUDICIAL IMMOBILIARI </b>(amb alta als jutjats inclosa) i amb t
 ?tol de POSTGRAU atorgat per la UNIVERISTAT POLIT?CNICA DE CATALUNYA<br><
 br>\n\n<b>PRESENTACI?</b>: 18 d'octubre 2005<br>\n<b>INICI:</b> 25 d'octu
 bre de 2005<br>\n<b>FINAL</b>: 21 de febrer de 2006<br>\n<b>DIES: </b>Dim
 arts<br>\n<b>HORARI: </b>de 16.30 a 20.30 hores<br>\n<b>LLOC DE REALITZAC
 I?: </b>Hotel Imperial T?rraco - Passeig Palmeres\, s/n - TARRAGONA<br><b
 r>\n\n<b>PLACES LIMITADES PER RIGOR?S ORDRE DE MATRICULACI?</b><br><br>\n
 \n<b><i> 10 % DE DESCOMPTE A TOTS ELS COL?LEGIATS   </i></b><br><br>\n\n<
 b>PER A M?S INFORMACI? I INSCRIPCIONS:</b> <br><br>\n\nSURGE\, CENTRO DE 
 ESTUDIOS<br>\nTEL. 93 494 99 80<br>\nFAX. 93 494 99 84 <br>\n\n\n\n\n\n\n
 \n
DTEND;TZID=Europe/Madrid;VALUE=DATE:20051025
DTSTAMP:20260423T105317Z
DTSTART;TZID=Europe/Madrid;VALUE=DATE:20051024
LOCATION:https://www.enginyerstarragona.cat/agenda/details/347/347-perit-j
 udical-immobiliari
SEQUENCE:0
SUMMARY:P?RIT JUDICAL IMMOBILIARI
UID:ET_Activitat_347
URL:https://www.enginyerstarragona.cathttps://www.enginyerstarragona.cat/a
 genda/details/347/347-perit-judical-immobiliari
END:VEVENT
END:VCALENDAR
