BEGIN:VCALENDAR
PRODID:-//github.com/rianjs/ical.net//NONSGML ical.net 2.2//EN
VERSION:2.0
BEGIN:VEVENT
CATEGORIES:Activitats
CREATED;TZID=Europe/Madrid:20260419T202248
DESCRIPTION:<b>OBJECTIU:</b>Millorar el joc curt i l'aprenentatge del joc 
 amb fustes (exercicis t?cnics al "driving range\, approach i putting gree
 n")<br><br>\n\n<b>PROFESSOR</b>: ?scar S?nchez\, Titular per l'Escola Nac
 ional de Golf i APGC (Associaci? Professional de Golf de Catalunya) i Dip
 lomat per la Fundaci? Sergio Garc?a i la Real Federaci? Espanyola de Disc
 apacitat<br><br>\n\n<b>CALENDARI</b>: 10 hores dividides en 5 sessions de
  2 hores cada sessi?\, de 19 a 21 h <br>\nSETEMBRE: 3\, 10\, 17 i 24 (dis
 sabte)<br>\nOCTUBRE: 1 (dissabte)<br><br>\n\n<b>PREU COL?LEGIAT I FAMILIA
 RS DIRECTES:</b> 90 ?<br>\n<b>PREU NO COL?LEGIAT: </b>\n100 ?<br><br>\n<b
 >NOMBRE M?NIM D'ASSISTENTS</b>: 6<br><br>\n<b>LLOC DE REALITZACI?</b>: Go
 lf Par 3 de Cambrils\, Crtra. N-340  km. 1147.5 de Cambrils\, tel. 977 36
  80 43<br><br>\n<b>FORMA DE PAGAMENT</b>: Transfer?ncia banc?ria o ingr?s
  en efectiu al n?mero de compte 0081.0088.19.0001081810\, del Banc de Sab
 adell (?s necessari indicar al document justificatiu de pagament el nom d
 e la persona assistent i el nom de l'activitat) \nNOTA: No es considerar?
  ferma la inscripci? fins que el pagament no sigui efectiu. Abans de real
 itzar el pagament cal verificar si resten places.<br><br>\n\n<b>CONFIRMAC
 I? D'ASSIST?NCIA</b>: ?s necessari confirmar l'assist?ncia a l'administra
 ci? del Col?legi al    ( 977 251 877 o 902 076 777 i\, si ho prefereixes\
 , tamb? ho pots fer a trav?s de la l'adre?a electr?nica formacio@cetit.or
 g (la teva inscripci? no ser? efectiva fins que es rebi la confirmaci? pe
 r part del Col?legi). <br><br>\n<b>TERMINI D'INSCRIPCI?</b>: 30 d'agost d
 e 2005\n\n
DTEND;TZID=Europe/Madrid;VALUE=DATE:20051001
DTSTAMP:20260419T182248Z
DTSTART;TZID=Europe/Madrid;VALUE=DATE:20050930
LOCATION:https://www.enginyerstarragona.cat/agenda/details/330/330-perfecc
 ionament-del-golf
SEQUENCE:0
SUMMARY:PERFECCIONAMENT DEL GOLF
UID:ET_Activitat_330
URL:https://www.enginyerstarragona.cathttps://www.enginyerstarragona.cat/a
 genda/details/330/330-perfeccionament-del-golf
END:VEVENT
END:VCALENDAR
