BEGIN:VCALENDAR
PRODID:-//github.com/rianjs/ical.net//NONSGML ical.net 2.2//EN
VERSION:2.0
BEGIN:VEVENT
CATEGORIES:Activitats
CREATED;TZID=Europe/Madrid:20260425T021326
DESCRIPTION:<b>VII F?RUM DE LA SEGURETAT</b>\n <br>\n<br>\n\n\n<b>Dia 25/1
 1/2004</b>\n<br>\n\n09.00 h Acreditaci?<br>\n\n09.15 h Inauguraci?<br>\n\
 n09.45 h La societat industrial i els nous paradigmes: societat del risc 
 i societat del coneixement<br>\n\n <i>LA SEGURETAT INDUSTRIAL EN LA SOCIE
 TAT</i>\n<br>\n\n11.15 h La seguretat industrial i el context social i ec
 on?mic<br>\n\n12.00 h La comunicaci? del risc i la difusi? de la segureta
 t industrial<br>\n\n13.30 h Dinar<br>\n\n<i>LA GESTI? DE LA SEGURETAT IND
 USTRIAL</i>\n<br>\n\n15.30 h Les compet?ncies i el marc legislatiu de la 
 seguretat industrial<br>\n\n16.25 h El model de gesti? administrativa a C
 atalunya<br>\n\n18.05 h Final del primer dia<br><br>\n\n\n\n<b>Dia 26/11/
 2004</b>\n<br>\n\n09.00 h El desenvolupament de la prevenci? d'accidents 
 greus a Catalunya<br>\n\n<i>AN?LISI D'AVUI I DE FUTUR</i>\n<br>\n\n10.15 
 h Les pol?tiques desenvolupades al m?n<br>\n\n11.35 h Taula rodona: difer
 ents visions de la seguretat industrial<br>\n\n13.05 h Conclusions<br>\n\
 n13.25 h Cloenda<br>\n\n13.55 h Final del segon dia<br><br>\n\n\n\n<b>LLO
 C: </b>\nAuditori Pompeu Fabra. Edifici Enginyers Industrials de Cataluny
 a<br>\n\nVia Laietana\, 39<br>\n\n08003 BARCELONA <br>\n<br>\n\n\n<b>INFO
 RMACI?: </b>\nINSTITUT D'ESTUDIS CATALANS<br>\n\nTel. 93 272 54 30<br>\n\
 nFax. 93 272 54 31 <br>\n\n<u><a href="mailto:ides@fundacio-ides.org" tar
 get="_blank">mailto:ides@fundacio-ides.org</a></u> <br>\n\n
DTEND;TZID=Europe/Madrid;VALUE=DATE:20041127
DTSTAMP:20260425T001326Z
DTSTART;TZID=Europe/Madrid;VALUE=DATE:20041126
LOCATION:https://www.enginyerstarragona.cat/agenda/details/219/219-les-pol
 itiques-de-seguretat-industrial-a-cata
SEQUENCE:0
SUMMARY:LES POLITIQUES DE SEGURETAT INDUSTRIAL A CATALUNYA
UID:ET_Activitat_219
URL:https://www.enginyerstarragona.cathttps://www.enginyerstarragona.cat/a
 genda/details/219/219-les-politiques-de-seguretat-industrial-a-cata
END:VEVENT
END:VCALENDAR
