BEGIN:VCALENDAR
PRODID:-//github.com/rianjs/ical.net//NONSGML ical.net 2.2//EN
VERSION:2.0
BEGIN:VEVENT
CATEGORIES:Baixa Tensi?
CREATED;TZID=Europe/Madrid:20260421T065832
DESCRIPTION:<strong></strong><table class="table">\n	<tbody><tr>\n		<td st
 yle="width:100px\; text-align: left\;"><strong>Organitza:</strong></td>\n
 		<td style="text-align: left\;">ENGINYERS BCN</td>\n	</tr>\n	<tr><td sty
 le="width:100px\; text-align: left\;">&nbsp\;<strong>Dirigit a:</strong>&
 nbsp\;</td><td style="text-align: left\;">Aquest curs compleix amb els re
 quisits de formaci? continuada per certificar-se com Expert en Instal?lac
 ions de Baixa Tensi?\, certificaci? acreditada per ENAC segons la Norma I
 SO 17024:2012. Tota la informaci? per poder accedir a la certificaci? est
 ? disponible a&nbsp\;<a href="https://certificacioprofessional.cat/">http
 s://certificacioprofessional.cat/</a></td></tr><tr>\n		<td style="width:1
 00px\; text-align: left\;"><strong>Dates:</strong></td>\n		<td style="tex
 t-align: left\;">19\, 21\, 26\, 28 de febrer&nbsp\; i 4\, 6\, 11 de mar? 
 (dilluns i dimecres)</td>\n	</tr>\n	<tr>\n		<td style="width:100px\; text
 -align: left\;"><strong>Horari:</strong></td>\n		<td style="text-align: l
 eft\;">De les 17h a les 20h i dilluns 11 de mar? de 17h a 19h</td>\n	</tr
 >\n	\n	<tr>\n		<td style="width:100px\; text-align: left\;"><strong>Durad
 a:</strong></td>\n		<td style="text-align: left\;">20 hores</td>\n	</tr>\
 n	<tr>\n		<td style="width:100px\; text-align: left\;"><strong>Programaci
 ?:</strong></td>\n		<td style="text-align: left\;"><p><strong>1.- CONCEPT
 ES GENERALS D'ELECTRICITAT</strong></p><p>1.1.- Conceptes el?ctrics b?sic
 s&nbsp\; &nbsp\; &nbsp\;</p><p><span style="background-color: transparent
 \;">1.2.- Cables&nbsp\; &nbsp\; &nbsp\; &nbsp\; &nbsp\; &nbsp\;</span></p
 ><p>1.3.- Aparellatge&nbsp\; &nbsp\; &nbsp\; &nbsp\; &nbsp\; &nbsp\;</p><
 p>1.4.- Test de la unitat did?ctica</p><p><strong>&nbsp\;2.- C?LCULS NUM?
 RICS D'UNA INSTAL?LACI? ELECTRICA.</strong></p><p><strong>&nbsp\;</strong
 ><span style="background-color: transparent\;">&nbsp\;2.1.- C?lculs b?sic
 s d'una instal?laci?&nbsp\; &nbsp\; &nbsp\; &nbsp\; &nbsp\;</span></p><p>
 <span style="background-color: transparent\;">&nbsp\;</span><span style="
 background-color: transparent\;">2.2.- Pot?ncia el?ctrica&nbsp\; &nbsp\; 
 &nbsp\; &nbsp\; &nbsp\;</span></p><p><span style="background-color: trans
 parent\;">&nbsp\;</span><span style="background-color: transparent\;">2.3
 .- Secci? i caiguda de tensi? en un conductor</span></p><p><span style="b
 ackground-color: transparent\;">&nbsp\;</span><span style="background-col
 or: transparent\;">2.4.- Sobreintensitats&nbsp\; &nbsp\; &nbsp\; &nbsp\;<
 /span></p><p><span style="background-color: transparent\;">&nbsp\;</span>
 <span style="background-color: transparent\;">2.5.- Curtcircuit.&nbsp\;&n
 bsp\;&nbsp\;&nbsp\;&nbsp\;&nbsp\;&nbsp\;&nbsp\;&nbsp\;&nbsp\;&nbsp\; </sp
 an></p><p><span style="background-color: transparent\;">2.6.- Sobretensio
 ns&nbsp\;&nbsp\;&nbsp\;&nbsp\;&nbsp\;&nbsp\;&nbsp\;&nbsp\;&nbsp\;&nbsp\;&
 nbsp\; </span></p><p><span style="background-color: transparent\;">2.7.- 
 Energia reactiva&nbsp\;&nbsp\;&nbsp\;&nbsp\;&nbsp\;&nbsp\;&nbsp\;&nbsp\;&
 nbsp\;&nbsp\;&nbsp\; </span></p><p><span style="background-color: transpa
 rent\;">2.8.- Pertorbacions harm?niques&nbsp\;&nbsp\;&nbsp\;&nbsp\;&nbsp\
 ;&nbsp\;&nbsp\;&nbsp\;&nbsp\;&nbsp\;&nbsp\; </span></p><p><span style="ba
 ckground-color: transparent\;">2.9.- Selectivitat i filiaci?&nbsp\; &nbsp
 \; &nbsp\; &nbsp\; &nbsp\;</span></p><p><span style="background-color: tr
 ansparent\;">2.10.- Esquemes de distribuci? (IT- TT - TN)&nbsp\;&nbsp\;&n
 bsp\;&nbsp\;&nbsp\;&nbsp\;&nbsp\;&nbsp\;&nbsp\;&nbsp\;&nbsp\; </span></p>
 <p><span style="background-color: transparent\;">2.11.- Grups electr?gens
  i UPS&nbsp\;&nbsp\;&nbsp\;&nbsp\;&nbsp\;&nbsp\;&nbsp\;&nbsp\;&nbsp\;&nbs
 p\;&nbsp\; </span></p><p><span style="background-color: transparent\;">2.
 12.- Motors i generadors&nbsp\;&nbsp\;&nbsp\;&nbsp\;&nbsp\;&nbsp\;&nbsp\;
 &nbsp\;&nbsp\;&nbsp\;&nbsp\; </span></p><p><span style="background-color:
  transparent\;">2.13.- Test de la unitat did?ctica</span></p><p><span sty
 le="background-color: transparent\;"><strong>3.- EXEMPLES DE DISSENY</str
 ong></span></p><p><span style="background-color: transparent\;">3.1.- Edi
 fici d'habitatges unifamiliars.&nbsp\;&nbsp\;&nbsp\;&nbsp\;&nbsp\;&nbsp\;
 &nbsp\;&nbsp\;&nbsp\;&nbsp\;&nbsp\; </span></p><p><span style="background
 -color: transparent\;">3.2.- Local comercial p?blica concurr?ncia&nbsp\;&
 nbsp\;&nbsp\;&nbsp\;&nbsp\;&nbsp\;&nbsp\;&nbsp\;&nbsp\;&nbsp\;&nbsp\; </s
 pan></p><p><span style="background-color: transparent\;">3.3.- Nau Indust
 rial&nbsp\;&nbsp\;&nbsp\;&nbsp\;&nbsp\;&nbsp\;&nbsp\;&nbsp\;&nbsp\;&nbsp\
 ;&nbsp\; </span></p><p><span style="background-color: transparent\;">3.4.
 - Provisional d'obres&nbsp\; &nbsp\; &nbsp\; &nbsp\; &nbsp\; &nbsp\;&nbsp
 \;</span></p><p><span style="background-color: transparent\;">3.5.- Local
 s de risc especial (explosi? / desclassificaci? d?ATEX)&nbsp\;&nbsp\;&nbs
 p\;&nbsp\;&nbsp\;&nbsp\;&nbsp\;&nbsp\;&nbsp\;&nbsp\;&nbsp\; </span></p><p
 ><span style="background-color: transparent\;">3.6.- Test de la unitat di
 d?ctica</span></p><p><span style="background-color: transparent\;"><stron
 g>4.- SOFTWARE DE DISSENY - PR?CTIQUES</strong></span></p><p><span style=
 "background-color: transparent\;">4.2.- Edifici d'habitatges unifamiliars
 &nbsp\; &nbsp\; &nbsp\; &nbsp\; &nbsp\; &nbsp\; &nbsp\;</span></p><p><spa
 n style="background-color: transparent\;">4.3.- Local comercial p?blica c
 oncurr?ncia&nbsp\; &nbsp\; &nbsp\; &nbsp\; &nbsp\; &nbsp\; &nbsp\;</span>
 </p><p><span style="background-color: transparent\;">4.4.- Nau Industrial
 &nbsp\; &nbsp\; &nbsp\; &nbsp\; &nbsp\; &nbsp\; &nbsp\;</span></p><p><spa
 n style="background-color: transparent\;">4.5.- Provisional d'obres&nbsp\
 ; &nbsp\; &nbsp\; &nbsp\; &nbsp\; &nbsp\; &nbsp\;</span></p><p><span styl
 e="background-color: transparent\;">4.6.- Selectivitat i filiaci? amb ECO
 DIAL&nbsp\; &nbsp\; &nbsp\; &nbsp\; &nbsp\; &nbsp\; &nbsp\;</span></p><p>
 <span style="background-color: transparent\;">4.7.- Bateria de condensado
 rs</span></p></td>\n	</tr>\n	\n	<tr><td style="width:100px\; text-align: 
 left\;">&nbsp\;<strong>Objectius:&nbsp\;</strong></td><td style="text-ali
 gn: left\;"><p style="text-align: justify\;">Dins de l?esquema de formaci
 ? cont?nua d?ENGINYERS BCN\, les instal?lacions el?ctriques en Baixa Tens
 i? tenen una gran rellev?ncia. Per aquest motiu s?ha dissenyat un pla for
 matiu espec?fic per aprofundir en aspectes reglamentaris\, de tramitaci?\
 , de responsabilitats\, de disseny\, c?lcul i execuci? aix? com verificac
 ions d?aquesta tipologia d?instal?lacions. Aquest pla formatiu ha de serv
 ir d'acompanyament per aquells t?cnics que vulguin comen?ar a desenvolupa
 r la seva traject?ria professional dins aquest ?mbit d?actuaci?\, per? ta
 mb? com a actualitzaci? i posta al dia d?aquells altres professionals que
  venen desenvolupant tasques relacionades amb les instal?lacions de Baixa
  Tensi?.</p><p style="text-align: justify\;">Aquest m?dul es el segon d'u
 n total de 3\, que permetran als t?cnics que els cursin aprofundir ?mplia
 ment en una tipologia d'instal?lacions que est? molt present dins l'?mbit
  professional dels enginyers graduats i els enginyers t?cnics industrial<
 /p></td></tr><tr><td style="width:100px\; text-align: left\;">&nbsp\;<str
 ong>Ponent:&nbsp\;</strong></td><td style="text-align: left\;">&nbsp\;<st
 rong>Rub?n D?az\,</strong>&nbsp\;Enginyer T?cnic Industrial</td></tr><tr>
 \n		<td style="width:100px\; text-align: left\;"><strong>Certificaci?:</s
 trong></td>\n		<td style="text-align: left\;">Una vegada finalitzada l?ac
 ci? formativa\, els alumnes obtindran un certificat d?assist?ncia que es 
 podran descarregar a la plataforma.  </td>\n	</tr>\n	\n	\n	<tr>\n		<td st
 yle="width:100px\; text-align: left\;"><strong>Modalitat:</strong></td><t
 d style="text-align: left\;"><p><strong>Presencial: </strong>ENGINYERS BC
 N\,&nbsp\;Aula 2\, 3a planta del Col?legi Consell de Cent\, 365 08009 BAR
 CELONA.</p><p><span style="background-color: transparent\;"><strong>On li
 ne streaming.&nbsp\;</strong>Permet la retransmissi? en directe del curs 
 a trav?s de l'aula virtual.&nbsp\;</span></p></td>\n	</tr>\n\n	\n\n</tbod
 y></table>
DTEND;TZID=Europe/Madrid:20240219T200000
DTSTAMP:20260421T045832Z
DTSTART;TZID=Europe/Madrid:20240219T170000
LOCATION:https://www.enginyerstarragona.cat/agenda/details/2000/2000-curs-
 calcul-i-disseny-dinstallacions-electriq
SEQUENCE:0
SUMMARY:[CURS] C?LCUL I DISSENY D?INSTAL?LACIONS EL?CTRIQUES DE BAIXA TENS
 I?. Modalitat h?brida
UID:ET_Activitat_2000
URL:https://www.enginyerstarragona.cathttps://www.enginyerstarragona.cat/a
 genda/details/2000/2000-curs-calcul-i-disseny-dinstallacions-electriq
END:VEVENT
END:VCALENDAR
