BEGIN:VCALENDAR
PRODID:-//github.com/rianjs/ical.net//NONSGML ical.net 2.2//EN
VERSION:2.0
BEGIN:VEVENT
CATEGORIES:Instal?lacions Frigor?fiques
CREATED;TZID=Europe/Madrid:20260422T070628
DESCRIPTION:<table class="table">\n	<tbody><tr>\n		<td style="width:100px\
 ; text-align: left\;"><strong>Organitza:</strong></td>\n		<td style="text
 -align: left\;">COGITI<br></td>\n	</tr>\n	<tr>\n		<td style="width:100px\
 ; text-align: left\;"><strong>Dates:</strong></td>\n		<td style="text-ali
 gn: left\;">13 de desembre de 2023 (dimecres)&nbsp\;</td>\n	</tr>\n	<tr>\
 n		<td style="width:100px\; text-align: left\;"><strong>Horari:</strong><
 /td>\n		<td style="text-align: left\;">A partir de les 10.00 hores</td>\n
 	</tr>\n	\n	<tr><td style="width:100px\; text-align: left\;"><strong>Obje
 ctiu:</strong><br></td><td style="text-align: left\;">L'objectiu d'aquest
 a jornada ser? que els assistents puguin descobrir\, de primera m?\, les 
 noves tend?ncies de disseny que s'estan produint en el camp de la refrige
 raci? en sales cr?tiques per a fer front als reptes i oportunitats de la 
 intel?lig?ncia artificial\, l'augment de densitat\, la necessitat de mill
 ora de les infraestructures\, juntament amb la garantia de continu?tat i 
 sostenibilitat. Un nou paradigma d'est?ndards i tecnologies&nbsp\;</td></
 tr>\n	<tr>\n		<td style="width:100px\; text-align: left\;"><strong>Progra
 maci?:</strong></td>\n		<td style="text-align: left\;"><p>El programa ser
 ? el seg?ent:</p><p>? Tend?ncies de disseny i nous est?ndard</p><p>? Tipu
 s de sistemes.</p><p>? Solucions de Schneider Electric.</p><p>? Torn de p
 reguntes.</p><p><strong>En la jornada intervindran:</strong></p><ul><li><
 strong>Sr. Xavier Barnils</strong>\, Responsable d'Enginyeries d'Ib?ria e
 n Schneider Electric&nbsp\;Spain.</li><li><strong>Sra.&nbsp\;Beatriz&nbsp
 \;Palacios</strong>\,&nbsp\;Product&nbsp\;Manager&nbsp\;Cooling&nbsp\;en 
 Schneider Electric&nbsp\;Spain.</li></ul></td>\n	</tr>\n	\n	\n	<tr>\n		<t
 d style="width:100px\; text-align: left\;"><strong>Nota:</strong></td>\n	
 	<td style="text-align: left\;">Les inscripcions es porten a terme a trav
 ?s del COGITI\, pr?via sol?licitud a la nostra web. Us farem arribar l'en
 lla? de la inscripci? pr?via sol?licitud de la inscripci? al nostre web.<
 /td>\n	</tr>\n	\n	\n\n	\n\n</tbody></table>
DTEND;TZID=Europe/Madrid:20231213T130000
DTSTAMP:20260422T050628Z
DTSTART;TZID=Europe/Madrid:20231213T100000
LOCATION:https://www.enginyerstarragona.cat/agenda/details/1989/1989-webin
 ar-cogiti-el-futur-de-la-refrigeracio-i
SEQUENCE:0
SUMMARY:[Webinar COGITI] "El Futur de la Refrigeraci? i l'Impacte de la IA
  en Aplicacions Cr?tiques"
UID:ET_Activitat_1989
URL:https://www.enginyerstarragona.cathttps://www.enginyerstarragona.cat/a
 genda/details/1989/1989-webinar-cogiti-el-futur-de-la-refrigeracio-i
END:VEVENT
END:VCALENDAR
