BEGIN:VCALENDAR
PRODID:-//github.com/rianjs/ical.net//NONSGML ical.net 2.2//EN
VERSION:2.0
BEGIN:VEVENT
CATEGORIES:Activitats
CREATED;TZID=Europe/Madrid:20260420T112053
DESCRIPTION:<table class="table">\n	<thead><tr><th style="">Organitza:</th
 ><th style="">Col?legi d'Enginyers Graduats i Enginyers T?cnics Industria
 ls de Barcelona (ENGINYERS BCN)&nbsp\;amb la col?laboraci? d'ENGINYERS TA
 RRAGONA<br></th></tr></thead><tbody>\n	<tr>\n		<td style="" class="">Diri
 git a:</td>\n		<td style="">Aquest Postgrau est? adre?at a professionals 
 en l'?mbit de la gesti? energ?tica que vulguin assolir coneixements en aq
 uestes l?nies estrat?giques.&nbsp\;<br></td>\n	</tr>\n	<tr><td class="">O
 bjectiu:</td><td><p>&nbsp\;Aquest m?dul forma part dels 4 m?duls que comp
 onen el Postgrau de Gesti? Energ?tica Eficient.&nbsp\;</p><p style="text-
 align: justify\;">La Uni? Europea ha fixat uns objectius a complir dins e
 ls compromisos contra el canvi clim?tic i pol?tica energ?tica. Aquest Pos
 tgrau pret?n dotar de continguts\, eines i estrat?gies pel compliment d'a
 questes\, parlant des del mercat el?ctric fins a les energies renovables 
 i passant per temes d'autoconsum.&nbsp\;&nbsp\;Aquest Postgrau comptar? a
 mb la participaci? de ponents de reconegut prestigi dins de l'?mbit de la
  gesti? energ?tica.</p></td></tr><tr>\n		<td style="" class="">Dates:</td
 >\n		<td style="" class="">11\, 18\, 25&nbsp\; de mar?\, 1\, 22\, 29 d'ab
 ril i 6 de maig de 2022 (divendres)&nbsp\;</td>\n	</tr>\n	\n	<tr>\n		<td 
 style="" class="">Durada:</td>\n		<td style="" class="">43&nbsp\; hores</
 td>\n	</tr>\n	<tr>\n		<td style="" class="">Programaci?:</td>\n		<td styl
 e=""><p>M?dul 2: Gesti? energ?tica eficient a l'entorn Big Data</p><p>-In
 troducci?&nbsp\;&nbsp\;</p><p>-Edificaci? de consum d'energia gaireb? zer
 o</p><p>*Rehabilitaci?\, reforma i obra nova de consum d'energia gaireb? 
 zero</p><p>*Dels conceptes fonamentals a la pr?ctica edificat?ria. De l'a
 rquitectura poc eficient&nbsp\;al consum quasi nul</p><p>*Les normatives:
  evoluci? de l'edificaci? cap a la sostenibilitat</p><p>*Per qu? certific
 ar els edificis? la coher?ncia</p><p>*Per qu? certificar? la legalitat. E
 voluci? hist?rica</p><p>*Procediment per a la certificaci? energ?tica d'e
 dificis 2013/235/E</p><p>*El codi t?cnic: els canvis del 2013 mirant cap 
 el 2020&nbsp\;</p><p>*La f?sica de l'edificaci?: els seus tres nivells fo
 namentals.</p><ul><li>El primer nivell: la f?sica de l'edificaci?.&nbsp\;
 </li></ul><p>El medi\, el confort\, les estacionalitats i el balan? energ
 ?tic</p><ul><li>El segon nivell: els models ideals.&nbsp\;</li></ul><p>*B
 alan? negatiu = a?llament intel?ligent i captaci?\, acumulaci?\, distribu
 ci? i gesti?</p><p>*Balan? positiu = protecci?\, a?llament\, ventilaci?. 
 Captaci?\, acumulaci? i distribuci?</p><ul><li>El tercer nivell: els ecoe
 dificis</li></ul><p>*L'edifici de nova planta i a?llat. El cas complet.&n
 bsp\;</p><p>*Reformes i rehabilitacions: aplicant el possible equilibrada
 ment&nbsp\;</p><p>-Eines per al disseny energ?tic d'edificis&nbsp\; &nbsp
 \; </p><p>&nbsp\;*La sistematitzaci? inform?tica: arquitectura\, renovabl
 es i m?xima efici?ncia&nbsp\; &nbsp\; &nbsp\;</p><p>*Programes inform?tic
 s per a la legalitzaci? energ?tica a Espanya&nbsp\; &nbsp\; &nbsp\;</p><p
 >*Altres programes inform?tics relacionats amb l'edificaci?&nbsp\; &nbsp\
 ; &nbsp\;</p><p>*La sistematitzaci? inform?tica: arquitectura&nbsp\; &nbs
 p\; &nbsp\;</p><p>*La sistematitzaci? inform?tica: renovables&nbsp\; &nbs
 p\; &nbsp\;</p><p>*La sistematitzaci? inform?tica: m?xima efici?ncia&nbsp
 \;</p><p>&nbsp\;-Modelitzaci?\, an?lisi i comparaci? pr?ctica d'edificis&
 nbsp\; &nbsp\; &nbsp\;</p><p>*Introducci? a la modelitzaci?. El perqu? de
  l'eina unificada (HULC)&nbsp\;</p><p>-Qualificaci? i Simulaci? Energ?tic
 a/C?lcul i verificaci? de consum</p><p>-Normativa-Sistemes de comptadors&
 nbsp\; &nbsp\; </p><p>&nbsp\;*Estrat?gia d'implantaci? de sistemes de med
 ici?&nbsp\; &nbsp\; &nbsp\;</p><p>*Tipus segons variables a mesurar (El?c
 tric\, t?rmic\, aire comprimit\, temperatura\, polsos\, etc)&nbsp\; &nbsp
 \; &nbsp\;</p><p>*Tipus segons protocols de comunicaci?: Protocols Modbus
 \, BACNET\, MBus\, IEC870-5-102&nbsp\; &nbsp\; &nbsp\;</p><p>*Tipus de ca
 nals de comunicaci?: Cablejats\,&nbsp\; inal?mbrics\, IP&nbsp\; &nbsp\; &
 nbsp\;</p><p>*Concentradors de dades\, Gateways i formes d'integraci? (AP
 I\, FTP\, email\, etc)&nbsp\; &nbsp\; &nbsp\;</p><p>*Data as a service&nb
 sp\; &nbsp\; &nbsp\;</p><p>*Introducci? al tractament de dades (EMS\, BMS
 \, SCADA\, Niagara\, etc).&nbsp\;&nbsp\;</p><p>Impartit per:</p><ul><li>A
 LBERT BAST?. Enginyer T?cnic Energ?tic</li><li>POL ANS?. Arquitecte d' Ec
 oarch. M?ster en estructures.</li><li>ALFONSO MATEOS. Product Owner de De
 xma</li><li>V?CTOR MORENO.&nbsp\;Consultor energ?tic a Green Living Proje
 cts. Vicepresident d'IBSA Spain Chapter (International Building Performan
 ce Simulation Association). Graduat amb especialitat Energia\, Master ofi
 cial en Tecnologies de la Climatitzaci? i Efici?ncia Energ?tica en edific
 is. Acreditat CMVP\, CEM\, LEED AP\, BREEAM.&nbsp\;</li></ul></td>\n	</tr
 >\n	<tr>\n		<td style="">Documentaci?:&nbsp\;&nbsp\;</td>\n		<td style=""
  class="">La documentaci? estar? disponible a la plataforma entre 24 i 48
  hores abans de l?inici de la formaci?. En el cas que hi hagi documentaci
 ? addicional una vegada finalitzada la formaci?\, us la facilitarem poste
 riorment.</td>\n	</tr>\n	\n	\n	\n	<tr>\n		<td style="" class="">M?s infor
 maci?:</td>\n		<td style="" class="RadEDomMouseOver"><a href="https://www
 .enginyersbcn.cat/serveis-colegiats/formacio/cursos-activitats/activitat.
 html?ID=3336">https://www.enginyersbcn.cat/serveis-colegiats/formacio/cur
 sos-activitats/activitat.html?ID=3336</a><br></td>\n	</tr>\n\n<tr><td cla
 ss="" colspan="2">&nbsp\;</td></tr></tbody></table>
DTEND;TZID=Europe/Madrid:20220311T200000
DTSTAMP:20260420T092053Z
DTSTART;TZID=Europe/Madrid:20220311T160000
LOCATION:https://www.enginyerstarragona.cat/agenda/details/1765/1765-postg
 rau-on-line-streaming-gestio-energetica
SEQUENCE:0
SUMMARY:[POSTGRAU On line streaming]  GESTI? ENERG?TICA . M?dul 2: Gesti? 
 energ?tica eficient a l'entorn Big Data
UID:ET_Activitat_1765
URL:https://www.enginyerstarragona.cathttps://www.enginyerstarragona.cat/a
 genda/details/1765/1765-postgrau-on-line-streaming-gestio-energetica
END:VEVENT
END:VCALENDAR
