BEGIN:VCALENDAR
PRODID:-//github.com/rianjs/ical.net//NONSGML ical.net 2.2//EN
VERSION:2.0
BEGIN:VEVENT
CATEGORIES:Equips a pressi?
CREATED;TZID=Europe/Madrid:20260425T130331
DESCRIPTION:<table class="table">\n	<tbody><tr><td style="width:100px\; te
 xt-align: left\;">Organitza:&nbsp\;</td><td style="text-align: left\;">Im
 pulsat pel CETIT i impartit per COGITI FORMACI?N a la <a href="https://ww
 w.cogitiformacion.es/index.php?r=site/mostrarcursos">Plataforma Formaci?n
  COGITI</a></td></tr>\n	<tr>\n		<td style="width:100px\; text-align: left
 \;">Dates:</td>\n		<td style="text-align: left\;">De l'1 de novembre al 2
 6 de desembre de 2021&nbsp\;</td>\n	</tr>\n	\n	\n	<tr>\n		<td style="widt
 h:100px\; text-align: left\;">Durada:</td>\n		<td style="text-align: left
 \;">160 hores</td>\n	</tr>\n	<tr><td style="width:100px\; text-align: lef
 t\;">Modalitat:&nbsp\;</td><td style="text-align: left\;">On line\, al te
 u ritme</td></tr><tr>\n		<td style="width:100px\; text-align: left\;">Pro
 gramaci?:</td>\n		<td style="text-align: left\;"><p>00. SEGUIMENT I AVALU
 ACI?</p><ul><li>Generalitats</li><li>Desenvolupament del curs</li><li>Dub
 tes</li><li>Examen</li><li>Avaluaci? de l'examen</li><li>Qualificaci? i e
 ntrega diplomes</li><li>Respostes de l'examen</li></ul><p>0. HIDR?ULICA A
 PLICADA</p><ul><li>Objectius del curs</li><li>Documentaci? del curs</li><
 li>A qui va dirigit</li><li>Nivell de formaci? adquirit</li><li>Tipus de 
 doc?ncia</li><li>Tipus de formaci?</li><li>Prova d'avaluaci?</li><li>El p
 erqu? del t?tol ?hidr?ulica aplicada?</li><li>El perqu? del subt?tol ?con
 duccions i estacions de bombament?</li><li>Bibliografia utilitzada</li><l
 i>Presentaci? del formador</li><li>Experi?ncia laboral relacionada amb el
  curs</li><li>Experi?ncia pedag?gica</li><li>Altres cursos del formador</
 li><li>?ndex</li></ul><p>01. DUBTES I RESPOSTES</p><ul><li>Introducci?</l
 i><li>Dubtes ? Respostes</li></ul><p>1. CONCEPTES F?SICS B?SICS</p><ul><l
 i>Introducci?</li><li>Sistema Internacional d'unitats</li><li>Relaci? di?
 metre ? superf?cie</li><li>Prefixos del sistema internacional d'unitats</
 li><li>Alfabet grec</li><li>Formes de la mat?ria. Fluids</li><li>Densitat
  espec?fica o absoluta</li><li>Volum espec?fic</li><li>Pes</li><li>Pes es
 pec?fic</li><li>Densitat relativa</li><li>Viscositat din?mica o viscosita
 t absoluta</li><li>Viscositat cinem?tica</li><li>Tensi? superficial</li><
 li>Tensi? de vapor</li><li>Problemes 1</li><li>Taula de propietats f?siqu
 es de l'aigua i de l'aire</li></ul><p>2. PRESSI?</p><ul><li>Definici?</li
 ><li>Pressi? relativa</li><li>Pressi? atmosf?rica</li><li>Pressi? absolut
 a</li><li>Pressi? de buit</li><li>Representaci? gr?fica de les pressions<
 /li><li>Pressi? de vapor</li><li>Propietats de la pressi?</li><li>Unitats
  de pressi?</li></ul><p>3. HIDROST?TICA</p><ul><li>Equaci? fonamental de 
 la hidrost?tica</li><li>Conclusions</li><li>Conduccions est?tiques</li><l
 i>Equips de laboratori</li><li>Problemes 3</li></ul><p>4. HIDRODIN?MICA</
 p><ul><li>Camp de velocitats</li><li>R?gim estacionari</li><li>R?gim tran
 sitori</li><li>Altres programes de programari</li><li>Cabal</li><li>Equac
 i? de continu?tat</li><li>Corrent uniforme i no uniforme</li><li>Flux lam
 inar</li><li>Flux turbulent</li><li>Equaci? de Bernoulli (per a fluid ide
 al)</li><li>Fluid real</li><li>Equaci? de Bernoulli generalitzada (per a 
 un l?quid real)</li><li>Equaci? de Bernoulli generalitzada (per a un gas)
 </li><li>Conclusions</li><li>N?mero de Reynolds</li><li>Conclusions</li><
 li>Problemes 4.</li></ul><p>5. P?RDUA DE C?RREGA</p><ul><li>Generalitats<
 /li><li>Prim?ries (o de superf?cie)</li><li>Secund?ries (o de forma)</li>
 <li>Conclusions</li><li>Pressions a les canonades. Definicions</li><li>Co
 nductes tancats.</li><li> C?lcul de p?rdues de c?rrega prim?ries</li><li>
 C?lcul de p?rdues secund?riesC?lcul de p?rdues de c?rrega total</li><li>O
 ptimitzaci? del di?metre de la canonada</li><li>Conclusions</li><li>Probl
 emes 5</li></ul><p>6. CONDUCCIONS</p><ul><li>Analogia el?ctrica</li><li>C
 aracter?stica de les conduccions</li><li>Conduccions (sense geom?trica)</
 li><li>Conduccions (amb geom?trica)</li><li>Problemes 6</li></ul><p>7. BO
 MBES</p><ul><li>Tipus de bombes</li><li>Al?ada total manom?trica de bomba
 ment</li><li>Acoblament de bombes</li><li>Lleis de semblan?a</li><li>Al?a
 da neta absoluta d'aspiraci?</li><li>NSPH</li><li>NPSH requerit</li><li>N
 PSH disponible</li><li>Conclusions sobre el NPSH</li><li>Pot?ncies</li><l
 i>P?rdues a les bombes</li><li>P?rdues als motors</li><li>Selecci? de les
  bombes</li><li>Proves de recepci? de bombes</li><li>Proves el?ctriques i
  hidr?uliques a l'estaci? de bombament</li><li>Problemes 7</li></ul><p>8.
  ENEMICS DELS SISTEMES HIDR?ULICS</p><ul><li>Cavitaci?</li><li>Cop d'arie
 t</li><li>Prevenci? de riscos laborals i seguretat industrial</li><li>Air
 e i depressions a les conduccions</li><li>Volum d'entrada o sortida d'air
 e a les ventoses</li><li>Dimensionament de les ventoses</li><li>Submerg?n
 cia m?nima</li><li>Punt ?ptim de funcionament de la bomba</li><li>Conclus
 ions</li><li>Problemes 8</li></ul><p>9. ESTACIONS DE BOMBEU</p><ul><li>Co
 nsideracions generals</li><li>Disseny d'una estaci? de bombament</li><li>
 Especificacions t?cniques</li><li>Muntatge de la instal?laci? i posada en
  marxa</li><li>C?nteres d'aspiraci? per a bombes verticals</li></ul><p>10
 . CONTROL DE ?Q? I ?H? EN ELS SISTEMES HIDR?ULICS</p><ul><li>Estaci? de b
 ombament</li><li>Bombes</li><li>Conducci?</li><li>Determinaci? de par?met
 res Q-H en conduccions i estacions de bombament</li></ul><p>11. V?LVULES<
 /p><ul><li><span style="background-color: transparent\;">Tipus</span></li
 ><li><span style="background-color: transparent\;">Pressions a les v?lvul
 es.</span>Definicions</li><li>Aplicacions en sistemes hidr?ulics</li><li>
 V?lvules de control hidr?ulic</li><li>Tipus de control hidr?ulic</li><li>
 Caracter?stiques hidr?uliques de les v?lvules</li></ul><p>12. SUBMINISTRA
 MENT D'AIGUA DOM?STICA</p><ul><li>El codi t?cnic de l'edificaci?</li><li>
 Propietats de la instal?laci?</li><li>Condicions m?nimes de subministrame
 nt</li><li>Sistema de tractament de laigua</li><li>Instal?laci? d'aigua c
 alenta sanit?ria (acs)</li><li>Altres condicionants</li><li>Components de
  la instal?laci?</li><li>Annex</li></ul><p>13. CONDUCTES OBERT O CANALS</
 p><ul><li>Introducci?</li><li>P?rdues de c?rrega</li><li>R?dio hidr?ulic<
 /li><li>Velocitat en un canal</li><li>Cabal en canals</li><li>Problemes d
 e canals amb moviment uniforme</li><li>Problemes 13</li><li>Annexos</li><
 /ul><p>14. SOLUCI? DELS PROBLEMESANNEXOS</p><ul><li>ANNEXOS GENERALS(18 a
 nnexos)</li><li>ANNEXOS REGLAMENTACI?HS 4 subministrament d'aigua edifici
 sRD 140 2003 qualitat aigua consum hum?</li><li>V?DEOSAnnexos en v?deo (1
 0 annexos)<br></li></ul></td>\n	</tr>\n	\n	\n	<tr><td style="width:100px\
 ; text-align: left\;">Objectius:&nbsp\;</td><td style="text-align: left\;
 "><p>Arribar a dominar els sistemes hidr?ulics (principalment conduccions
  i estacions de bombament\, sense oblidar les v?lvules) des d'una visi? p
 r?ctica\, amb una llarga experi?ncia i sense obviar els coneixements te?r
 ics.</p></td></tr>\n	\n	\n\n<tr><td style="width:100px\; text-align: left
 \;">&nbsp\;NOTA:&nbsp\;</td><td style="text-align: left\;">Les inscripcio
 ns es portem a terme i es gestionen des del COGITI. Tamb? pots sol?licita
 r la inscripci? al nostre web i posteriorment et farem arribar l'enlla? d
 irecte d'inscripci? definitiva.</td></tr></tbody></table>
DTEND;TZID=Europe/Madrid:20211101T190000
DTSTAMP:20260425T110331Z
DTSTART;TZID=Europe/Madrid:20211101T170000
LOCATION:https://www.enginyerstarragona.cat/agenda/details/1751/1751-curs-
 on-line-hidraulica-aplicada-conduccions
SEQUENCE:0
SUMMARY:[Curs on line] HIDR?ULICA APLICADA. CONDUCCIONS I ESTACIONS DE BOM
 BEIG
UID:ET_Activitat_1751
URL:https://www.enginyerstarragona.cathttps://www.enginyerstarragona.cat/a
 genda/details/1751/1751-curs-on-line-hidraulica-aplicada-conduccions
END:VEVENT
END:VCALENDAR
