BEGIN:VCALENDAR
PRODID:-//github.com/rianjs/ical.net//NONSGML ical.net 2.2//EN
VERSION:2.0
BEGIN:VEVENT
CATEGORIES:Activitats
CREATED;TZID=Europe/Madrid:20260421T124045
DESCRIPTION:<table class="table">\n	<tbody><tr><td style="width:100px\; te
 xt-align: left\;">Organitza:&nbsp\;</td><td style="text-align: left\;">CO
 GITI</td></tr>\n	<tr>\n		<td style="width:100px\; text-align: left\;">Dat
 es:</td>\n		<td style="text-align: left\;">30 de juny (dimecres)</td>\n	<
 /tr>\n	<tr>\n		<td style="width:100px\; text-align: left\;">Horari:</td>\
 n		<td style="text-align: left\;">A les 18.00 hores</td>\n	</tr>\n	\n	<tr
 >\n		<td style="width:100px\; text-align: left\;">Durada:</td>\n		<td sty
 le="text-align: left\;">1\,5 hores</td>\n	</tr>\n	<tr>\n		<td style="widt
 h:100px\; text-align: left\;">Programaci?:</td>\n		<td style="text-align:
  left\;"><p>?	Acc?s al nou programari en l?nia Ecostruxure Specification.
 </p><p>?	Generaci? d'una mem?ria descriptiva.</p><p>?	Selecci? de les dif
 erents solucions i productes de Schneider Electric.&nbsp\;</p><p>?	Export
 aci? del projecte.</p><p>?	Torn de preguntes.<br></p></td>\n	</tr>\n	\n	\
 n	<tr><td style="width:100px\; text-align: left\;">Objectius:&nbsp\;</td>
 <td style="text-align: left\;"><p>Con?ixer de primera m? un nou programar
 i dissenyat exclusivament per a enginyeries que permet\, d'una manera mol
 t f?cil i intu?tiva\, generar una mem?ria t?cnica descriptiva del project
 e. </p><p>A trav?s d'aquesta aplicaci? es pot generar tota la documentaci
 ? t?cnica de pr?cticament tot el portfolio de Schneider Electric des de l
 a part de distribuci? el?ctrica en baixa o mitja tensi? o els sistemes d'
 alimentaci? ininterrompuda\, fins a la part de gesti? i control d'edifici
 \, passant per solucions per al residencial\, etc.</p></td></tr><tr>\n		<
 td style="width:100px\; text-align: left\;">Ponent:</td>\n		<td style="te
 xt-align: left\;"><p>En el Webinar intervindran:</p><p>-&nbsp\;&nbsp\;\nD
 . Xavier\nBarnils\, Responsable de Prescripci?n de Iberia en Schneider El
 ectric.\n<br></p></td>\n	</tr>\n	\n	\n\n<tr><td style="width:100px\; text
 -align: left\;">Nota:</td><td style="text-align: left\;"><p>El Webinar se
 r? transm?s en directe\, de manera online.</p><p> La inscripci? ?s extern
 a\, pr?via sol?licitud a la nostra web rebreu al correu de confirmaci?&nb
 sp\;l'enlla? per accedir\, on tamb? haureu de constatar les vostres dades
  per formalitzar la inscripci? definitiva.</p><p>&nbsp\;</p></td></tr></t
 body></table>
DTEND;TZID=Europe/Madrid:20210630T183000
DTSTAMP:20260421T104045Z
DTSTART;TZID=Europe/Madrid:20210630T170000
LOCATION:https://www.enginyerstarragona.cat/agenda/details/1704/1704-webin
 ar-cogiti-nou-programari-de-generacio-de
SEQUENCE:0
SUMMARY:[Webinar COGITI] Nou programari de generaci? de mem?ries t?cniques
  Ecostruxure Specification de Schneider Electric
UID:ET_Activitat_1704
URL:https://www.enginyerstarragona.cathttps://www.enginyerstarragona.cat/a
 genda/details/1704/1704-webinar-cogiti-nou-programari-de-generacio-de
END:VEVENT
END:VCALENDAR
