BEGIN:VCALENDAR
PRODID:-//github.com/rianjs/ical.net//NONSGML ical.net 2.2//EN
VERSION:2.0
BEGIN:VEVENT
CATEGORIES:Activitats
CREATED;TZID=Europe/Madrid:20260420T113130
DESCRIPTION:<table class="table">\n	<tbody><tr><td style="width:100px\; te
 xt-align: left\;">&nbsp\;<strong>Organitza:</strong></td><td style="text-
 align: left\;">&nbsp\;Aquest Postgrau s'ha organitzat pel&nbsp\;Col?legi 
 d'Enginyers Graduats i Enginyers T?cnics Industrials de Barcelona (ENGINY
 ERS BCN)&nbsp\;amb la col?laboraci? d'ENGINYERS TARRAGONA)</td></tr><tr>\
 n		<td style="width:100px\; text-align: left\;"><strong>??Dirigit a:</str
 ong></td>\n		<td style="text-align: left\;">Aquest Postgrau est? adre?at 
 a professionals en l'?mbit de la gesti? energ?tica que vulguin assolir co
 neixements en aquestes l?nies estrat?giques.&nbsp\;</td>\n	</tr>\n	<tr>\n
 		<td style="width:100px\; text-align: left\;"><strong>?Dates:</strong></
 td>\n		<td style="text-align: left\;">Del 2 d'octubre al 4 de desembre de
  2020. Vegeu calendari a l'apartat d'observacions Divendres de 16 a 20 h.
 </td>\n	</tr>\n	<tr>\n		<td style="width:100px\; text-align: left\;"><str
 ong>?Horari:</strong></td>\n		<td style="text-align: left\;">Divendres de
  16 a 20 h.</td>\n	</tr>\n	\n	<tr>\n		<td style="width:100px\; text-align
 : left\;"><strong>?Durada:</strong></td>\n		<td style="text-align: left\;
 ">166 hores lectives</td>\n	</tr>\n	<tr>\n		<td style="width:100px\; text
 -align: left\;"><strong>?Programaci?:</strong></td>\n		<td style="text-al
 ign: left\;"><a href="https://www.enginyersbcn.cat/serveis-colegiats/form
 acio/cursos-activitats/activitat.html?ID=2863">Consulta'l aqu?</a></td>\n
 	</tr>\n	\n	\n	<tr><td style="width:100px\; text-align: left\;"><strong>E
 quip docent</strong>:</td><td style="text-align: left\;"><ul><li><strong>
 Antoni Garc?a\,</strong> Consultor en Gesti? Energ?tica\, Infraestructure
 s i MantenimentLlu?s Morer\, Cap del Programa d'estalvi i efici?ncia ener
 g?tica de l'Institut Catal? d'Energia</li><li><strong>Frederic Andreu</st
 rong>\, Gerent de Solartradex</li><li><strong>Alejandro Valdovinos\,</str
 ong> Enginyer de Telecomunicacions\, M?ster en Efici?ncia Energ?tica. Bus
 iness Development Manager E.V. </li><li><strong>Simon&nbsp\;David Villar\
 ,</strong> Cap d'Unitat de Prospectiva Energ?tica i Sostenibilitat. Divis
 i? de Planificaci? Energ?tica de l'Institut Catal? d'Energia</li><li><str
 ong>Laia Sarquella\,</strong> Enginyera Qu?mica\, t?cnica de la Divisi? d
 e Gesti? Energ?tica de l'Institut Catal? d'Energia</li></ul></td></tr><tr
 >\n		<td style="width:100px\; text-align: left\;"><strong>?Objectius:</st
 rong></td>\n		<td style="text-align: left\;">Aquest m?dul forma part dels
  4 m?duls que componen el Postgrau de Gesti? Energ?tica Eficient.&nbsp\;L
 a Uni? Europea ha fixat uns objectius a complir dins els compromisos cont
 ra el canvi clim?tic i pol?tica energ?tica. Aquest Postgrau pret?n dotar 
 de continguts\, eines i estrat?gies pel compliment d'aquestes\, parlant d
 es del mercat el?ctric fins a les energies renovables i passant per temes
  d'autoconsum.&nbsp\;&nbsp\;Aquest Postgrau comptar? amb la participaci? 
 de ponents de reconegut prestigi dins de l'?mbit de la gesti? energ?tica.
 &nbsp\;Amb l'objectiu de facilitar el seguiment del curs dels alumnes res
 idents fora de la prov?ncia de Barcelona i comarques\, aquest curs ser? e
 m?s mitjan?ant&nbsp\;videoconfer?ncia\,&nbsp\;permetent la retransmissi? 
 en directe del curs a trav?s d'internet. Qualsevol usuari amb connexi? a 
 Internet\, podr? realitzar-ne el seguiment en directe\, des del lloc on d
 esitgi. Aquesta tecnologia ?s compatible amb ordinadors\, tauletes\, m?bi
 ls\, etc. El seguiment per videoconfer?ncia permetr?:&nbsp\;-Escoltar i v
 eure en directe al professor-Participar en directe a la resoluci? dels ex
 ercicis-Preguntar directament els dubtes al professor-Escoltar les consul
 tes dels altres assistents-Seguir les anotacions del professor a la pissa
 rraEs realitzar? l'enregistrament ?ntegre de totes les sessions per a pos
 terior visionat i/o consulta.&nbsp\; </td>\n	</tr>\n	\n	\n\n</tbody></tab
 le>
DTEND;TZID=Europe/Madrid:20201002T200000
DTSTAMP:20260420T093130Z
DTSTART;TZID=Europe/Madrid:20201002T160000
LOCATION:https://www.enginyerstarragona.cat/agenda/details/1576/1576-postg
 rau-de-gestio-energetica-eficient-modul
SEQUENCE:0
SUMMARY:POSTGRAU DE GESTI? ENERG?TICA EFICIENT-M?DUL 4: ASPECTES CLAUS DE 
 LA TRANSICI? ENERG?TICA SOBRE L'ALERTA CLIM?TICA
UID:ET_Activitat_1576
URL:https://www.enginyerstarragona.cathttps://www.enginyerstarragona.cat/a
 genda/details/1576/1576-postgrau-de-gestio-energetica-eficient-modul
END:VEVENT
END:VCALENDAR
