BEGIN:VCALENDAR
PRODID:-//github.com/rianjs/ical.net//NONSGML ical.net 2.2//EN
VERSION:2.0
BEGIN:VEVENT
CATEGORIES:Activitats
CREATED;TZID=Europe/Madrid:20260424T211106
DESCRIPTION:<table class="table">\n	<tbody>\n	<tr>\n		<td style="width:100
 px\; text-align: left\;">Dates:</td>\n		<td style="text-align: left\;">28
  d'abril (dimarts</td>\n	</tr>\n	<tr><td style="width:100px\; text-align:
  left\;">&nbsp\;Organitza:&nbsp\;</td><td style="text-align: left\;">ITEC
  (Institut Tecnologia de la Construcci?)</td></tr><tr>\n		<td style="widt
 h:100px\; text-align: left\;">Horari:</td>\n		<td style="text-align: left
 \;">16.00 h</td>\n	</tr>\n	\n	<tr>\n		<td style="width:100px\; text-align
 : left\;">Durada:</td>\n		<td style="text-align: left\;">1 hora</td>\n	</
 tr>\n	<tr>\n		<td style="width:100px\; text-align: left\;">Programaci?:</
 td>\n		<td style="text-align: left\;">Com elaborar un model en Revit\, co
 neixent la configuraci? i preparaci? per a l?extracci?m?s ?ptima per a l?
 obtenci? d?amidaments\, i com configurar un pressupost veient els avantat
 ges de la utilitzaci? d?un banc de refer?ncia. A m?s\, es veuran les poss
 ibilitats entre l?elaboraci? d?un pressupost utilitzant arxius natius de 
 Revit i el treball a trav?s d?arxius en IFC.<br></td>\n	</tr>\n	\n	\n	\n	
 \n	\n\n<tr><td style="width:100px\; text-align: left\;">Ponent:&nbsp\;</t
 d><td style="text-align: left\;"><font color="#333333">Sara Ib??ez\, Cons
 ultora BIM\, Coordinadora acad?mica de MSI Academy i Autodesk Certified P
 rofessionalen Revit Arquitectura\, i&nbsp\;Maria Villegas\, Arquitecta T?
 cnica i Cap del Departament de Suport T?cnic i Formaci? de l?ITeC<br></fo
 nt></td></tr><tr><td style="width:100px\; text-align: left\;"><br></td><t
 d style="text-align: left\;"><p>LA INSCRIPCI? ?S GRATU?TA</p></td></tr></
 tbody></table>
DTEND;TZID=Europe/Madrid:20200427T170000
DTSTAMP:20260424T191106Z
DTSTART;TZID=Europe/Madrid:20200428T160000
LOCATION:https://www.enginyerstarragona.cat/agenda/details/1525/1525-webin
 ar-itec-modela-en-revit-amb-bedec-per-a
SEQUENCE:0
SUMMARY:[Webinar ITEC] Modela en Revit amb BEDEC per a obtenir un pressupo
 st en TCQ
UID:ET_Activitat_1525
URL:https://www.enginyerstarragona.cathttps://www.enginyerstarragona.cat/a
 genda/details/1525/1525-webinar-itec-modela-en-revit-amb-bedec-per-a
END:VEVENT
END:VCALENDAR
