BEGIN:VCALENDAR
PRODID:-//github.com/rianjs/ical.net//NONSGML ical.net 2.2//EN
VERSION:2.0
BEGIN:VEVENT
CATEGORIES:Activitats
CREATED;TZID=Europe/Madrid:20260425T130255
DESCRIPTION:<table class="table">\n	<tbody><tr>\n		<td style="width:100px\
 ; text-align: left\;"><strong>Dirigit a:</strong></td>\n		<td style="text
 -align: left\;"><p>Estudiants\, t?cnics\, dissenyadors\, professionals ll
 iures\, enginyers relacionats amb el c?lcul\, disseny\, selecci?\, fabric
 aci?\, seguretat\, qualitat i manteniment de sistemes i equips en process
 os industrials.</p><p>NO ?s necessari coneixments previs.</p></td>\n	</tr
 >\n	<tr>\n		<td style="width:100px\; text-align: left\;"><strong>Dates:</
 strong></td>\n		<td style="text-align: left\;">27 i 28 de novembre (dimec
 res i dijous)</td>\n	</tr>\n	<tr>\n		<td style="width:100px\; text-align:
  left\;"><strong>Horari:</strong></td>\n		<td style="text-align: left\;">
 de les 9.00 a les 18.00 hores (una hora per dinar\, incl?s en el preu de 
 la matr?cula)</td>\n	</tr>\n	<tr>\n		<td style="width:100px\; text-align:
  left\;"><strong>Assistents:</strong></td>\n		<td style="text-align: left
 \;">10/25</td>\n	</tr>\n	<tr>\n		<td style="width:100px\; text-align: lef
 t\;"><strong>Durada:</strong></td>\n		<td style="text-align: left\;">16 h
 ores</td>\n	</tr>\n	<tr>\n		<td style="width:100px\; text-align: left\;">
 <strong>Programaci?:</strong></td>\n		<td style="text-align: left\;"><p><
 strong>Codis de Disseny</strong><br>Comparaci? de codis</p><p><br><strong
 >ASME BPVC - Calderes i Recipients a pressi?:</strong><br>Revisi? hist?ri
 ca\, Seccions.</p><p><br><strong>ASME BPVC Secci? VIII\, Div.1</strong><b
 r>Abast\, Organitzaci?\, Segell / Estampa ASME</p><p><br><strong>Condicio
 ns de disseny</strong><br>Temperatura\, pressi?\, c?rregues\, CA</p><p><b
 r><strong>Selecci? de Materials</strong><br>corrosi?<br>Propietats essenc
 ials\, designaci?</p><p><br><strong>Efici?ncia de junt</strong><br>Juntes
 \, avaluaci?<br>Valor de l'efici?ncia</p><p><br><strong>Disseny de part p
 er Pressi? Interior</strong><br>millors Pr?ctiques<br>Envolvents i Cap?al
 s</p><p><br><strong>Disseny de part per Pressi? Exterior</strong><br>M?to
 de de Disseny<br>Anells de Buit</p><p><br><strong>Disseny de Transicions 
 C?niques</strong><br>Conc?ntriques\, Exc?ntriques</p><p><br><strong>Disse
 ny de Connexions</strong><br>Colls\, Brides Est?ndard\, Refor?os</p><p><b
 r><strong>Parts estructurals</strong><br>C?rregues de Vent i Sisme<br>Pot
 es\, Faldons\, Bressols o cadiretes</p><p><br><strong>Prova hidrost?tica 
 i pneum?tica</strong></p><p><strong>&nbsp\;</strong><br><strong>Transport
 \, hissat i instal?laci?</strong><br></p></td>\n	</tr>\n	<tr>\n		<td styl
 e="width:100px\; text-align: left\;"><strong>Documentaci?:</strong></td>\
 n		<td style="text-align: left\;">La documentaci? estar? disponible a la 
 plataforma entre 24 i 48 hores abans de l?inici de la formaci?. En el cas
  que hi hagi documentaci? addicional una vegada finalitzada la formaci?\,
  us la facilitarem posteriorment.</td>\n	</tr>\n	<tr>\n		<td style="width
 :100px\; text-align: left\;"><strong>Certificaci?:</strong></td>\n		<td s
 tyle="text-align: left\;">Una vegada finalitzada l?acci? formativa\, els 
 alumnes obtindran un certificat d?assist?ncia que es podran descarregar a
  la plataforma.  </td>\n	</tr>\n	<tr>\n		<td style="width:100px\; text-al
 ign: left\;"><strong>Objectius:</strong></td>\n		<td style="text-align: l
 eft\;"><p>L'objectiu ?s transferir als participants les habilitats i cone
 ixements te?rics i pr?ctics requerits en projectes\, obtinguts de l'exper
 i?ncia i de les millors pr?ctiques d'enginyeria.</p><p><strong>Qu? espera
 r del Curs?</strong><br>Adquirir el vocabulari i fonaments.<br>Comprendre
  l'organitzaci? del ASME BPVC<br>Entendre l'abast de la Secci? VIII Div.1
 <br>Delimitar les condicions de disseny<br>Establir l'efici?ncia de junt<
 br>Dissenyar i calcular les parts principals d'un recipient a pressi? int
 erior i exterior.<br>Dissenyar cap?als i transicions c?niques<br>Calcular
  i dissenyar connexions<br>Dissenyar els suports per vent i sisme</p></td
 >\n	</tr>\n	<tr>\n		<td style="width:100px\; text-align: left\;"><strong>
 Bonificacions:</strong></td>\n		<td style="text-align: left\;">Gestionem 
 els tr?mits per tal que puguis beneficiar-te de la bonificaci? correspone
 nt per formaci?.</td>\n	</tr>\n	<tr>\n		<td style="width:100px\; text-ali
 gn: left\;"><strong>Instruccions per bonificar:</strong></td>\n		<td styl
 e="text-align: left\;"><p>\n1. Sol?licita els impresos al CETIT a formaci
 o@enginyerstarragona.cat</p><p>\n2. Aporta tota la informaci? 10 dies nat
 urals abans de l'inici del curs.\n</p><p>3. NOTA IMPORTANT:  les bonifica
 cions es porten a terme per mitj? d'una assessoria externa. Aquells que v
 ulguin acollir-se a la bonificaci? de qualsevol acci? formativa\, el preu
  s'incrementar? en un  20 % ( que tamb? es podr? bonificar i recuperar).\
 n</p></td>\n	</tr>\n\n</tbody></table>
DTEND;TZID=Europe/Madrid:20191127T180000
DTSTAMP:20260425T110255Z
DTSTART;TZID=Europe/Madrid:20191127T090000
LOCATION:https://www.enginyerstarragona.cat/agenda/details/1442/1442-curs-
 disseny-de-recipients-a-pressio-asme-vii
SEQUENCE:0
SUMMARY:[CURS] Disseny de Recipients a Pressi? (ASME VIII)
UID:ET_Activitat_1442
URL:https://www.enginyerstarragona.cathttps://www.enginyerstarragona.cat/a
 genda/details/1442/1442-curs-disseny-de-recipients-a-pressio-asme-vii
END:VEVENT
END:VCALENDAR
