BEGIN:VCALENDAR
PRODID:-//github.com/rianjs/ical.net//NONSGML ical.net 2.2//EN
VERSION:2.0
BEGIN:VEVENT
CATEGORIES:Activitats
CREATED;TZID=Europe/Madrid:20260424T112046
DESCRIPTION:Amb motiu del 75? Aniversari del nostre associacionisme profes
 sional que\, com sabeu\, celebrem aquesta any\, us volem convidar a visit
 ar l'exposici? del <b>COL?LECCIONISME COL?LEGIAL</b><br>\n<br>\nL'exposic
 i? consta d'algunes peces amb un valor hist?ric i tecnol?gic i d'altres q
 ue\, simplement\, s?n curioses\, i ?s una mostra de les inquietuds i la s
 ensibilitat de molts dels nostres companys que\, al llarg del temps\, han
  recollit objectes que ara podreu veure exposats a la seu del Col?legi<br
 ><br>\nVolem agrair\, en nom de tots\, la col?laboraci? d'aquests company
 s col?leccionistes. I volem tamb? posar de manifest que aquesta exposici?
  no ?s tancada i que hi podeu anar afegint col?leccions\, en qualsevol mo
 ment\, si no ho heu fet fins ara<br>\n<br>\nL'exposici? es podr? visitar 
 del <b>24 de novembre fins a final d'any\, </b>\namb l'horari de servei c
 ol?legial\, que us recordem que ?s a partir de les  9.00 fins a les 19.00
  hores\, ininterrompudament de dilluns a dijous i divendres de 9.00 a 14.
 00 hores.<br>\n<br>\nAlguns dels objectes que podreu trobar a l'exposoci?
 :<br>\n-Maqueta de tren de vapor a escala 1/100 de la s?rie 1700 de la co
 mpanyia de Madrid- Saragossa-Alacant\, constru?da pel Sr. Cosme Anguera M
 artorell\, pare del company Sr. Joan Anguera i Cabr?.<br>\n- "Teodolito c
 /aliada de p?nsulas a escuadra y br?jula. Dalmau Montero - Barna. Limbos 
 vertical y horizontales de platino. C/tripode"<br>\n- Maqueta de motor de
  gas per accionament de l'alternador. Constructor: W. Steven's Model Dock
 yard\, 2 Aldgate - London<br>\n- Maqueta de m?quina de vapor Lampitt\, se
 gons projecte de 1860 i maquetitzaci? actual.<br>\n-Quadre d'Invent del T
 BO pel creador de la s?rie "Grans invents del TBO" del qual el personantg
 e central era el professor Franz de Copenhague\, Joan Macias "NIT" que en
  un apunt biogr?fic es diu que era company nostre\, Perit Industrial.<br>
 \n- ............... i m?s de 150<br>\n\n
DTEND;TZID=Europe/Madrid;VALUE=DATE:20040101
DTSTAMP:20260424T092046Z
DTSTART;TZID=Europe/Madrid;VALUE=DATE:20031231
LOCATION:https://www.enginyerstarragona.cat/agenda/details/113/113-inaugur
 acio-de-lexposicio-del-colleccionisme
SEQUENCE:0
SUMMARY:INAUGURACI? DE L'EXPOSICI? DEL COL?LECCIONISME COL?LEGIAL
UID:ET_Activitat_113
URL:https://www.enginyerstarragona.cathttps://www.enginyerstarragona.cat/a
 genda/details/113/113-inauguracio-de-lexposicio-del-colleccionisme
END:VEVENT
END:VCALENDAR
