BEGIN:VCALENDAR
PRODID:-//github.com/rianjs/ical.net//NONSGML ical.net 2.2//EN
VERSION:2.0
BEGIN:VEVENT
CATEGORIES:Activitats
CREATED;TZID=Europe/Madrid:20260419T202532
DESCRIPTION:<table class="table">\n    <tbody>\n        <tr>\n            
 <td style="width: 148px\;" valign="top" class="pivot">\n            Codi 
 circular:</td>\n            <td>\n            &nbsp\;<br>\n            33
 /14</td>\n        </tr>\n        <tr>\n            <td valign="top" class
 ="pivot">\n            Dates:</td>\n            <td>\n            ACC?S A
  LA PLATAFORMA: 24 de mar? (dilluns)<br>\n            <br>\n            <
 span style="text-decoration: line-through\;"><span style="color: #ff0000\
 ;">\n            Acc?s a la plataforma 17 de mar? (dilluns)</span><br>\n 
            <br>\n            </span></td>\n        </tr>\n        <tr>\n 
            <td valign="top" class="pivot">\n            Horari:</td>\n   
          <td>Classes presencials del 13 al 16 de maig\, de les 16.00 a le
 s 21.00 hores &nbsp\; &nbsp\; &nbsp\; &nbsp\; &nbsp\;<br>\n            <b
 r>\n            <span style="text-decoration: line-through\; color: #ff00
 00\;">\n            Classes presencials del 5 al 9 de maig\, de les 16.00
  a les 20.00 hores &nbsp\; &nbsp\; &nbsp\; &nbsp\; &nbsp\; &nbsp\; &nbsp\
 ; &nbsp\;</span>&nbsp\;&nbsp\;</td>\n        </tr>\n        <tr>\n       
      <td valign="top" class="pivot">\n            Assistents m?nim/m?xim:
 </td>\n            <td>\n            &nbsp\;<br>\n            12/25</td>\
 n        </tr>\n        <tr>\n            <td valign="top" class="pivot">
 \n            Durada:</td>\n            <td>\n            &nbsp\;<br>\n  
           100 h (80 a dist?ncia i 20 presencials)</td>\n        </tr>\n  
       <tr>\n            <td valign="top" class="pivot">\n            Prof
 essorat:</td>\n            <td>\n            <strong>\n            Alfons
 o Fuente Garc?a i Luis Miguel Ramos Prieto</strong>\, Enginyers Industria
 ls amb m?s de deu anys d'experi?ncia en&nbsp\;l'elaboraci? de projectes d
 'estructures d'acer dins del sector industrial.&nbsp\;<br>\n            <
 br>\n            Experi?ncia docent a la <em>Universidad de Le?n. </em>Di
 recci? de projectes d'estructures d'acer de gran import?ncia.<br>\n      
       <br>\n            Experiencia en l'elaboraci? de cursos d'estructur
 es d'acer.</td>\n        </tr>\n        <tr>\n            <td valign="top
 " class="pivot">\n            Objectius:</td>\n            <td>\n        
     &nbsp\;<br>\n            Al finalitzar el curs els alumnes hauran adq
 uirit les compt?ncies necess?ries per dissenyar estructures d'acer segons
  els criteris de la instrucci? EAE (normatives d'obligat compliment dins 
 del sector industrial i enginyeria civil). La EAE incorpora les novetats 
 introdu?des en la normativa europea i equipara\, a efectes reglamentaris\
 , el formig? i l'acer en la construcci? d'estructures.&nbsp\;<br>\n      
       <br>\n            <strong>\n            Els alumnes&nbsp\;coneixera
 n el proc?s b?sic de disseny d'una estructura d'acer\, refor?ant els cone
 ixements de l'elecci? dels sistemes estructurals i elements estructurals 
 adequats\, per a cada situaci? de projecte.</strong><br>\n            </t
 d>\n        </tr>\n        <tr>\n            <td valign="top" class="pivo
 t">\n            Continguts:</td>\n            <td>\n            <strong>
 \n            Contenido te?rico<br>\n            </strong><br>\n         
    <span style="text-decoration: underline\;">- Introducci?n</span><br>\n
             o Ventajas del acero<br>\n            o Marco normativo<br>\n
             o Aceros estructurales<br>\n            o Productos de acero 
 estructural<br>\n            o Acciones sobre la estructura<br>\n        
     o Estados l?mites<br>\n            <br>\n            <span style="tex
 t-decoration: underline\;">- Bases del dise?o</span><br>\n            o C
 riterios. Concepci?n de la estructura de acero<br>\n            o Segurid
 ad ante incendio<br>\n            <br>\n            <span style="text-dec
 oration: underline\;">- Sistemas estructurales</span><br>\n            o 
 P?rticos simples y m?ltiples<br>\n            o Estructuras de edificaci?
 n<br>\n            o Arriostramientos<br>\n            o Cimentaciones<br
 >\n            <br>\n            <span style="text-decoration: underline\
 ;">- Elementos estructurales. Tipolog?a y dimensionamiento</span><br>\n  
           o Soportes<br>\n            o Vigas<br>\n            o Elemento
 s sometidos a compresi?n. Arriostramientos<br>\n            o Entreplanta
 s<br>\n            o Elementos sometidos a tracci?n. Tirantes<br>\n      
       o Vigas carril<br>\n            o Correas<br>\n            <br>\n  
           <span style="text-decoration: underline\;">- Uniones</span><br>
 \n            o Uniones soldadas<br>\n            o Uniones atornilladas<
 br>\n            o Bases de pilar<br>\n            <br>\n            <spa
 n style="text-decoration: underline\;">- Ejecuci?n: Fabricaci?n\, transpo
 rte y montaje</span><br>\n            o Ingenier?a de taller<br>\n       
      o Fabricaci?n<br>\n            &nbsp\; &nbsp\; &nbsp\; &nbsp\; &nbsp
 \;- Corte y taladrado<br>\n            &nbsp\; &nbsp\; &nbsp\; &nbsp\; &n
 bsp\;- Soldadura<br>\n            o Protecci?n contra la corrosi?n<br>\n 
            <br>\n            <strong>Casos pr?cticos<br>\n            </s
 trong><br>\n            - Dise?o y c?lculo de una nave industrial<br>\n  
           - Dise?o y c?lculo de torre para soporte de silos</td>\n       
  </tr>\n        <tr>\n            <td valign="top" class="pivot"><br>\n  
           Legislaci?<br>\n            &nbsp\;i normativa</td>\n          
   <td>&nbsp\;<br>\n            - EAE (<em>Instrucci?n de acero estructura
 l</em>)<br>\n            - CTE-DB-SE-A<br>\n            - UNE-EN 1993-1-1
 <br>\n            - UNE-EN 1090<br>\n            <span style="font-size: 
 10px\;"><a href="https://www.fomento.gob.es/MFOM/LANG_CASTELLANO/ORGANOS_
 COLEGIADOS/CPA/INSTRUCCIONES/" target="_blank">CPA/INSTRUCCIONES/</a></sp
 an><br>\n            </td>\n        </tr>\n        <tr>\n            <td 
 valign="top" class="pivot">\n            Destinataris:</td>\n            
 <td>\n            - Enginyers\, calculistes d'estructures\, professionals
  del sector del metall i oficines t?ciques amb experi?ncia en el &nbsp\; 
 &nbsp\; c?lcul estructural.<br>\n            - Estudians d'enginyeria.<br
 >\n            - Professionals interessats en adquriri coneixements sobre
  estructures d'acer i que desitgin con?ixer la instrucci? &nbsp\; &nbsp\;
  &nbsp\; EAE.&nbsp\; &nbsp\; &nbsp\; &nbsp\; &nbsp\; &nbsp\;</td>\n      
   </tr>\n        <tr>\n            <td valign="top" class="pivot">\n     
        Documentaci?:</td>\n            <td>\n            Es lliurar? docu
 mentaci? de seguiment.</td>\n        </tr>\n        <tr>\n            <td
  valign="top" class="pivot">\n            Que ?s la FTFE?</td>\n         
    <td>\n            La FUNDACI?N TRIPARTITA PARA LA FORMACI?N EN EL EMPL
 EO ?s l'?rgan que regula\,\n            controla i administra el cr?dit a
 nual que totes les empreses disposen per formar\n            als seus tre
 balladors. Amb aquest cr?dit les bonificacions es dedueixen a trav?s\n   
          dels pagaments a la Seguritat Social\, per mitj? dels TCs. Qui p
 ot bonificar?\n            Treballadors que cotitzin en el r?gim general.
 <br>\n            <br>\n            <span class="style1">EXEMPLE: Un curs
  que el preu ?s 100 ? on es bonifica el 100\n            % de l'import\, 
 l'empresa haur? de pagar - 100 ? a la Seguretat Social\, per mitj?\n     
        dels TCs.</span></td>\n        </tr>\n        <tr>\n            <t
 d valign="top" class="pivot">\n            Instruccions <br>\n           
  per bonificar:</td>\n            <td>\n            <br>\n            Sol
 ?licita els impresos al CETIT<br>\n            Aporta tota la informaci? 
 7 dies naturals abans de l'inici del curs.<br>\n            </td>\n      
   </tr>\n        <tr>\n            <td valign="top" class="pivot">\n     
        Forma <br>\n            de pagament:</td>\n            <td>\n     
        Cobrament a trav?s del seu n?mero de compte\, que haur? de facilit
 ar a l?hora de\n            fer la inscripci?.</td>\n        </tr>\n     
    <tr>\n            <td valign="top" class="pivot">\n            Certifi
 caci?:</td>\n            <td>\n            Es lliurar? un certificat d'ac
 reditaci? i assist?ncia a la finalitzaci? de la\n            formaci?. Aq
 uells que sol?licitin bonificar el cus a trav?s de la Fundaci?\n         
    Tripartita para la Formaci?n en el Empleo\, tamb? tindran un certifica
 t em?s per\n            la FTFE.</td>\n        </tr>\n        <tr>\n     
        <td valign="top" class="pivot">\n            Acreditaci? Professio
 nal:</td>\n            <td>\n            Aquesta formaci? ?s competent pe
 r acreditar davant del COGITI la teva formaci?. <br>\n            Mes inf
 ormaci?: <a href="http://www.acreditacioncogitidpc.es" target="_blank">ht
 tp://www.acreditacioncogitidpc.es</a></td>\n        </tr>\n    </tbody>\n
 </table>\n<br>
DTEND;TZID=Europe/Madrid:20140317T235900
DTSTAMP:20260419T182532Z
DTSTART;TZID=Europe/Madrid:20140317T000100
LOCATION:https://www.enginyerstarragona.cat/agenda/details/1049/1049-curs-
 semi-presencial-sobre-calcul-destructure
SEQUENCE:0
SUMMARY:Curs SEMI PRESENCIAL sobre C?LCUL D'ESTRUCTURES D'ACER SEGONS EAE
UID:ET_Activitat_1049
URL:https://www.enginyerstarragona.cathttps://www.enginyerstarragona.cat/a
 genda/details/1049/1049-curs-semi-presencial-sobre-calcul-destructure
END:VEVENT
END:VCALENDAR
