BEGIN:VCALENDAR
PRODID:-//github.com/rianjs/ical.net//NONSGML ical.net 2.2//EN
VERSION:2.0
BEGIN:VEVENT
CATEGORIES:Obres i Construcci?
CREATED;TZID=Europe/Madrid:20260426T050220
DESCRIPTION:<p style="margin-bottom: 0cm\; text-align: justify\;"><span st
 yle="font-size: 12px\;"><span style="font-size: 12px\; color: #333333\;">
 La\ncasa DMELECT impartir&agrave\; aquest mes de setembre un curs te&ogra
 ve\;ric\npr&agrave\;ctic que es basar&agrave\;\, majorit&agrave\;riament\
 , en les </span><span style="font-size: 12px\; color: #333333\;"><strong>
 instal&middot\;lacions\nt&egrave\;rmiques</strong></span><span style="fon
 t-size: 12px\; color: #333333\;"><strong>\,\n</strong></span><span style=
 "font-size: 12px\; color: #333333\;">recolzant-se\nen tot moment en els p
 rogrames DMELECT. En qualsevol dels casos\, tots\nels conceptes t&egrave\
 ;cnics seran explicats te&ograve\;ricament.</span></span></p>\n<p style="
 margin-bottom: 0cm\; text-align: justify\;"><span style="font-size: 12px\
 ;"><br />\n</span></p>\n<p style="margin-bottom: 0cm\; text-align: justif
 y\;"><span style="font-size: 12px\;"><span style="font-size: 12px\; color
 : #333333\;"><strong>DIRIGIT\nA: </strong></span><span style="font-size: 
 12px\; color: #333333\;">enginyers\,\narquitectes i instal&middot\;ladors
 .</span></span></p>\n<p style="margin-bottom: 0cm\; text-align: justify\;
 "><span style="font-size: 12px\;"><br />\n</span></p>\n<p style="margin-b
 ottom: 0cm\; text-align: justify\;"><span style="font-size: 12px\;"><span
  style="font-size: 12px\; color: #333333\;"><strong>PROGRAMA\nDEL CURS (1
 2 hores):</strong></span><span style="font-size: 12px\; color: #333333\;"
 >\ns&rsquo\;adjunta.</span></span></p>\n<p style="margin-bottom: 0cm\; te
 xt-align: justify\;"><span style="font-size: 12px\;"><br />\n</span></p>\
 n<p style="margin-bottom: 0cm\; text-align: justify\;"><span style="font-
 size: 12px\;"><span style="font-size: 12px\; color: #333333\;"><strong>PR
 EU\nCOL&middot\;LEGIAT:</strong></span><span style="font-size: 12px\; col
 or: #333333\;">\n</span><span style="font-size: 12px\; color: #333333\;">
 \n150 &euro\; </span><span style="font-size: 12px\; color: #333333\;"><st
 rong>***\nINCLOU UN PROGRAMA***</strong></span></span></p>\n<p style="mar
 gin-bottom: 0cm\; text-align: justify\;"><span style="font-size: 12px\;">
 <span style="font-size: 12px\; color: #333333\;"><strong>PREU\nNO COL&mid
 dot\;LEGIAT: </strong></span><span style="font-size: 12px\; color: #33333
 3\;">\n200 &euro\; ***</span><span style="font-size: 12px\; color: #33333
 3\;"><strong>\nINCLOU UN PROGRAMA***</strong></span></span></p>\n<p style
 ="margin-bottom: 0cm\; background-color: #d9d9d9\; text-align: justify\;"
 ><span style="font-size: 12px\;"><span style="font-size: 12px\; color: #3
 33333\;"><strong>BONIFICACI&Oacute\;\nA TRAV&Eacute\;S DE LA FTFE:</stron
 g></span><span style="font-size: 12px\; color: #333333\;">\n100 %&nbsp\;<
 /span>\n</span></p>\n<span style="font-size: 12px\;"><br />\n</span>\n<p 
 style="margin-bottom: 0cm\; text-align: justify\;"><span style="font-size
 : 12px\;"><span style="font-size: 12px\; color: #333333\;"><strong>PROFES
 SOR:</strong></span><span style="font-size: 12px\; color: #333333\;">\n</
 span><span style="font-size: 12px\; color: #333333\;">Angel\nMu&ntilde\;o
 z Medina\, Enginyer Industrial\, Director del Curso. 20 anys\ndedicat al 
 Desenvolupament de Software d&rsquo\;Instal&middot\;lacions com a\nDirect
 or T&egrave\;cnic de DMELECT i a la formaci&oacute\; en quasi tots els\nc
 ol&middot\;legis professionals del pa&iacute\;s.</span></span></p>\n<p st
 yle="margin-bottom: 0cm\; text-align: justify\;"><span style="font-size: 
 12px\;"><br />\n</span></p>\n<p style="margin-bottom: 0cm\; text-align: j
 ustify\;"><span style="font-size: 12px\; color: #333333\;">Juan\nMartos L
 opez\, Enginyer T&egrave\;cnic Industrial\, Professor Adjunt. 20 anys\nde
 dicat al Desenvolupament de Software d&rsquo\; Instal&middot\;lacions com
  a\nT&egrave\;cnic de DMELECT i a la formaci&oacute\; en quasi tots els c
 ol&middot\;legis\nprofessionals del pa&iacute\;s.</span></p>\n<p style="m
 argin-bottom: 0cm\; text-align: justify\;"><span style="font-size: 12px\;
 "><br />\n</span></p>\n<p style="margin-bottom: 0cm\; text-align: justify
 \;"><span style="font-size: 12px\;"><span style="font-size: 12px\; color:
  #333333\;"><strong>CALENDARI:</strong></span><span style="font-size: 12p
 x\; color: #333333\;">\ndel 24 al 26 de setembre de 2013 (de dimarts a di
 jous) de 16 a 20\nhores.</span></span></p>\n<p style="margin-bottom: 0cm\
 ; text-align: justify\;"><span style="font-size: 12px\;"><br />\n</span><
 /p>\n<p style="margin-bottom: 0cm\; text-align: justify\;"><span style="f
 ont-size: 12px\;"><span style="font-size: 12px\; color: #333333\;"><stron
 g>DOCUMENTACI&Oacute\;:\n</strong></span><span style="font-size: 12px\; c
 olor: #333333\;">es\nlliurar&agrave\; documentaci&oacute\; de seguiment.&
 nbsp\;</span>\n</span></p>\n<span style="font-size: 12px\;"><br />\n</spa
 n>\n<p style="margin-bottom: 0cm\; text-align: justify\;"><span style="fo
 nt-size: 12px\;"><span style="font-size: 12px\; color: #333333\;"><strong
 >CERTIFICACI&Oacute\;:\n</strong></span><span style="font-size: 12px\; co
 lor: #333333\;">es\nlliurar&agrave\; un certificat d'acreditaci&oacute\; 
 i assist&egrave\;ncia a la\nfinalitzaci&oacute\; de la formaci&oacute\;. 
 Aquells que sol&middot\;licitin bonificar el\ncus a trav&eacute\;s de la 
 </span><span style="font-size: 12px\; color: #333333\;"><em>Fundaci&oacut
 e\;\nTripartita para la Formaci&oacute\;n en el Empleo\, </em></span><spa
 n style="font-size: 12px\; color: #333333\;">tamb&eacute\;\ntindran un ce
 rtificat em&egrave\;s per la </span><span style="font-size: 12px\; color:
  #333333\;"><em>FTFE.</em></span></span></p>\n<p lang="ca-ES" style="marg
 in-bottom: 0cm\; text-align: justify\;"><span style="font-size: 12px\;"><
 br />\n</span></p>\n<p lang="es-ES" style="margin-bottom: 0cm\; text-alig
 n: justify\;"><span style="font-size: 12px\;"><span lang="ca-ES" style="f
 ont-size: 12px\; color: #333333\;"><strong>ACREDITACI&Oacute\;\nPROFESSIO
 NAL DPC DEL COGITI: </strong></span><span lang="ca-ES" style="font-size: 
 12px\; color: #333333\;">aquesta\nformaci&oacute\; &eacute\;s competent p
 er acreditar davant del COGITI la teva\nformaci&oacute\;.</span></span></
 p>\n<p lang="es-ES" style="text-align: justify\;"><span style="font-size:
  12px\; color: #000000\;"><span lang="ca-ES" style="font-size: 12px\; col
 or: #333333\;">Mes\ninformaci&oacute\;: </span><span style="font-size: 12
 px\; text-decoration: underline\; color: #0000ff\;"><a href="http://www.a
 creditacioncogitidpc.es/"><span style="font-size: 12px\; color: #333333\;
 ">http://www.acreditacioncogitidpc.es</span></a></span></span></p>\n<p>\n
 </p>\n<p class="western" style="text-align: justify\;"><span style="font-
 size: 12px\;"><br />\n</span></p>\n<p>\n</p>\n<p class="western" style="t
 ext-align: justify\;"><span style="font-size: 12px\; color: #000000\;"><s
 pan style="font-size: 12px\; color: #333333\;"><strong>LLOC:\n</strong></
 span><span style="font-size: 12px\; color: #333333\;">Avinguda\nde Roma\,
  7 de Tarragona.</span><span style="font-size: 12px\; color: #333333\;"><
 strong>\n</strong></span>\n</span></p>\n<p>\n</p>\n<p class="western"><sp
 an style="font-size: 12px\;"><br />\n</span></p>\n<p>\n</p>\n<p class="we
 stern" style="text-align: justify\;"><span style="font-size: 12px\; color
 : #000000\;"><span style="font-size: 12px\; color: #333333\;"><strong>NOM
 BRE\nM&Iacute\;NIM / M&Agrave\;XIM D&rsquo\;ASSISTENTS: </strong></span><
 span style="font-size: 12px\; color: #333333\;">6/25</span></span></p>\n<
 p>\n</p>\n<p class="western"><span style="font-size: 12px\;"><br />\n</sp
 an></p>\n<p>\n</p>\n<p class="western" style="text-align: justify\;"><spa
 n style="font-size: 12px\; color: #000000\;"><span style="font-size: 12px
 \; color: #333333\;"><strong>FORMA\nDE PAGAMENT:</strong></span><span sty
 le="font-size: 12px\; color: #333333\;">\nTransfer&egrave\;ncia banc&agra
 ve\;ria o ingr&eacute\;s en efectiu al n&uacute\;mero de compte\n0081.008
 8.19.0001081810 de Banc de Sabadell (cal indicar al document\njustificati
 u de pagament el nom de la</span><span style="font-size: 12px\; text-deco
 ration: underline\; color: #333333\;">\npersona assistent i el nom de l&r
 squo\;activitat</span><span style="font-size: 12px\; color: #333333\;">).
 \n</span>\n</span></p>\n<p>\n</p>\n<p class="western"><span style="font-s
 ize: 12px\;"><br />\n</span></p>\n<p>\n</p>\n<p class="western"><span sty
 le="font-size: 12px\;">En\nefectiu o cobrament a trav&eacute\;s del seu n
 &uacute\;mero de compte\, que haur&agrave\;\nde facilitar a l&rsquo\;hora
  de fer la inscripci&oacute\;.</span></p>\n<p>\n</p>\n<p class="western">
 <span style="font-size: 12px\;"><br />\n</span></p>\n<p>\n</p>\n<p class=
 "western" style="text-align: justify\;"><span style="font-size: 12px\;"><
 span style="text-align: left\; font-size: 12px\; color: #333333\;"><stron
 g>TERMINI\nD&rsquo\;INSCRIPCI&Oacute\; I DE PAGAMENT: </strong></span><sp
 an style="text-align: left\; font-size: 12px\; text-decoration: underline
 \; color: #333333\;">17\nde setembre</span><span style="text-align: left\
 ; font-size: 12px\; color: #333333\;">\no fins arribar al m&agrave\;xim d
 &rsquo\;inscripcions si &eacute\;s abans del termini.</span></span></p>\n
 <p><span style="font-size: 12px\;"><br />\n</span></p>\n<span style="font
 -size: 12px\;"><br />\n</span>
DTEND;TZID=Europe/Madrid:20130926T200000
DTSTAMP:20260426T030220Z
DTSTART;TZID=Europe/Madrid:20130924T160000
LOCATION:https://www.enginyerstarragona.cat/agenda/details/1006/1006-curs-
 bonificat-sobre-installacions-termiques
SEQUENCE:0
SUMMARY:Curs BONIFICAT sobre INSTAL?LACIONS T?RMIQUES
UID:ET_Activitat_1006
URL:https://www.enginyerstarragona.cathttps://www.enginyerstarragona.cat/a
 genda/details/1006/1006-curs-bonificat-sobre-installacions-termiques
END:VEVENT
END:VCALENDAR
