BEGIN:VCALENDAR
PRODID:-//github.com/rianjs/ical.net//NONSGML ical.net 2.2//EN
VERSION:2.0
BEGIN:VEVENT
CATEGORIES:Activitats
CREATED;TZID=Europe/Madrid:20260421T034725
DESCRIPTION:<span style="font-size: 12px\; font-family: Arial\; color: #7f
 7f7f\;"><strong>CODI CIRCULAR: 43/13</strong></span><span style="font-siz
 e: 12px\; font-family: Arial\; color: #7f7f7f\;"><br />\n<br />\nS'ha org
 anitzat un curs b&agrave\;sic d'ac&uacute\;stica ambiental i arquitect&og
 rave\;nic dirigit a t&egrave\;cnics interessats en el coneixement de l&rs
 quo\;ac&uacute\;stica\; dels procediments de mesurament i control del sor
 oll generat per les activitats i el ve&iuml\;natge\; i/o que desitgin int
 egrar aquests conceptes en els seus projectes\; i totes aquelles persones
  interessades en el coneixement de la legislaci&oacute\; aplicable.</span
 > <br />\n<p style="margin-right: -33.8pt\; text-align: justify\;"><span 
 style="font-size: 12px\; font-family: Arial\; color: #7f7f7f\;">\n<br />\
 nEls principals objectius d'aquest curs s&oacute\;n:</span></p>\n<ul>\n  
   <li><span style="font-size: 12px\; font-family: Arial\; color: #7f7f7f\
 ;">Adquirir els coneixements b&agrave\;sics en ac&uacute\;stica per tal d
 e poder entendre diferents actuacions i valorar els nivells ac&uacute\;st
 ics obtinguts en els mesuraments del soroll.</span></li>\n    <li><span s
 tyle="font-size: 12px\; font-family: Arial\; color: #7f7f7f\;">Identifica
 r i analitzar els principals par&agrave\;metres ac&uacute\;stics que cal 
 tenir en compte al desenvolupar projectes d&rsquo\;ac&uacute\;stica arqui
 tect&ograve\;nica (temps de reverberaci&oacute\;\, coeficient d&rsquo\;ab
 sorci&oacute\;\, etc) .</span></li>\n    <li><span style="font-size: 12px
 \; font-family: Arial\; color: #7f7f7f\;">Adquirir les nocions b&agrave\;
 siques de la jerarquitzaci&oacute\; de l&rsquo\;ordenament jur&iacute\;di
 c</span></li>\n    <li><span style="font-size: 12px\; font-family: Arial\
 ; color: #7f7f7f\;">Con&egrave\;ixer les principals normatives d&rsquo\;a
 c&uacute\;stica ambiental i arquitect&ograve\;nica</span></li>\n    <li><
 span style="font-size: 12px\; font-family: Arial\; color: #7f7f7f\;">Con&
 egrave\;ixer els principals aspectes en ac&uacute\;stica del Codi T&egrav
 e\;cnic de la Edificaci&oacute\;</span></li>\n</ul>\n<span style="font-si
 ze: 12px\; font-family: Arial\; color: #7f7f7f\;">Explicar i modelitzar l
 es metodologies correctes per als principals tipus de mesuraments\, anali
 tzant el compliment de la Llei 16/2002 i normes ISO relacionades</span>.<
 br />\n<span style="color: #7f7f7f\;"><strong><span style="font-size: 12p
 x\; font-family: Arial\;"><br />\nPROGRAMA DEL CURS (9 hores): </span></s
 trong><span style="font-size: 12px\; font-family: Arial\;"><span style="f
 ont-size: 11pt\;">s'adjunta.</span> <br />\n</span></span><span style="fo
 nt-size: 12px\; font-family: Arial\; color: #7f7f7f\;"><strong><br />\nPR
 OFESSORAT:</strong> &nbsp\;David Herrera i Olvera\, Enginyer T&egrave\;cn
 ic en Telecomunicacions i M&agrave\;ster en Ac&uacute\;stica ambiental i 
 Arquitect&ograve\;nica.</span><span style="font-size: 12px\; font-family:
  Arial\; color: #7f7f7f\;"><br />\nAntoni Perera Sans\, llicenciat en Ci&
 egrave\;ncies\, Auditor intern\, M&agrave\;ster en Sistemes de Gesti&oacu
 te\; Integral: Qualitat\, Medi Ambient i PRL .</span><span style="font-si
 ze: 11pt\; color: #333333\;"><br />\n<br />\n</span><span style="font-siz
 e: 12px\; font-family: Arial\; color: #7f7f7f\;"><strong>PREU: </strong>1
 00 &euro\;</span><span style="font-size: 12px\; font-family: Arial\; colo
 r: #7f7f7f\;"><strong><span style="background-image: none\; background-at
 tachment: scroll\; background-color: #d9d9d9\; background-position: 0% 0%
 \; background-repeat: repeat repeat\;"><br />\nCOL&middot\;LEGIATS / ASSO
 CIATS: </span></strong><span style="background-image: none\; background-a
 ttachment: scroll\; background-color: #d9d9d9\; background-position: 0% 0
 %\; background-repeat: repeat repeat\;">75 &euro\;</span></span><span sty
 le="font-size: 12px\; font-family: Arial\; color: #7f7f7f\;"><strong><br 
 />\nBONIFICACI&Oacute\; A TRAV&Eacute\;S DE LA FTFE:</strong> 100 %</span
 ><span style="font-size: 12px\; font-family: Arial\; color: #7f7f7f\;"><a
  name="OLE_LINK1"><span><strong><br />\n<br />\nCALENDARI:</strong></span
 ></a> &nbsp\;15\, 16 i 17 d'abril (de dilluns a dimecres)\, de les 17.00 
 a les 20.00 hores</span><span style="font-size: 12px\; font-family: Arial
 \; color: #7f7f7f\;"><strong><br />\n<br />\nDOCUMENTACI&Oacute\;: </stro
 ng>es lliurar&agrave\; documentaci&oacute\; de seguiment del curs.</span>
 <span style="font-size: 12px\; font-family: Arial\; color: #7f7f7f\;"><sp
 an style="font-size: 12px\;"><strong><br />\n<br />\nLLOC: </strong></spa
 n><span style="font-size: 12px\;">Avinguda de Roma\, 7 de Tarragona.</spa
 n></span><span style="font-size: 12px\; font-family: Arial\; color: #7f7f
 7f\;"><strong><br />\n<br />\nNOMBRE M&Iacute\;NIM / M&Agrave\;XIM D&rsqu
 o\;ASSISTENTS: </strong>6/25</span><span style="font-size: 12px\; font-fa
 mily: Arial\; color: #7f7f7f\;"><strong><br />\n<br />\nCERTIFICACI&Oacut
 e\;: </strong>es lliurar&agrave\; un certificat d'acreditaci&oacute\; i a
 ssist&egrave\;ncia a la finalitzaci&oacute\; de la formaci&oacute\;. Aque
 lls que sol&middot\;licitin bonificar el cus a trav&eacute\;s de la <em>F
 undaci&oacute\; Tripartita</em><em> para la Formaci&oacute\;n en el Emple
 o\, </em>tamb&eacute\; tindran un certificat em&egrave\;s per la <em>FTFE
 .</em></span><span style="font-size: 12px\; font-family: Arial\; color: #
 7f7f7f\;"><strong><br />\n<br />\nACREDITACI&Oacute\; PROFESSIONAL DPC DE
 L COGITI: </strong>aquesta formaci&oacute\; &eacute\;s competent per acre
 ditar davant del COGITI la teva formaci&oacute\;.</span><br />\n<p style=
 "text-align: justify\;">\n<span style="text-align: justify\; font-size: 1
 2px\; background-color: #ffffff\; font-family: arial\; color: #7f7f7f\;">
 <strong><strong style="text-align: center\; color: #696969\; font-family:
  'Segoe UI'\, Arial\, Tahoma\;"><span style="font-size: 11pt\;"><strong><
 span style="font-size: 12px\; font-family: Arial\; color: #7f7f7f\;"><br 
 />\n</span></strong></span></strong></strong></span></p>\n<div style="fon
 t-family: Arial\; font-size: 12px\; text-align: left\;"><strong><strong s
 tyle="text-align: center\; color: #696969\; font-family: 'Segoe UI'\, Ari
 al\, Tahoma\;"><strong><strong style="text-align: center\; color: #696969
 \; font-family: 'Segoe UI'\, Arial\, Tahoma\;"><span style="font-size: 11
 pt\;">\n<div style="padding: 1pt 4pt\; border: 1.5pt dashed windowtext\; 
 font-size: 12px\; background-color: silver\; text-align: center\;"><stron
 g><span style="font-size: 11pt\;"><br />\nFORMACI&Oacute\; BONIFICADA per
  treballadors del r&egrave\;gim general ( exclosos aut&ograve\;noms i ETT
 )</span></strong></div>\n<span style="text-align: justify\; font-size: 12
 px\; font-family: Arial\; color: #696969\;"><br />\n</span></span></stron
 g></strong></strong></strong></div>\n<strong><strong style="text-align: c
 enter\; color: #696969\; font-family: 'Segoe UI'\, Arial\, Tahoma\;"><str
 ong>\n</strong></strong>PROCEDIMENT PER BONIFICAR EL CURS A TRAV&Eacute\;
 S DE LA FUNDACI&Oacute\;N TRIPARTITA PARA LA FORMACI&Oacute\;N EN EL EMPL
 EO I EL FONDO SOCIAL EUROPEO:</strong><span style="font-size: 12px\;">\n<
 /span>\n<p>&nbsp\;</p>\n<p style="text-align: justify\;"><span style="fon
 t-size: 12px\; font-family: arial\; color: #7f7f7f\;"><span style="text-a
 lign: justify\; background-color: #ffffff\;"><span style="font-size: 12px
 \; font-family: arial\;">\n<span style="font-size: 12px\; color: #7f7f7f\
 ;">DESCARREGA'T\,&nbsp\;DES\nD'AQUESTA MATEIXA P&Agrave\;GINA\,&nbsp\;TOT
 S ELS IMPRESOS (Adhesi&oacute\; al conveni\,\ninformaci&oacute\; al RLT\,
  comprom&iacute\;s del participant i certificat de costos) i\nsegueix els
  seg&uuml\;ents passos i normes:<br />\n<br />\n</span><span style="font-
 size: 12px\; color: #7f7f7f\;">Per poder gestionar la bonificaci&oacute\;
 &nbsp\;a trav&eacute\;s&nbsp\;</span></span><span style="font-size: 12px\
 ;">\n<span style="font-size: 12px\; font-family: arial\;"><em style="colo
 r: #7f7f7f\;">Fundaci&oacute\;n Tripartita Para la Formaci&oacute\;n en e
 l Empleo</em><span style="font-size: 12px\; color: #7f7f7f\;">&nbsp\;a\nt
 rav&eacute\;s&nbsp\;dels pagaments&nbsp\;a la Seguretat Social en el TC2\
 , s'haur&agrave\; de\ncomplimentar&nbsp\;els tots els impresos que s'adju
 nten.&nbsp\;Ser&agrave\; requisit\nindispensable que TOTS estiguin firmat
 s y complimentats&nbsp\;amb bol&iacute\;graf de\ncolor BLAU\, y que la fi
 rma&nbsp\;sigui ORIGINAL.</span><br />\n<br />\n<span style="font-size: 1
 2px\; color: #7f7f7f\;">Si ho prefereix\,&nbsp\;ho pot adelantar per corr
 eo&nbsp\;electr&ograve\;nic (</span></span>\n<span style="font-size: 12px
 \; font-family: arial\;"><a href="mailto:formacio@cetit.org" style="color
 : #7f7f7f\;">formacio@cetit.org</a><span style="font-size: 12px\; color: 
 #7f7f7f\;">) amb el comprom&iacute\;s que els ORIGINALS&nbsp\;</span><spa
 n style="font-size: 12px\; color: #7f7f7f\;">com a molt tard el primer di
 a de clase els presenti.<br />\n<br />\n</span><span style="font-size: 12
 px\; color: #ff0000\;"><strong>&Uacute\;L</strong><span style="font-size:
  12px\; font-weight: bold\;">TIM DIA DE LLIURAMENT DELS IMPRESOS: 7&nbsp\
 ;dies naturals abans de l'inici del curs</span></span></span></span></spa
 n><br />\n</span></p>\n<p>\n<strong> </strong></p>
DTEND;TZID=Europe/Madrid:20130415T200000
DTSTAMP:20260421T014725Z
DTSTART;TZID=Europe/Madrid:20130415T170000
LOCATION:https://www.enginyerstarragona.cat/agenda/details/979/979-curs-bo
 nificat-sobre-acustica-ambiental-i-arq
SEQUENCE:0
SUMMARY:Curs BONIFICAT sobre AC?STICA AMBIENTAL I ARQUITECT?NICA
UID:ET_Activitat_979
URL:https://www.enginyerstarragona.cathttps://www.enginyerstarragona.cat/a
 genda/details/979/979-curs-bonificat-sobre-acustica-ambiental-i-arq
END:VEVENT
END:VCALENDAR
