BEGIN:VCALENDAR
PRODID:-//github.com/rianjs/ical.net//NONSGML ical.net 2.2//EN
VERSION:2.0
BEGIN:VEVENT
CATEGORIES:Activitats
CREATED;TZID=Europe/Madrid:20260422T055355
DESCRIPTION:<p style="text-align: justify\;"><span style="font-size: 12px\
 ; font-family: arial\; color: #7f7f7f\;"><strong>CODI CIRCULAR: 05/13</st
 rong><br />\n<br />\nLa casa MUTTSU ens ofereix la possibilitat de partic
 ipar en un curs <em>ON LINE </em>sobre DOM&Ograve\;TICA B&Agrave\;SICA.</
 span></p>\n<p style="text-align: justify\;"><span style="font-size: 12px\
 ; font-family: arial\; color: #7f7f7f\;">Aquest curs proporciona una s&eg
 rave\;rie de coneixements tecnol&ograve\;gics te&ograve\;rics\, complemen
 tats amb exercicis i q&uuml\;estionaris d'avaluaci&oacute\;\, que permete
 n que els alumnes es vagin familiaritzant amb els aspectes m&eacute\;s im
 portants de la dom&ograve\;tica\, i els productes i tecnologies associats
  a la mateixa.</span></p>\n<p style="text-align: justify\;"><strong style
 ="font-size: 12px\; color: #7f7f7f\; font-family: arial\;">DIRIGIT A: </s
 trong><span style="font-size: 12px\; font-family: arial\; color: #7f7f7f\
 ;">professionals que desenvolupin les funcions relacionades amb la dom&og
 rave\;tica\, les instal&middot\;lacions de tipus el&egrave\;ctric i d'alt
 res de l'&agrave\;mbit energ&egrave\;tic.</span><strong style="font-size:
  12px\; color: #7f7f7f\; font-family: arial\;"><br />\n<br />\nPROGRAMA D
 EL CURS (30 hores):</strong><span style="font-size: 12px\; font-family: a
 rial\; color: #7f7f7f\;"> s&rsquo\;adjunta.<strong><br />\n<br />\nPROFES
 SOR:</strong></span><span style="font-size: 12px\; font-family: arial\; c
 olor: #7f7f7f\;"> Cristhian Calafat Soriano\, Enginer T&egrave\;cnic Indu
 strial. M&agrave\;ster en control d'edificis i arquitectura &nbsp\;sosten
 ible. Certificat per la KNX Partner i expert en disseny de xarxes LonWork
 s.</span><span style="font-size: 12px\; font-family: arial\; color: #7f7f
 7f\;"></span><span style="font-size: 12px\; font-family: arial\; color: #
 7f7f7f\;"><strong><br />\n<br />\nCALENDARI:</strong> Inici el 21 de gene
 r fins el 18 de febrer. L'horari ser&agrave\; el que m&eacute\;s li convi
 ngui a l'alumne<br />\n<br />\n<strong>DOCUMENTACI&Oacute\;: </strong>a d
 isposici&oacute\; de l'alumne a la plataforma.&nbsp\;<br />\n</span><span
  style="font-size: 12px\; font-family: arial\; color: #7f7f7f\;"><strong>
 <br />\nCERTIFICACI&Oacute\;: </strong></span><span style="font-size: 12p
 x\; font-family: arial\; color: #7f7f7f\;">es lliurar&agrave\; un certifi
 cat d'acreditaci&oacute\; i assist&egrave\;ncia a la finalitzaci&oacute\;
  de la formaci&oacute\;. Aquells que sol&middot\;licitin bonificar el cus
  a trav&eacute\;s de la </span><em style="font-size: 12px\; color: #7f7f7
 f\; font-family: arial\;">Fundaci&oacute\; Tripartita</em><em style="font
 -size: 12px\; color: #7f7f7f\; font-family: arial\;"> para la Formaci&oac
 ute\;n en el Empleo\, </em><span style="font-size: 12px\; font-family: ar
 ial\; color: #7f7f7f\;">tamb&eacute\; tindran un certificat em&egrave\;s 
 per la </span><em style="font-size: 12px\; color: #7f7f7f\; font-family: 
 arial\;">FTFE.</em></p>\n<strong><span style="font-size: 12px\; font-fami
 ly: arial\; color: #7f7f7f\;">ACREDITACI&Oacute\; PROFESSIONAL DPC DEL CO
 GITI: </span></strong><span style="font-size: 12px\;">aquesta formaci&oac
 ute\; &eacute\;s competent per acreditar davant del COGITI la teva formac
 i&oacute\;.</span><br />\n<p style="margin: 0cm 0cm 0.0001pt\; text-align
 : justify\;"><span><span style="font-size: 12px\; font-family: arial\; co
 lor: #7f7f7f\;">\n</span>\n<span style="font-size: 12px\; color: #7f7f7f\
 ;"><br />\n</span></span></p>\n<p style="margin: 0cm 0cm 0.0001pt\; text-
 align: justify\;"><span style="font-size: 12px\; font-family: arial\; col
 or: #7f7f7f\;">Mes informaci&oacute\;: <a href="http://www.acreditacionco
 gitidpc.es/">http://www.acreditacioncogitidpc.es</a></span></p>\n<p style
 ="text-align: justify\;"><span style="font-size: 12px\; font-family: aria
 l\; color: #7f7f7f\;"><strong>LLOC: </strong>Avinguda de Roma\, 7 de Tarr
 agona.</span></p>\n<p><span style="font-size: 12px\; font-family: arial\;
  color: #7f7f7f\;"><strong>NOMBRE M&Iacute\;NIM / M&Agrave\;XIM D&rsquo\;
 ASSISTENTS: </strong><span style="font-size: 12px\;">6/25</span></span></
 p>\n<p><strong style="color: #7f7f7f\; font-family: arial\; font-size: 12
 px\; text-align: justify\; background-color: #d9d9d9\;">BONIFICACI&Oacute
 \; A TRAV&Eacute\;S DE LA FTFE:</strong><span style="font-size: 12px\; te
 xt-align: justify\; font-family: arial\; color: #7f7f7f\; background-colo
 r: #d9d9d9\;">&nbsp\;100 %&nbsp\;<br />\n</span><span style="font-size: 1
 2px\; text-align: justify\; font-family: arial\; color: #7f7f7f\; backgro
 und-color: #d9d9d9\;"><br />\n<strong>PROCEDIMENT PER BONIFICAR EL CURS A
  TRAV&Eacute\;S DE LA FUNDACI&Oacute\;N TRIPARTITA PARA LA FORMACI&Oacute
 \;N EN EL EMPLEO I EL FONDO SOCIAL EUROPEO:</strong></span><span style="f
 ont-size: 12px\; text-align: justify\; font-family: arial\; color: #7f7f7
 f\; background-color: #d9d9d9\;">&nbsp\;</span><span style="font-size: 12
 px\; text-align: justify\; font-family: arial\; color: #7f7f7f\; backgrou
 nd-color: #d9d9d9\;"><br />\n</span></p>\n<p style="color: #696969\; font
 -family: arial\; font-size: 11px\; text-align: justify\;"><span style="fo
 nt-size: 12px\; font-family: arial\; color: #7f7f7f\;">DESCARREGA'T\,&nbs
 p\;DES D'AQUESTA MATEIXA P&Agrave\;GINA\,&nbsp\;TOTS ELS IMPRESOS (Adhesi
 &oacute\; al conveni\, informaci&oacute\; al RLT\, comprom&iacute\;s del 
 participant i certificat de costos) i segueix els seg&uuml\;ents passos i
  normes:<br />\n<br />\nPer poder gestionar la bonificaci&oacute\;&nbsp\;
 a trav&eacute\;s&nbsp\;&nbsp\;<em>Fundaci&oacute\;n Tripartita Para la Fo
 rmaci&oacute\;n en el Empleo</em>&nbsp\;a trav&eacute\;s&nbsp\;dels pagam
 ents&nbsp\;a la Seguretat Social en el TC2\, s'haur&agrave\; de complimen
 tar tots els impresos que s'adjunten.&nbsp\;Ser&agrave\; requisit indispe
 nsable que TOTS estiguin firmats y complimentats&nbsp\;amb bol&iacute\;gr
 af de color BLAU\, y que la firma&nbsp\;sigui ORIGINAL.<br />\n<br />\nSi
  ho prefereix\,&nbsp\;ho pot adelantar per correo&nbsp\;electr&ograve\;ni
 c (&nbsp\;<a style="color: #006699\;" href="mailto:formacio@cetit.org">fo
 rmacio@cetit.org</a>) amb el comprom&iacute\;s que els ORIGINALS&nbsp\;co
 m a molt tard el primer dia de clase els presenti.<br />\n<br />\n<strong
 >&Uacute\;L</strong><span style="font-weight: bold\;">TIM DIA DE LLIURAME
 NT DELS IMPRESOS: 7&nbsp\;dies naturals abans de l'inici del curs<br />\n
 </span><br />\nQualsevol dubte o aclariment\, Laura Conde 977251877<br />
 \n</span></p>
DTEND;TZID=Europe/Madrid;VALUE=DATE:20130218
DTSTAMP:20260422T035355Z
DTSTART;TZID=Europe/Madrid;VALUE=DATE:20130121
LOCATION:https://www.enginyerstarragona.cat/agenda/details/953/953-curs-bo
 nificat-on-line-sobre-domotica-basica
SEQUENCE:0
SUMMARY:Curs BONIFICAT ON LINE sobre DOM?TICA B?SICA
UID:ET_Activitat_953
URL:https://www.enginyerstarragona.cathttps://www.enginyerstarragona.cat/a
 genda/details/953/953-curs-bonificat-on-line-sobre-domotica-basica
END:VEVENT
END:VCALENDAR
