BEGIN:VCALENDAR
PRODID:-//github.com/rianjs/ical.net//NONSGML ical.net 2.2//EN
VERSION:2.0
BEGIN:VEVENT
CATEGORIES:Activitats
CREATED;TZID=Europe/Madrid:20260425T203033
DESCRIPTION:<p style="text-align: justify\;"><span style="font-size: 10pt\
 ; color: #7f7f7f\;"><strong>CODI CIRCULAR: 31/12 A</strong><br />\n<br />
 \nL'AETIGT organitza un curs sobre <strong>RISCOS ESPEC&Iacute\;FICS EN L
 A MANIPULACI&Oacute\; DE PRODUCTES QU&Iacute\;MICS </strong>amb els seg&u
 uml\;ents objectius: </span></p>\n<p style="text-align: justify\;"> </p>\
 n<p style="text-align: justify\;"> </p>\n<ul>\n    <li><span style="color
 : #7f7f7f\;">Con&egrave\;ixer qu&egrave\; s'ent&eacute\;n per productes q
 u&iacute\;mics perillosos.</span></li>\n    <li><span style="color: #7f7f
 7f\;">Con&egrave\;ixer els diferents tipus de productes qu&iacute\;mics.<
 /span></li>\n    <li><span style="color: #7f7f7f\;">Con&egrave\;ixer les 
 vies d'entrada dels productes qu&iacute\;mics a l'organisme\, aix&iacute\
 ; com els efectes que poden ocasionar</span></li>\n    <li><span style="c
 olor: #7f7f7f\;">Identificar la perillositat dels diferents tipus de prod
 uctes qu&iacute\;mics.</span></li>\n    <li><span style="color: #7f7f7f\;
 ">Aplicar els coneixements adquirits durant la realitzaci&oacute\; de tre
 balls assegurances en la manipulaci&oacute\;\, emmagatzematge i transvasa
 ment de productes qu&iacute\;mics.</span></li>\n</ul>\n<div>\n<p style="t
 ext-align: justify\;"><strong><span style="font-size: 10pt\; color: #7f7f
 7f\;">PROGRAMA (12 HORES):</span></strong></p>\n<p style="text-align: jus
 tify\;"><strong><span style="color: #7f7f7f\;"> </span></strong></p>\n<p 
 style="vertical-align: top\;"><span style="color: #7f7f7f\;"><span style=
 "font-size: 13px\;">La prevenci&oacute\; de riscos en el maneig de produc
 tes qu&iacute\;mics:</span><br />\n<span style="font-size: 13px\;"> - Con
 ceptualitzaci&oacute\;.</span><br />\n<span style="font-size: 13px\;"> - 
 Qu&egrave\; &eacute\;s un producte qu&iacute\;mic perill&oacute\;s?</span
 ><br />\n<span style="font-size: 13px\;"> - Classificaci&oacute\; dels pr
 oductes qu&iacute\;mics perillosos.</span><br />\n<span style="font-size:
  13px\;"> - &iquest\;Com penetren els productes qu&iacute\;mics en l'orga
 nisme?</span><br />\n<span style="font-size: 13px\;"> - Efectes.</span><b
 r />\n<br />\n<span style="font-size: 13px\;"> Fonts d'informaci&oacute\;
  sobre els productes qu&iacute\;mics perillosos:</span><br />\n<span styl
 e="font-size: 13px\;"> - Quina informaci&oacute\; s'ha de con&egrave\;ixe
 r sobre els productes qu&iacute\;mics perillosos?</span><br />\n<span sty
 le="font-size: 13px\;"> - Com obtenir informaci&oacute\; sobre els produc
 tes qu&iacute\;mics perillosos?</span><br />\n<span style="font-size: 13p
 x\;"> - Principals caracter&iacute\;stiques de l'etiquetatge de productes
  qu&iacute\;mics perillosos.</span><br />\n<span style="font-size: 13px\;
 "> - Principals caracter&iacute\;stiques de la fitxa de dades de segureta
 t.</span><br />\n<br />\n<span style="font-size: 13px\;"> Emmagatzematge\
 , manipulaci&oacute\; i transvasament de productes qu&iacute\;mics:</span
 ><br />\n<span style="font-size: 13px\;"> - Normes b&agrave\;siques de se
 guretat per a la manipulaci&oacute\; de productes qu&iacute\;mics.</span>
 <br />\n<span style="font-size: 13px\;"> - Riscos i mitjans de protecci&o
 acute\; en l'emmagatzematge de productes qu&iacute\;mics.</span><br />\n<
 span style="font-size: 13px\;"> - Riscos i mesures preventives en la mani
 pulaci&oacute\; i transvasament de productes qu&iacute\;mics.<br />\n</sp
 an><br />\n<strong>PROFESSORA:&nbsp\;</strong><span style="font-family: s
 ans-serif\; font-size: 13px\;">Isabel S&aacute\;nchez Mar&iacute\;n\,&nbs
 p\;T&egrave\;cnica especialitzada en riscos.<br />\n</span>\n</span></p>\
 n<div style="text-align: left\;"><strong style="font-size: 10pt\; text-al
 ign: justify\; color: #7f7f7f\;"><span style="font-size: 10pt\;">NOMBRE M
 &Iacute\;NIM / M&Agrave\;XIM D&rsquo\;ALUMNES: </span></strong><span styl
 e="text-align: justify\; font-size: 10pt\; color: #7f7f7f\;">&nbsp\;6/ 25
 </span></div>\n<p style="font-size: 10pt\; text-align: justify\;"><strong
 ><span style="color: #7f7f7f\;"> </span></strong></p>\n<p><span style="co
 lor: #7f7f7f\;"><span style="font-size: 12px\;"><strong>FORMA DE PAGAMENT
 :</strong> Transfer&egrave\;ncia banc&agrave\;ria o ingr&eacute\;s en efe
 ctiu al n&uacute\;mero de compte</span><span style="font-size: 12px\;"> 0
 081.0088.16.0001793085 del Banc de Sabadell</span><span style="font-size:
  10pt\; font-family: 'times new roman'\;"> </span><span style="font-size:
  12px\;">(cal indicar al document justificatiu de pagament el nom de la<s
 pan style="text-decoration: underline\;"> persona assistent i el nom de l
 &rsquo\;activitat</span>). </span></span></p>\n<p style="font-size: 10pt\
 ;"> </p>\n<p><span style="font-size: 12px\; color: #7f7f7f\;">En efectiu 
 o cobrament a trav&eacute\;s del seu n&uacute\;mero de compte\, que haur&
 agrave\; de facilitar a l&rsquo\;hora de fer la inscripci&oacute\;.</span
 ></p>\n<p style="font-size: 10pt\; text-align: justify\;"><strong><span s
 tyle="color: #7f7f7f\;"> </span></strong></p>\n<p style="font-size: 10pt\
 ; text-align: justify\;"><span style="color: #7f7f7f\;"><strong><span sty
 le="font-size: 10pt\;">LLOC: </span></strong><span style="font-size: 10pt
 \;">Avinguda de Roma\, 7 de Tarragona.</span></span></p>\n<span style="co
 lor: #7f7f7f\;"><strong style="text-align: justify\; font-size: 10pt\;"><
 span style="font-size: 10pt\;">CALENDARI</span></strong><span style="text
 -align: justify\; font-size: 10pt\;">: 7\, 9 i 14 de maig (dilluns i dime
 cres) de 16 a 20 h.<br />\n</span><strong style="font-size: 10pt\;"><span
  style="font-size: 10pt\;"><br />\nPREU: </span></strong><span style="fon
 t-size: 10pt\;">110 &euro\;</span></span><span>\n<p style="font-size: 10p
 t\; text-align: justify\;"><strong><span style="color: #7f7f7f\;"> </span
 ></strong></p>\n<p style="font-size: 10pt\; text-align: justify\;"><span 
 style="color: #7f7f7f\;"><strong><span style="font-size: 10pt\;">COL&midd
 ot\;LEGIATS/ ASSOCIATS: </span></strong><span style="font-size: 10pt\;">8
 0 &euro\;&nbsp\;<br />\n<br />\n<a style="color: #7f7f7f\; text-align: ju
 stify\; background-color: #cccccc\;" name="OLE_LINK1"><strong><span>*** F
 ORMACI&Oacute\; 100 % BONIFICADA A TRAV&Eacute\;S DE&nbsp\;</span></stron
 g></a><strong style="color: #7f7f7f\; text-align: justify\; background-co
 lor: #cccccc\;"><span>LA&nbsp\;<em>FUNDACI&Oacute\;</em></span></strong><
 strong style="color: #7f7f7f\; text-align: justify\; background-color: #c
 ccccc\;"><em><span>&nbsp\;TRIPARTITA</span></em></strong><strong style="c
 olor: #7f7f7f\; text-align: justify\; background-color: #cccccc\;"><em><s
 pan>&nbsp\;FORMACI&Oacute\;N</span></em></strong><strong style="color: #7
 f7f7f\; text-align: justify\; background-color: #cccccc\;"><em><span>&nbs
 p\;EN EL EMPLEO</span></em></strong><strong style="color: #7f7f7f\; text-
 align: justify\; background-color: #cccccc\;"><span>\, SEGONS EL CR&Egrav
 e\;DIT DE LA SEVA EMPRESA ***</span></strong><br />\n<br />\n</span></spa
 n></p>\n<div style="background-color: #ffffff\; text-align: justify\;"><s
 pan style="color: #696969\;"><hr style="font-size: 10pt\; font-weight: bo
 ld\;" />\n<span style="font-size: 12px\;"><strong>\nPROCEDIMENT PER BONIF
 ICAR EL CURS A TRAV&Eacute\;S DE LA FUNDACI&Oacute\;N TRIPARTITA PARA LA 
 FORMACI&Oacute\;N EN EL EMPLEO I EL FONDO SOCIAL EUROPEO:</strong></span>
 </span><span style="font-size: 12px\;"><br />\n<br />\n<span style="color
 : #7f7f7f\;">DESCARREGA'T\,&nbsp\;DES D'AQUESTA MATEIXA P&Agrave\;GINA\,&
 nbsp\;TOTS ELS IMPRESOS (Adhesi&oacute\; al conveni\, informaci&oacute\; 
 al RLT\, comprom&iacute\;s del participant i certificat de costos) i segu
 eix els seg&uuml\;ents passos i normes:<br />\n<br />\n</span><span style
 ="font-size: 12px\; color: #7f7f7f\;">Per poder gestionar la bonificaci&o
 acute\;&nbsp\;a trav&eacute\;s&nbsp\;</span><em style="color: #7f7f7f\;">
 Fundaci&oacute\;n Tripartita Para la Formaci&oacute\;n en el Empleo</em><
 span style="font-size: 12px\; color: #7f7f7f\;">&nbsp\;a trav&eacute\;s&n
 bsp\;dels pagaments&nbsp\;a la Seguretat Social en el TC2\, s'haur&agrave
 \; de complimentar&nbsp\;els tots els impresos que s'adjunten.&nbsp\;Ser&
 agrave\; requisit indispensable que TOTS estiguin firmats y complimentats
 &nbsp\;amb bol&iacute\;graf de color BLAU\, y que la firma&nbsp\;sigui OR
 IGINAL.</span><br />\n<br />\n<span style="font-size: 12px\; color: #7f7f
 7f\;">Si ho prefereix\,&nbsp\;ho pot adelantar per correo&nbsp\;electr&og
 rave\;nic (</span><a style="color: #7f7f7f\;" href="mailto:formacio@cetit
 .org">formacio@cetit.org</a><span style="font-size: 12px\; color: #7f7f7f
 \;">) amb el comprom&iacute\;s que els ORIGINALS&nbsp\;</span><span style
 ="color: #7f7f7f\;">com a molt tard el primer dia de clase els presenti.<
 br />\n</span><br />\n<span style="color: #ff0000\;">&Uacute\;L</span><sp
 an style="color: #ff0000\;">TIM DIA DE LLIURAMENT DELS IMPRESOS: 7&nbsp\;
 dies naturals abans de l'inici del curs</span><br />\n</span>\n<hr style=
 "font-size: 10pt\; color: #696969\; font-weight: bold\;" />\n</div>\n</sp
 an>\n<p></p>\n</div>
DTEND;TZID=Europe/Madrid:20120507T200000
DTSTAMP:20260425T183033Z
DTSTART;TZID=Europe/Madrid:20120507T160000
LOCATION:https://www.enginyerstarragona.cat/agenda/details/897/897-riscos-
 especifics-en-la-manipulacio-de-produc
SEQUENCE:0
SUMMARY:RISCOS ESPEC?FICS EN LA MANIPULACI? DE PRODUCTES QU?MICS
UID:ET_Activitat_897
URL:https://www.enginyerstarragona.cathttps://www.enginyerstarragona.cat/a
 genda/details/897/897-riscos-especifics-en-la-manipulacio-de-produc
END:VEVENT
END:VCALENDAR
