BEGIN:VCALENDAR
PRODID:-//github.com/rianjs/ical.net//NONSGML ical.net 2.2//EN
VERSION:2.0
BEGIN:VEVENT
CATEGORIES:Activitats
CREATED;TZID=Europe/Madrid:20260421T151414
DESCRIPTION:<p style="text-align: justify\;"><span style="color: #7f7f7f\;
  font-size: 12px\;"><br />\n<strong>CODI CIRCULAR: 69/ 11 A</strong> <br 
 />\n<br />\nEl proper mes de desembre tindr&agrave\; lloc una sortida al 
 PALAU DE LA M&Uacute\;SICA CATALANA\, a Barcelona\, per gaudir d&rsquo\;u
 n exclusiu grup vocal d'Alabama. Abans del concert es far&agrave\; una vi
 sita guiada per les instal&middot\;lacions del Palau.<br />\n<br />\n</sp
 an><b><span style="color: #7f7f7f\; font-size: 12px\;">DATA: 17 de desemb
 re de 2011 (dissabte)<br />\n<br />\n</span></b><span style="color: #7f7f
 7f\; font-size: 12px\;">L&rsquo\;<b>itinerari </b>de la sortida ser&agrav
 e\; el seg&uuml\;ent: <br />\n<br />\n</span><span style="color: #7f7f7f\
 ; font-size: 12px\;">11.30 h &nbsp\;&nbsp\; Sortida des de Tortosa\, merc
 at del peix.<br />\n</span><span style="color: #7f7f7f\; font-size: 12px\
 ;">12.30 h &nbsp\;&nbsp\; Sortida des de Reus\, Passeig Mata (davant la r
 esid&egrave\;ncia dels jubilats).<br />\n</span><span style="color: #7f7f
 7f\; font-size: 12px\;">12.45 h&nbsp\;&nbsp\;&nbsp\; Sortida des de Tarra
 gona\, Pla&ccedil\;a Imperial T&agrave\;rraco (davant la Universitat).<br
  />\n</span><span style="color: #7f7f7f\; font-size: 12px\;"><b>DINAR EN 
 RUTA</b>. Es far&agrave\; una parada per dinar d&rsquo\;una hora aproxima
 dament.<br />\n</span><span style="color: #7f7f7f\; font-size: 12px\;">15
 .30 h &nbsp\;&nbsp\; <b>Visita guiada </b>al <b>Palau de la M&uacute\;sic
 a Catalana</b> (1 hora aproximadament).<br />\n</span><span style="color:
  #7f7f7f\; font-size: 12px\;">16.30 h&nbsp\;&nbsp\;&nbsp\; Temps lliure.<
 br />\n</span><span style="color: #7f7f7f\; font-size: 12px\;">21.30 h&nb
 sp\;&nbsp\;&nbsp\; Punt de trobada al Palau de la Musica Catalana per gau
 dir del&nbsp\;grup vocal&nbsp\;<b>&ldquo\;ALABAMA GOSPEL CHOIR&rdquo\;</b
 > (durada d&rsquo\;una hora i trenta minuts aproximadament).<br />\n<br /
 >\n</span><span style="color: #7f7f7f\; font-size: 12px\;">*** A LA FINAL
 ITZACI&Oacute\; DEL CONCERT\, TORNADA AMB LES PARADES CORRESPONENTS ***<b
 r />\n<br />\n</span><span style="font-size: 12px\;"><b><span style="colo
 r: #7f7f7f\; font-size: 12px\;">PALAU DE LA M&Uacute\;SICA CATALANA<span 
 style="font-size: 12px\; font-weight: normal\;">.</span><span style="font
 -size: 12px\; font-weight: normal\;"> Constru&iuml\;t entre 1905 i 1908 p
 er l&rsquo\;arquitecte </span><strong>Llu&iacute\;s Dom&egrave\;nech i Mo
 ntaner</strong></span></b><span style="color: #7f7f7f\; font-size: 11pt\;
 "><span style="font-size: 12px\;"> com a seu de l&rsquo\;<strong>Orfe&oac
 ute\; Catal&agrave\;</strong> i constru&iuml\;t amb fons procedents de su
 bscripci&oacute\; popular\, el Palau de la M&uacute\;sica Catalana consti
 tueix un patrimoni simb&ograve\;lic i sentimental de tot un poble que s&r
 squo\;identifica amb la seva hist&ograve\;ria.</span><br />\n</span></spa
 n><span style="color: #7f7f7f\; font-size: 12px\;">La seva sala de concer
 ts &minus\;una de les m&eacute\;s singulars del m&oacute\;n&minus\; ha es
 tat durant cent anys l&rsquo\;escenari privilegiat de la vida concert&iac
 ute\;stica\, nacional i internacional de la ciutat de Barcelona. Una perl
 a arquitect&ograve\;nica del Modernisme <span style="font-size: 12px\;">c
 atal&agrave\;</span> que ha esdevingut\, amb el pas de les d&egrave\;cade
 s\, un punt de trobada ineludible de la vida cultural i social de Catalun
 ya i que &eacute\;s\, actualment\, la &uacute\;nica sala de concerts mode
 rnista <strong>patrimoni de la Humanitat per la UNESCO</strong> (4 de des
 embre de 1997).<br />\n</span><span style="color: #7f7f7f\;"><span style=
 "font-size: 12px\;">Les darreres d&egrave\;cades\, el Palau de la M&uacut
 e\;sica Catalana ha viscut la renovaci&oacute\; i consolidaci&oacute\; de
  l&rsquo\;<strong>Orfe&oacute\; Catal&agrave\;</strong>\, la creaci&oacut
 e\; del <strong>Cor de Cambra del Palau de la M&uacute\;sica Catalana</st
 rong> (1990) i de l&rsquo\;<strong>Escola Coral de l&rsquo\;Orfe&oacute\;
  Catal&agrave\;</strong> (1999)\, i la remodelaci&oacute\; i ampliaci&oac
 ute\; de l&rsquo\;edifici modernista per l&rsquo\;arquitecte Oscar Tusque
 ts amb l&rsquo\;auditori del Petit Palau i la nova Pla&ccedil\;a del Pala
 <br />\n<br />\n</span><span style="font-size: 12px\;">El Palau de la M&u
 acute\;sica Catalana\, marc emblem&agrave\;tic de la cultura nacional de 
 principis del segle XX\, romana\, avui dia\, viu i din&agrave\;mic\, com 
 a equipament cultural obert al m&oacute\;n\, escenari de concerts de tots
  els g&egrave\;neres i estils\, actes culturals\, socials i empresarials\
 , congressos\, confer&egrave\;ncies\, exposicions\, etc. Tot un referent 
 del dinamisme art&iacute\;stic i ciutad&agrave\; de Barcelona.<br />\n<br
  />\n<span style="color: #7f7f7f\; font-size: 12px\;"><b><span style="col
 or: #7f7f7f\; font-size: 12px\;">ALABAMA GOSPEL CHOIR </span></b><span st
 yle="color: #333333\; font-size: 11pt\;"><span style="color: #7f7f7f\; fo
 nt-size: 12px\;">est&agrave\; format </span><span style="font-size: 12px\
 ;"><span style="color: #7f7f7f\;">per 30 artistes que</span> <span style=
 "color: #7f7f7f\;">aconsegueixen plasmar la hist&ograve\;ria del Gospel e
 n un recorregut &uacute\;nic a les arrels d&rsquo\;aquesta m&uacute\;sica
 </span></span><span style="color: #7f7f7f\;"> </span><span style="font-si
 ze: 12px\;"><span style="color: #7f7f7f\;">que combina la part mes</span>
  <span style="color: #7f7f7f\;">visceral amb l&rsquo\;ess&egrave\;ncia&nb
 sp\; m&eacute\;s espiritual. Es tracta d&rsquo\;un exclusiu grup vocal d&
 rsquo\;Alabama que t&eacute\; com a integrant la figura de Francine Murph
 y\, nominada als GRAMMY.<br />\n<br />\n</span></span></span></span><span
  style="color: #333333\; font-size: 11pt\;"><span style="color: #7f7f7f\;
  font-size: 12px\;"><strong>M&eacute\;s informaci&oacute\;:</strong> </sp
 an><a href="http://www.promoconcert.es/concierto_detalle.php?c=1&amp\;id=
 95"><span style="color: #7f7f7f\; font-size: 12px\;"><a href="http://www.
 promoconcert.es/concierto_detalle.php?c=1&amp\;id=95EL">http://www.promoc
 oncert.es/concierto_detalle.php?c=1&amp\;id=95</a></span></a><a href="htt
 p://www.promoconcert.es/concierto_detalle.php?c=1&amp\;id=95EL"></a></spa
 n><span style="color: #7f7f7f\; font-size: 12px\;"><strong><br />\n<br />
 \nEL PREU INCLOU: </strong>(trasllat en autocar\, autopistes\, visita gui
 ada al Palau de la M&uacute\;sica i l&rsquo\;acutaci&oacute\; del grup vo
 cal ALABAMA GOSPEL CHOIR).</span> <br />\n<br />\n<span style="color: #7f
 7f7f\; font-size: 12px\;"><b><span style="color: #7f7f7f\; font-size: 12p
 x\;">FORMA DE PAGAMENT:</span></b><span style="color: #7f7f7f\; font-size
 : 11pt\;"> <span style="font-size: 12px\;">Transfer&egrave\;ncia banc&agr
 ave\;ria o ingr&eacute\;s en efectiu al n&uacute\;mero de compte 0081.008
 8</span>.<span style="font-size: 12px\;">16.0001793085 del Banc de Sabade
 ll\, (cal indicar al document</span> <span style="font-size: 12px\;">just
 ificatiu de pagament <span style="text-decoration: underline\;">el nom de
  la persona assistent i el nom de l&rsquo\;activitat</span>)<b>.<br />\n<
 br />\n</b></span></span></span><span style="color: #7f7f7f\; font-size: 
 12px\;"><strong>*** PER MOTIUS DE RESERVA DE LOCALITATS &Eacute\;S MOLT I
 MPORTANT COMPLIR AMB&nbsp\;EL TERMINI D'INSCIPCI&Oacute\;&nbsp\;***</stro
 ng></span></span></span></p>
DTEND;TZID=Europe/Madrid:20111217T180000
DTSTAMP:20260421T131414Z
DTSTART;TZID=Europe/Madrid:20111217T090000
LOCATION:https://www.enginyerstarragona.cat/agenda/details/853/853-palau-d
 e-la-musica-catalana-alabama-gospel-ch
SEQUENCE:0
SUMMARY:PALAU DE LA M?SICA CATALANA. ALABAMA GOSPEL CHOIR
UID:ET_Activitat_853
URL:https://www.enginyerstarragona.cathttps://www.enginyerstarragona.cat/a
 genda/details/853/853-palau-de-la-musica-catalana-alabama-gospel-ch
END:VEVENT
END:VCALENDAR
