BEGIN:VCALENDAR
PRODID:-//github.com/rianjs/ical.net//NONSGML ical.net 2.2//EN
VERSION:2.0
BEGIN:VEVENT
CATEGORIES:Activitats
CREATED;TZID=Europe/Madrid:20260422T075934
DESCRIPTION:<b>CODI CIRCULAR: 38/09</b><br><br>S'ha organitzat una confer?
 ncia que porta com a t?tol <b>LA UNIVERSITAT ROVIRA I VIRGILI I EL PROC?S
  DE BOLONYA.</b> <br><br>\n\nAquesta confer?ncia anir? a c?rrec del Recto
 r de la Universitat Rovira i Virgili\, el Dr. Francesc Xavier Grau Vidal\
 , i del Deg? del CETIT\, el Sr. Santiago Crivill? Andreu.<br><br>\n\n<b>D
 ATA:</b> 26 de maig de 2009 (dimarts).<br><br>\n\n<b>HORARI:</b> 19.30 h.
 <br><br>\n\n<b>LLOC:</b> A la seu del CETIT\, Av. de Roma\, 7 de Tarragon
 a i transm?s per videoconfer?ncia a les instal?lacions de les Terres de l
 'Ebre\, carrer Mercaders\, 2 de Tortosa.<br><br>\n\n<b>CONFIRMACI? D'ASSI
 ST?NCIA: </b>a l'administraci? del Col?legi al tel. 977 251 877 o 902 076
  777 o a trav?s de l'adre?a electr?nica formacio@cetit.org.<br><br>\n\n<b
 >TERMINI D'INSCRIPCI?</b>: 22 de maig de 2009 o fins completar-se l'afora
 ment m?xim de la Sala d'Actes.<br><br>\n\n<b>INSCRIPCI? GRATU?TA.</b>
DTEND;TZID=Europe/Madrid;VALUE=DATE:20090526
DTSTAMP:20260422T055934Z
DTSTART;TZID=Europe/Madrid;VALUE=DATE:20090525
LOCATION:https://www.enginyerstarragona.cat/agenda/details/712/712-confere
 ncia-la-universitat-rovira-i-virgili-i
SEQUENCE:0
SUMMARY:Confer?ncia LA UNIVERSITAT ROVIRA I VIRGILI I EL PROC?S DE BOLONYA
UID:ET_Activitat_712
URL:https://www.enginyerstarragona.cathttps://www.enginyerstarragona.cat/a
 genda/details/712/712-conferencia-la-universitat-rovira-i-virgili-i
END:VEVENT
END:VCALENDAR
