BEGIN:VCALENDAR
PRODID:-//github.com/rianjs/ical.net//NONSGML ical.net 2.2//EN
VERSION:2.0
BEGIN:VEVENT
CATEGORIES:Activitats
CREATED;TZID=Europe/Madrid:20260422T021050
DESCRIPTION:<b>Fundaci? UPC</b><br><br>\n\n<b>OBJECTIU: </b><br>Analitzar\
 , orientar i definir la cadena log?stica en els sectors industrials\, de 
 distribuci? i de serveis. <br>\n\nDissenyar\, implantar i gestionar les r
 elacions log?stiques entre prove?dors\, empreses\, operadors log?stics\, 
 clients i consumidor final. <br>\nAdquirir els coneixements adequats per 
 a gestionar la log?stica d'una forma integrada. <br>\nDesenvolupar habili
 tats directives de relaci? que propicien la cooperaci? i el treball en eq
 uip\, i aportar eines ?tils per a una millor gesti? del temps i organitza
 ci? del treball. <br><br>\n\n<b>DURADA: </b>200 h (150 presencials i 50 d
 e projecte)<br><br>\n\n<b>INICI:</b> 5 de novembre de 2007<br>\n<b>FINALI
 TZACI?:</b>  juny 2008<br><br>\n<b>\nPREU: </b>2500 ? <br>\n<b>LLOC DE RE
 ALITZACI?:</b> Terrassa ( edifici citm).<br><br>\n\n<b>PER A M?S INFORMAC
 I?: </b><br>\n\nFundaci? UPC\, Sra. Carme Huguet\, tel. 93739 86 12\n
DTEND;TZID=Europe/Madrid;VALUE=DATE:20071105
DTSTAMP:20260422T001050Z
DTSTART;TZID=Europe/Madrid;VALUE=DATE:20071104
LOCATION:https://www.enginyerstarragona.cat/agenda/details/539/539-program
 a-de-postgrau-en-logistica-integral-su
SEQUENCE:0
SUMMARY:PROGRAMA DE POSTGRAU EN LOG?STICA INTEGRAL. SUPPLY CHAIN MANAGEMENT
UID:ET_Activitat_539
URL:https://www.enginyerstarragona.cathttps://www.enginyerstarragona.cat/a
 genda/details/539/539-programa-de-postgrau-en-logistica-integral-su
END:VEVENT
END:VCALENDAR
