BEGIN:VCALENDAR
PRODID:-//github.com/rianjs/ical.net//NONSGML ical.net 2.2//EN
VERSION:2.0
BEGIN:VEVENT
CATEGORIES:Activitats
CREATED;TZID=Europe/Madrid:20260422T111115
DESCRIPTION:Un any m?s us informem de les Segones Jornades sobre L'ACTUACI
 ? DEL PERIT EN L'?MBIT JUR?DIC. El CETIT ?s el primer col?legi que promou
  aquest tipus de formaci?.<br><br>\nAquestes jornades que inaugur?rem l?a
 ny passat i que es repetiran cada any tenen un valor afegit que volem que
  tinguis present: van dirigides a uns objectius molt concrets que s?n pre
 stigiar el col?lectiu i evitar l'intrusisme d'altres col?lectius. <br><br
 >\nLa compet?ncia davant associacions de perits i d'altres fa que vulguem
  prestigiar el perit judicial enginyers t?cnics industrial comen?ant per 
 la formaci?.<br><br>\nPer inscriure's a les llistes de Perits Judicials d
 el Departament de Just?cia i Interior de la Generalitat de Catalunya (que
  es demanen peri?dicament al CETIT i que aquest regula) caldr? haver pass
 at per la formaci? d'aquestes Jornades\, que ser? obligat?ria per a tots 
 els qui s'hi dediquin a partir de l'any 2000. Creiem\, per?\, que\, a m?s
  dels qui s'hi dediquen o els que s'hi volen dedicar\, l'assist?ncia ?s p
 rofitosa per a tothom.<br><br>\n<b>Programa</b><br><br>\n30 de maig de 20
 07<br><br>\n17.00 h	Presentaci? a c?rrec del deg? del CETIT.<br>\n17.15 h
 	La intervenci? del perit: pericials de part i pericials judicials. ?mbit
  civil i penal.<br>\n17.30 h	El perit en la Llei d'enjudiciament civil.<b
 r>\n18.15 h	Col?loqui.<br><br>\n\n31 de maig de 2007<br><br>\n\n17.00 h	L
 a valoraci? del dictamen.<br>\n17.15 h	Forma de dictamen.<br>\n17.30 h	Re
 sponsabilitat del perit.<br>\n18.15 h	Col?loqui.<br><br>\n\n<b>Ponents:</
 b><br><br>\n\n-	Sr. Francisco Jos? Revuelta Mu?oz. Magistrat Jutge de Ins
 trucci? n?m. 4 de Tarragona.<br>\n-	Sr. Ferran Huidobro Menci?. Advocat a
 ssociat d'AGL ADVOCATS . Exdirector de l'Escola de Pr?ctica Jur?dica del 
 Col?legi d'Advocats i assessor de diverses companyies d'assegurances.<br>
 <br>\n\n\n\n\n\n\n\n\n\n\n\n\n\nEs lliurar?  document acreditatiu d'assis
 t?ncia. <br><br>\n\n<b>LLOC</b>: Seu del CETIT a Tarragona\, Av. de Roma\
 , 7\, i transm?s per videoconfer?ncia a les instal?lacions de les Terres 
 de l'Ebre\, carrer Mercaders\, 2 de Tortosa.<br><br>\n\n<b>CONFIRMACI? D'
 ASSIST?NCIA:</b> ?s necessari confirmar l'assist?ncia a l'administraci? d
 el Col?legi al tel?fon 977 251 877 o a trav?s de l'adre?a electr?nica for
 macio@cetit.org.<br><br>\n\n<b>INSCRIPCI? GRATU?TA.</b><br><br>\n\nEl tem
 a ?s prou important des del punt de la defensa de la professi? i esperem 
 que el trobeu interessant.<br><br>\n
DTEND;TZID=Europe/Madrid;VALUE=DATE:20070531
DTSTAMP:20260422T091115Z
DTSTART;TZID=Europe/Madrid;VALUE=DATE:20070530
LOCATION:https://www.enginyerstarragona.cat/agenda/details/524/524-segones
 -jornades-sobre-lactuacio-del-perit-en
SEQUENCE:0
SUMMARY:Segones jornades sobre l'ACTUACI? DEL PERIT EN L'?MBIT JUR?DIC
UID:ET_Activitat_524
URL:https://www.enginyerstarragona.cathttps://www.enginyerstarragona.cat/a
 genda/details/524/524-segones-jornades-sobre-lactuacio-del-perit-en
END:VEVENT
END:VCALENDAR
