BEGIN:VCALENDAR
PRODID:-//github.com/rianjs/ical.net//NONSGML ical.net 2.2//EN
VERSION:2.0
BEGIN:VEVENT
CATEGORIES:Activitats
CREATED;TZID=Europe/Madrid:20260421T034642
DESCRIPTION:L'<b>objectiu </b>d'aquest curs ?s que l'alumne pugui aprendre
  i practicar les estructures gramaticals de la llengua anglesa que corres
 pongui segons el seu nivell. Aix? doncs\, a les classes on line podr? esc
 oltar i practicar la pronunciaci? de l'idioma i a les classes presencials
  podr? practicar la pronunciaci? i la conversa.<br><br>\n<b>CONTINGUT:</b
 >  el contingut del curs ?s diferent per a cada nivell\, per? sempre est?
  format\, d'una banda amb continguts gramaticals (explicaci? i exercicis)
  i\, per l'altra\,  d'una classe presencial de conversa d ?una hora a la 
 setmana.<br><br>\n<b>PROFESSOR:</b> els professors que atendran les class
 es de conversa s?n llicenciats en filologia anglogerm?nica (especialitat 
 filologia anglesa) amb molta experi?ncia impartint cursos d'angl?s.<br><b
 r>\n<b>DATA I HORARI: </b>maig i juny\, tots els dilluns de 19 a 21 hores
 .<br><br>\n<b>TERMINI D'INSCRIPCI? I PAGAMENT: </b>2 de maig de 2007 o fi
 ns completar-se el nombre m?xim d'assistents.<br><br>\n<b>NOMBRE D'ASSIST
 ENTS:</b> grups de 10 alumnes. Si s'arriba a un nombre suficient per fer 
 dos grups\, el segon es far? en dimecres\, amb el mateix horari i lloc de
  realitzaci?.<br><br>\n\n<b>LLOC: </b> Av. de Roma\, 7 de Tarragona.<br><
 br>\n\n<b>PREU COL?LEGIAT/NO COL?LEGIAT:</b> 85/95 ?<br><br>\n<b>\n***NOT
 A***: </b>Abans de fer el pagament cal verificar si resten places. No es 
 considerar? ferma la inscripci? si el pagament no es fa efectiu abans del
  termini. <br><br>\n\n<b>FORMA DE PAGAMENT: </b>Transfer?ncia banc?ria o 
 ingr?s en efectiu al n?mero de compte 2073.0074.34.0110965962 de la Caixa
  de Tarragona\, (cal indicar al document justificatiu de pagament el nom 
 de la persona assistent i el nom de l'activitat).<br><br>\n\n<b>CONFIRMAC
 I? D'ASSIST?NCIA:</b> a l'administraci? del Col?legi al 977 251 877 o 902
  076 777\, tamb? a l'adre?a electr?nica formacio@cetit.org.\n\n
DTEND;TZID=Europe/Madrid;VALUE=DATE:20070514
DTSTAMP:20260421T014642Z
DTSTART;TZID=Europe/Madrid;VALUE=DATE:20070513
LOCATION:https://www.enginyerstarragona.cat/agenda/details/513/513-curs-an
 gles-semipresencial
SEQUENCE:0
SUMMARY:Curs ANGL?S SEMIPRESENCIAL
UID:ET_Activitat_513
URL:https://www.enginyerstarragona.cathttps://www.enginyerstarragona.cat/a
 genda/details/513/513-curs-angles-semipresencial
END:VEVENT
END:VCALENDAR
