BEGIN:VCALENDAR
PRODID:-//github.com/rianjs/ical.net//NONSGML ical.net 2.2//EN
VERSION:2.0
BEGIN:VEVENT
CATEGORIES:Activitats
CREATED;TZID=Europe/Madrid:20260425T051116
DESCRIPTION:<b>AULA MEDI AMBIENT</b><br>\nSistema de formaci? on line amb 
 cursos de durada fixa\, segons el calendari\ndefinit per a cada edici?\, 
 amb total llibertat d'horari i lloc d'estudi.\nCompta amb el suport d'un 
 campus virtual propi\, entorn d'aprenentatge amb\nfuncionalitats d'inform
 aci?\, comunicaci? i formaci?\, tutoria i consultors\,\nexperts en la mat
 ?ria\, i amb materials espec?ficament dissenyats per aquest\ntipus d'apre
 nentatge\, inclosos amb el curs.<br><br>\n\nEspecialitzaci? en Mediambien
 t amb total accessibilitat i flexibilitat<br>\nSense horaris<br>\nSense d
 espla?aments<br>\nAl teu ritme<br><br>\n\n<b>"SISTEMES DE GESTI? MEDIAMBI
 ENTAL A L'EMPRESA"</b><br>\nCurs destinat a con?ixer les eines que l'admi
 nistraci? posa a l'abast de\nl'empresa per a la millora de la gesti? medi
 ambiental\, valorant l'impacte\nambiental i desenvolupant un programa ade
 quat i benefici?s per\nl'organitzaci? i el medi: ISO 14000\, EMAS i Ecoet
 iquetes.<br><br>\n   Modalitat: On line<br>\n   Durada: 50 hores<br>\n   
 Calendari: abril 2006 a juny 2006<br>\n   Preu: 125?<br><br>\n\n<b>Temari
 :</b><br><br>\n\n1. Activitats i mediambient<br>\n1.1 Desenvolupament sos
 tenible<br>\n1.2 Prevenci? i control integrats<br>\n1.3 Impacte sobre el 
 medi ambient: Contaminaci? atmosf?rica . Soroll.<br>\nResidus . Aig?es<br
 ><br>\n\n2. Sistemes de gesti? mediambiental<br>\n2.1 SGMA<br>\n2.2 ISO 1
 4001<br>\n2.3 EMAS<br>\n2.4 Pol?tica mediambiental<br>\n2.5 An?lisi media
 mbiental inicial<br>\n2.6 Objectius i fites<br>\n2.7 Programa de gesti? m
 ediambiental<br>\n2.8 Documentaci?<br>\n2.9 Auditoria mediambiental<br>\n
 2.10 Declaraci? ambiental<br>\n2.11 Verificaci? i registre<br><br>\n\n3. 
 Etiquetes ecol?giques<br>\n3.1 Distintiu de garantia de qualitat ambienta
 l<br>\n3.2 Etiqueta ecol?gica de la UE<br><br>\n\n\n\nPer inscriure's o q
 ualsevol altra consulta addicional\, contactar a:<br>\nIMFE "Mas Carandel
 l"<br>\nTel 977 33 18 37<br>\nC/ Terol 1 43202n Reus<br>\n   Pilar Guti?r
 rez<br>\n   pgutierrez@imfe.org<br>\n\n
DTEND;TZID=Europe/Madrid;VALUE=DATE:20060630
DTSTAMP:20260425T031116Z
DTSTART;TZID=Europe/Madrid;VALUE=DATE:20060629
LOCATION:https://www.enginyerstarragona.cat/agenda/details/417/417-sisteme
 s-de-gestio-mediambiental-a-lempresa
SEQUENCE:0
SUMMARY:SISTEMES DE GESTI? MEDIAMBIENTAL A L'EMPRESA
UID:ET_Activitat_417
URL:https://www.enginyerstarragona.cathttps://www.enginyerstarragona.cat/a
 genda/details/417/417-sistemes-de-gestio-mediambiental-a-lempresa
END:VEVENT
END:VCALENDAR
