BEGIN:VCALENDAR
PRODID:-//github.com/rianjs/ical.net//NONSGML ical.net 2.2//EN
VERSION:2.0
BEGIN:VEVENT
CATEGORIES:Activitats
CREATED;TZID=Europe/Madrid:20260420T074141
DESCRIPTION:S'ha preparat un viatge a Ast?ries del <u><b>7 al 13 d'abril d
 e 2006 </b></u> que creiem que  pot ser del vostre inter?s\,  amb col?lab
 oraci? amb el Col?legi d'Ast?ries.<br><br>\n<b>ITINERARI del viatge  (hor
 aris aproximats)</b><br><br>\n<b>Divendres 7 d'abril </b><br><br>\nEl via
 tge es realitzar? amb la companyia d'autocars HIFE\, i les sortides seran
  des de: <br><br>\n13.30 h  	A la parada HIFE de l'estaci? d'autobusos de
  <b>Tortosa. </b><br>\n14.30 h		Davant del Club Nataci? Reus Ploms\, Av. 
 M. Fortuny\, 5\, <b>Reus.</b><br>\n14.45 h 		Pla?a Imperial Tarraco\, dav
 ant la Universitat\, <b>Tarragona.</b><br>\n21.45 h		Arribada a <b>Bilbao
 \,</b>  sopar lliure i allotjament a l'hotel.<br><br>\n\n<b>Dissabte  8 d
 'abril </b><br><br>\n\nEsmorzar a l'hotel\, es seguir? el viatge cap a Gi
 j?n\, dinar\, sopar i allotjament incl?s a l'hotel. Tarda lliure.<br><br>
 \n<b>\nDiumenge 9 d'abril </b><br><br>\nEsmorzar a l'hotel\, trasllat a O
 viedo\, visita lliure per la ciutat.<br>\n<b>Es suggereix visitar:</b> ?C
 atedral\, C?mara Santa\, Casco  Antiguo en general\, Museo de Bellas Arte
 s? i altres llocs com el ?Parque de San Francisco\, sede del Gobierno de 
 Asturias\, Teatro Campoamor? ... <br>\nDinar men? degustaci? al Restauran
 t  RAITAN\, i a la tarda visitarem les Ermites de ?San Juli?n de los Prad
 os y el conjunto de las de Santa Maria del Naranco y San Miguel de Lillo?
 .<br>\nTornada cap a Gij?n. Sopar lliure.<br><br>\n\n<b>Dilluns 10 d'abri
 l </b><br><br>\n\nEsmorzar a l'hotel\, trasllat a ?Covadonga\, visita al 
 Santuario y Cueva\, Cangas de Onis?\, visita a la ciutat i el pont\, dina
 r al Parador Nacional\, tornada a Gij?n passant pel t?pic poble de ?Lastr
 es? i vista panor?mica desde l' ?Ermita de San Roque?.\nSopar t?pic ?ESPI
 CHA?\, ofert pel Colegio de Asturias.<br><br>\n\n<b>Dimarts 11 d'abril</b
 ><br><br>\n\nEsmorzar a l'hotel\, trasllat a Entrego per a visitar el ?Mu
 seo de la Miner?a?\, tornada a Gij?n\, dinar per lliure\, a la tarda visi
 ta a Gij?n organitzada pel Col?legi d'Ast?ries\, sopar a l'hotel.<br><br>
 \n\n<b>Dimecres 12 d'abril </b><br><br>\n\nEsmorzar a l'hotel visita al  
 ?Jard?n Bot?nico de Gij?n?\, dinar en ruta i sortida cap a Logro?o\, allo
 tjament a l'hotel\, sopar per lliure.<br><br>\n\n<b>Dijous 13 d'abril </b
 ><br><br>\n\nEsmorzar a l'hotel i sortida cap a Tarragona. <br>\nArribada
  a les 14.00 hores aproximadament.<br><br>\n\n<b>PREU COL?LEGIATS I FAMIL
 IARS DIRECTES (esp?s/sa\, fills): </b>440 ? / persona.<br>\n<b>Si resten 
 places el PREU PER ALS NO COL?LEGIATS: </b>500 ? / persona.<br><br>\n\n<b
 >El preu inclou: </b><br>\n\nTrasllat en un c?mode autocar de la companyi
 a HIFE.<br>\nHotel 4 * a Bilbao: allotjament i esmorzar.<br>\nHotel 3* a 
 Gij?n: 2 allotjaments i esmorzars\, 1 pensi? completa\, una mitja pensi?.
 <br>\n3 dinars: Restaurant Raitan\,  Parador de Cangas i el dinar en ruta
  del dia 12 d'abril <br>\nHotel 3* a Logro?o:  allotjament i esmorzar.<br
 >\nGuia acompanyant durant tot el recorregut. <br>\nAsseguran?a de viatge
 .<br><br>\n\n<b>NOMBRE M?NIM D'INSCRIPCIONS: </b> per poder realitzar aqu
 est viatge es demana m?nim 30 assistents.<br><br>\n\n<b>TERMINI D'INSCRIP
 CI? I DE PAGAMENT:</b> 23 de mar?  de 2006.<br><br>\n<b>\n***NOTA***: </b
 >Abans de fer el pagament cal verificar si resten places. No es considera
 r? ferma la inscripci? si el pagament no es fa efectiu abans del termini.
  <br><br>\n\n<b>FORMA DE PAGAMENT: </b>Transfer?ncia banc?ria o ingr?s en
  efectiu al n?mero de compte 0081.0088.19.0001081810\, del Banc de Sabade
 ll (cal indicar al document justificatiu de pagament el nom de la persona
  assistent i el nom de l'activitat).<br><br>\n\n<b>CONFIRMACI? D'ASSIST?N
 CIA:</b> ?s necessari confirmar l'assist?ncia a l'administraci? del Col?l
 egi al  977 251 877 o 902 076 777 o a trav?s de l'adre?a electr?nica form
 acio@cetit.org.\n
DTEND;TZID=Europe/Madrid;VALUE=DATE:20060413
DTSTAMP:20260420T054141Z
DTSTART;TZID=Europe/Madrid;VALUE=DATE:20060412
LOCATION:https://www.enginyerstarragona.cat/agenda/details/404/404-viatge-
 de-setmana-santa-a-asturies
SEQUENCE:0
SUMMARY:VIATGE DE SETMANA SANTA A AST?RIES
UID:ET_Activitat_404
URL:https://www.enginyerstarragona.cathttps://www.enginyerstarragona.cat/a
 genda/details/404/404-viatge-de-setmana-santa-a-asturies
END:VEVENT
END:VCALENDAR
