BEGIN:VCALENDAR
PRODID:-//github.com/rianjs/ical.net//NONSGML ical.net 2.2//EN
VERSION:2.0
BEGIN:VEVENT
CATEGORIES:Activitats
CREATED;TZID=Europe/Madrid:20260425T150319
DESCRIPTION:TQ TECNOTERMIC / TRICAPA<br>\nTQ TERMOIMPACTO/PE<br><br><br>\n
 <b>\nOBJECTIUS</b><br>\nDesenvolupar els diferents coneixements sobre a?l
 laments t?rmics i ac?stics al soroll d'impacte<br><br>\n<b>PROGRAMA</b><b
 r>\nLa jornada t?cnica es dividir? en :<br>\n1. A?llament t?rmic per refl
 exi? i a?llament ac?stic al soroll d'impacte<br>\n1.1 Mecanismes de trans
 missi? de la calor <br>\n1.2 Estalvi energ?tic a l'habitatge <br>\n1.3 A?
 llament per massa vs a?llament per reflexi? <br><br>\n2. Solucions en a?l
 lament t?rmic per reflexi? i ac?stic a soroll d'impacte<br>\n2.1 TQ TECNO
 TERMIC I TQ TECNOTERMIC TRIPACA <br>\n2.2 TQ TERMOIMPACTO I TQ TERMOIMPAC
 TO PE<br><br>\n\n<b>PROFESSOR:</b> D. Miguel ?ngel P?rez\, Enginyer Qu?mi
 c del Dep. I+D TECNOL<br><br>\n\n<b>HORARI</b>: 18 a 20 hores<br>\n <b>LL
 OC DE REALITZACI?</b>:  Col?legi d'Arquitectes T?cnics de Tarragona\, Sal
 a d'Actes\; Av. President Maci?\, 6\, 1r de Tarragona <br>\ntel./fax 977 
 212 799 / 977 224 152\n
DTEND;TZID=Europe/Madrid;VALUE=DATE:20051103
DTSTAMP:20260425T130319Z
DTSTART;TZID=Europe/Madrid;VALUE=DATE:20051102
LOCATION:https://www.enginyerstarragona.cat/agenda/details/360/360-aillame
 nt-termic-per-reflexio
SEQUENCE:0
SUMMARY:A?LLAMENT T?RMIC PER REFLEXI?
UID:ET_Activitat_360
URL:https://www.enginyerstarragona.cathttps://www.enginyerstarragona.cat/a
 genda/details/360/360-aillament-termic-per-reflexio
END:VEVENT
END:VCALENDAR
