BEGIN:VCALENDAR
PRODID:-//github.com/rianjs/ical.net//NONSGML ical.net 2.2//EN
VERSION:2.0
BEGIN:VEVENT
CATEGORIES:Activitats
CREATED;TZID=Europe/Madrid:20260424T065449
DESCRIPTION:<b>OBJECTIUS</b><br>\nProporcionar als assistents una visi? ge
 neral de les tend?ncies m?s actuals en naus industrials\, tant dels aspec
 tes estructurals i tecnol?gics com funcionals. <br>\nCapacitar per aborda
 r seguretat i confian?a qualsevol intervenci? relacionada amb naus indusr
 ilas\, una vegada finalitzi aquest curs. <br><br>\n<b>CONTINGUT</b><br>\n
 Naus industrials<br>\nNaus de formigo <br>\nNaus met?l?liques<br>\nFoname
 nts <br>\nPonts grua <br>\nTancaments<br>\nProtecci? contra la corrosi? <
 br>\nProtecci? contra el foc <br>\nPaviments <br>\nInstal?lacions<br>\nIn
 stal?lacions mec?niques <br><br>\n\n<b>PROFESSOR:</b> Francesc L?pez Alma
 nsa\, Professor titulaR de l'UPC. Doctor Enginyer de Camins <br><br>\n\n<
 b>LLOC DE REALITZACI?: </b> A la seu del CETIT\, Av. de Roma\, 7 de Tarra
 gona.<br><br>\n\n<b>CALENDARI:</b> Del 4 d'octubre al 15 de novembre de 2
 005\, DIMARTS I DIJOUS\,  de 17.30 a 21.30 hores<br><br>\n<b>NOMBRE M?NIM
  D'ASSISTENTS</b>: 18 assistents <br>\n<b>PREU COL?LEGIAT / NO COL?LEGIAT
 </b>: 650 / 725 ?<br><br>\n\n\n\n\n<b>DURADA: </b> 48 h <br><br>\n<b>FORM
 A DE PAGAMENT</b>: Transfer?ncia banc?ria o ingr?s en efectiu al n?mero d
 e compte 0081.0088.19.0001081810\, del Banc de Sabadell (?s necessari ind
 icar al document justificatiu de pagament el nom de la persona assistent 
 i el nom de l'activitat) \nNOTA: No es considerar? ferma la inscripci? fi
 ns que el pagament no sigui efectiu. Abans de realitzar el pagament cal v
 erificar si resten places.<br><br>\n\n<b>CONFIRMACI? D'ASSIST?NCIA</b>: ?
 s necessari confirmar l'assist?ncia a l'administraci? del Col?legi al  97
 7 251 877 o 902 076 777 i\, si ho prefereixes\, tamb? ho pots fer a trav?
 s de la nova adre?a electr?nica formacio@cetit.org (la teva inscripci? no
  ser? efectiva fins que es rebi la confirmaci? per part del Col?legi). <b
 r><br>\n\n<b>TERMINI D'INSCRIPCI?</b>: 10 dies abans de l'inici del curs\
 n\n\n\n
DTEND;TZID=Europe/Madrid;VALUE=DATE:20051004
DTSTAMP:20260424T045449Z
DTSTART;TZID=Europe/Madrid;VALUE=DATE:20051003
LOCATION:https://www.enginyerstarragona.cat/agenda/details/339/339-disseny
 -de-naus-industrials
SEQUENCE:0
SUMMARY:DISSENY DE NAUS INDUSTRIALS
UID:ET_Activitat_339
URL:https://www.enginyerstarragona.cathttps://www.enginyerstarragona.cat/a
 genda/details/339/339-disseny-de-naus-industrials
END:VEVENT
END:VCALENDAR
