BEGIN:VCALENDAR
PRODID:-//github.com/rianjs/ical.net//NONSGML ical.net 2.2//EN
VERSION:2.0
BEGIN:VEVENT
CATEGORIES:Activitats
CREATED;TZID=Europe/Madrid:20260420T092857
DESCRIPTION:El parc aqu?tic i el dofinari  AQUOPOLIS COSTA DAURADA ens ofe
 reix la possibilitat d'aconseguir millores substancials per l'acc?s a les
  seves instal?lacions amb targetes preferents per a cada col?legiat <br><
 br>\n\n?s una tarja v?lida per al titular i dos acompanyants\, s'obtindr?
  un descompte de <b>tres euros  amb cinquanta c?ntims (3\,5 ?) </b>\nper 
 persona totes les vegades que vulgui visitar el parc durant l'any 2005. A
   m?s a m?s\, enguany podreu gaudir del 10 % de descompte en totes les bo
 tigues aquopolis <br><br>\n\nLes instal?lacions del parc aqu?tic que ofer
 eixen aquest descompte s?n les seg?ents: <br>\n\n\n\nVILLANUEVA DE LA CA?
 ADA (MADRID)<br>\nSAN FERNANDO  DE HENARES (MADRID)<br>\nCOSTA DAURADA (L
 A PINEDA - TARRAGONA)<br>\nSEVILLA<br>\nTORREVIEJA <br>\nCULLERA (VAL?NCI
 A)<br>\nCARTAYA (HUELVA)<br><br>\n<br>\n\n\n<b>Aquestes targetes les rebr
 eu properament a la vostra adre?a particular</b>\n\n\n\n
DTEND;TZID=Europe/Madrid;VALUE=DATE:20050915
DTSTAMP:20260420T072857Z
DTSTART;TZID=Europe/Madrid;VALUE=DATE:20050914
LOCATION:https://www.enginyerstarragona.cat/agenda/details/324/324-targete
 s-preferents-aquopolis
SEQUENCE:0
SUMMARY:TARGETES PREFERENTS AQUOPOLIS
UID:ET_Activitat_324
URL:https://www.enginyerstarragona.cathttps://www.enginyerstarragona.cat/a
 genda/details/324/324-targetes-preferents-aquopolis
END:VEVENT
END:VCALENDAR
