BEGIN:VCALENDAR
PRODID:-//github.com/rianjs/ical.net//NONSGML ical.net 2.2//EN
VERSION:2.0
BEGIN:VEVENT
CATEGORIES:Activitats
CREATED;TZID=Europe/Madrid:20260419T173626
DESCRIPTION:An?lisi de la situaci?\, regularitzaci? (llei del sector el?ct
 ric\, decrets de govern central 1955/200 i de la Generalitat 329/2001) i 
 problem?tica del sector: generaci?\, transport\, distribuci? i comerciali
 tzaci? amb atenci? especial a la prov?ncia de Tarragona i a la qualitat d
 el subministrament. <br>\n<br>\n<b>LLOC DE REALITZACI?:</b>\n a la seu de
 l Centre Universitari Dr. Many?\, Cam? de Bret?nia\, 5 de Tortosa<br>\n<b
 r>\n<b>CONFIRMACI? D'ASSISTENCIA: </b>\nCal confirmar l'assistencia a la 
 secretaria del Col?legi al 902076777<br>\n<br>\n<b>PONENT: </b>\nSr. Anto
 ni Mercader Pou\, Supervisor
DTEND;TZID=Europe/Madrid;VALUE=DATE:20030613
DTSTAMP:20260419T153626Z
DTSTART;TZID=Europe/Madrid;VALUE=DATE:20030612
LOCATION:https://www.enginyerstarragona.cat/agenda/details/23/23-sector-el
 ectric-liberalitzacio-del-mercat-tar
SEQUENCE:0
SUMMARY:SECTOR EL?CTRIC. LIBERALITZACI? DEL MERCAT. TARIFES
UID:ET_Activitat_23
URL:https://www.enginyerstarragona.cathttps://www.enginyerstarragona.cat/a
 genda/details/23/23-sector-electric-liberalitzacio-del-mercat-tar
END:VEVENT
END:VCALENDAR
