BEGIN:VCALENDAR
PRODID:-//github.com/rianjs/ical.net//NONSGML ical.net 2.2//EN
VERSION:2.0
BEGIN:VEVENT
CATEGORIES:Licitacions
CREATED;TZID=Europe/Madrid:20260422T105825
DESCRIPTION:<input type="hidden" style="width: 100px\; height: 22px\;"><st
 rong></strong><strong><input type="hidden" style="width: 100px\; height: 
 22px\;"></strong><strong><input type="hidden" style="width: 100px\; heigh
 t: 22px\;"></strong><table class="table">\n	<tbody><tr>\n		<td style="wid
 th:100px\; text-align: left\;"><strong>Organitza:&nbsp\;</strong></td>\n	
 	<td style="text-align: left\;">ENGINYERS TARRAGONA</td>\n	</tr>\n	<tr>\n
 		<td style="width:100px\; text-align: left\;"><strong>Dates:</strong></t
 d>\n		<td style="text-align: left\;">28\, 29\, 30 de setembre i 1 d'octub
 re (dilluns\, dimarts\, dimecres i dijous)<br></td>\n	</tr>\n	<tr>\n		<td
  style="width:100px\; text-align: left\;"><strong>Horari:</strong></td>\n
 		<td style="text-align: left\;">De&nbsp\; les 16.00h a les 20.00h</td>\n
 	</tr>\n	\n	<tr>\n		<td style="width:100px\; text-align: left\;"><strong>
 Durada:</strong></td><td style="text-align: left\;">16 hores lectives</td
 >\n	</tr>\n	<tr><td style="width:100px\; text-align: left\;"><strong>Diri
 git a:</strong></td><td style="text-align: justify\;">El curs s?adre?a a 
 enginyers que exerceixen direccions facultatives o redacten projectes per
  al sector p?blic\, a enginyers que treballen en administracions p?blique
 s i representen la propietat o participen en la tramitaci? de contractes\
 , i a enginyers d?empreses constructores i instal?ladores que concorren h
 abitualment a licitacions p?bliques.<br></td></tr><tr><td style="width:10
 0px\; text-align: left\;"><strong>Objectius:</strong></td><td style="text
 -align: justify\;">Dotar els enginyers dels coneixements i les eines nece
 ss?ries per aplicar correctament la LCSP i el RGLCAP en la preparaci?\, l
 icitaci?\, direcci?\, execuci? i gesti? de contractes d?obres i de servei
 s en el sector p?blic\, tant des de l?Administraci? com des de les empres
 es i les direccions facultatives.<br></td></tr>\n\n<tr><td style="width:1
 00px\; text-align: left\;"><strong>Programa:</strong></td><td style="text
 -align: justify\;"><p><strong>Dia 1.</strong> Marc normatiu\, ?rgans de c
 ontractaci? i responsables del contracte. Preparaci? del contracte d?obre
 s: projecte\, plecs i expedient de contractaci?.</p><p><strong>Dia 2.</st
 rong> Procediments d?adjudicaci?\, criteris d?adjudicaci? i documentaci? 
 inicial. Execuci? del contracte d?obres (I): replanteig\, control t?cnic 
 i econ?mic.</p><p><strong>Dia 3</strong>. Execuci? del contracte d?obres 
 (II): modificacions\, pr?rrogues i incid?ncies. Execuci? del contracte d?
 obres (III): revisi? de preus\, penalitats\, recepci? i liquidaci?.</p><p
 ><strong>Dia 4</strong>. Bones pr?ctiques en licitacions d?obres i servei
 s: com preparar ofertes competitives. Cas pr?ctic.</p></td></tr><tr><td s
 tyle="width:100px\; text-align: left\;"><strong>Legislaci? i normativa ap
 licable:</strong></td><td style="text-align: left\;">"&nbsp\;Ley 9/2017\,
  de 8 de noviembre\, de Contratos del Sector P?blico.Real Decreto 1098/20
 01\, de 12 de octubre\, por el que se aprueba el Reglamento general de la
  Ley de Contratos de las Administraciones P?blicas."</td></tr><tr><td sty
 le="width:100px\; text-align: left\;"><strong>Documentaci?:</strong>&nbsp
 \;</td><td style="text-align: left\;">La documentaci? estar? disponible a
  la plataforma entre 24 i 48 hores abans de l?inici de la formaci?. En el
  cas que hi hagi documentaci? addicional una vegada finalitzada la formac
 i?\, us la facilitarem posteriorment.<br></td></tr><tr><td style="width:1
 00px\; text-align: left\;"><strong>Certificaci?:&nbsp\;</strong></td><td 
 style="text-align: left\;">Una vegada finalitzada l?acci? formativa\, els
  alumnes obtindran un certificat d?assist?ncia que es podran descarregar 
 a la plataforma.<br></td></tr><tr><td style="width:100px\; text-align: le
 ft\;"><strong>Instruccions per bonificar:</strong><br></td><td style="tex
 t-align: left\;"><p>1. Sol?licita els impresos al CETIT a formacio@enginy
 erstarragona.cat</p><p>2. Aporta tota la informaci? 10 dies naturals aban
 s de l'inici del curs.</p><p>3. NOTA IMPORTANT: les bonificacions es port
 en a terme per mitj? d'una assessoria externa. Aquells que vulguin acolli
 r-se a la bonificaci? de qualsevol acci? formativa\, el preu s'incrementa
 r? en un 20 % ( que tamb? es podr? bonificar i recuperar).</p><p>*Import 
 m?xim 150 ? (per empresa sol?licitant\, independentment del nombre de tre
 balladors que bonifiquin)<br></p></td></tr></tbody></table>
DTEND;TZID=Europe/Madrid:20260928T200000
DTSTAMP:20260422T085825Z
DTSTART;TZID=Europe/Madrid:20260928T150000
LOCATION:https://www.enginyerstarragona.cat/agenda/details/2252/2252-curs-
 legislacio-de-contractes-del-sector-publ
SEQUENCE:0
SUMMARY:[CURS] LEGISLACI? DE CONTRACTES DEL SECTOR P?BLIC PER A ENGINYERS.
  Modalitat streaming
UID:ET_Activitat_2252
URL:https://www.enginyerstarragona.cathttps://www.enginyerstarragona.cat/a
 genda/details/2252/2252-curs-legislacio-de-contractes-del-sector-publ
END:VEVENT
BEGIN:VEVENT
CATEGORIES:Licitacions
CREATED;TZID=Europe/Madrid:20260422T105825
DESCRIPTION:<input type="hidden" style="width: 100px\; height: 22px\;"><st
 rong></strong><strong><input type="hidden" style="width: 100px\; height: 
 22px\;"></strong><strong><input type="hidden" style="width: 100px\; heigh
 t: 22px\;"></strong><table class="table">\n	<tbody><tr>\n		<td style="wid
 th:100px\; text-align: left\;"><strong>Organitza:&nbsp\;</strong></td>\n	
 	<td style="text-align: left\;">ENGINYERS TARRAGONA</td>\n	</tr>\n	<tr>\n
 		<td style="width:100px\; text-align: left\;"><strong>Dates:</strong></t
 d>\n		<td style="text-align: left\;">28\, 29\, 30 de setembre i 1 d'octub
 re (dilluns\, dimarts\, dimecres i dijous)<br></td>\n	</tr>\n	<tr>\n		<td
  style="width:100px\; text-align: left\;"><strong>Horari:</strong></td>\n
 		<td style="text-align: left\;">De&nbsp\; les 16.00h a les 20.00h</td>\n
 	</tr>\n	\n	<tr>\n		<td style="width:100px\; text-align: left\;"><strong>
 Durada:</strong></td><td style="text-align: left\;">16 hores lectives</td
 >\n	</tr>\n	<tr><td style="width:100px\; text-align: left\;"><strong>Diri
 git a:</strong></td><td style="text-align: justify\;">El curs s?adre?a a 
 enginyers que exerceixen direccions facultatives o redacten projectes per
  al sector p?blic\, a enginyers que treballen en administracions p?blique
 s i representen la propietat o participen en la tramitaci? de contractes\
 , i a enginyers d?empreses constructores i instal?ladores que concorren h
 abitualment a licitacions p?bliques.<br></td></tr><tr><td style="width:10
 0px\; text-align: left\;"><strong>Objectius:</strong></td><td style="text
 -align: justify\;">Dotar els enginyers dels coneixements i les eines nece
 ss?ries per aplicar correctament la LCSP i el RGLCAP en la preparaci?\, l
 icitaci?\, direcci?\, execuci? i gesti? de contractes d?obres i de servei
 s en el sector p?blic\, tant des de l?Administraci? com des de les empres
 es i les direccions facultatives.<br></td></tr>\n\n<tr><td style="width:1
 00px\; text-align: left\;"><strong>Programa:</strong></td><td style="text
 -align: justify\;"><p><strong>Dia 1.</strong> Marc normatiu\, ?rgans de c
 ontractaci? i responsables del contracte. Preparaci? del contracte d?obre
 s: projecte\, plecs i expedient de contractaci?.</p><p><strong>Dia 2.</st
 rong> Procediments d?adjudicaci?\, criteris d?adjudicaci? i documentaci? 
 inicial. Execuci? del contracte d?obres (I): replanteig\, control t?cnic 
 i econ?mic.</p><p><strong>Dia 3</strong>. Execuci? del contracte d?obres 
 (II): modificacions\, pr?rrogues i incid?ncies. Execuci? del contracte d?
 obres (III): revisi? de preus\, penalitats\, recepci? i liquidaci?.</p><p
 ><strong>Dia 4</strong>. Bones pr?ctiques en licitacions d?obres i servei
 s: com preparar ofertes competitives. Cas pr?ctic.</p></td></tr><tr><td s
 tyle="width:100px\; text-align: left\;"><strong>Legislaci? i normativa ap
 licable:</strong></td><td style="text-align: left\;">"&nbsp\;Ley 9/2017\,
  de 8 de noviembre\, de Contratos del Sector P?blico.Real Decreto 1098/20
 01\, de 12 de octubre\, por el que se aprueba el Reglamento general de la
  Ley de Contratos de las Administraciones P?blicas."</td></tr><tr><td sty
 le="width:100px\; text-align: left\;"><strong>Documentaci?:</strong>&nbsp
 \;</td><td style="text-align: left\;">La documentaci? estar? disponible a
  la plataforma entre 24 i 48 hores abans de l?inici de la formaci?. En el
  cas que hi hagi documentaci? addicional una vegada finalitzada la formac
 i?\, us la facilitarem posteriorment.<br></td></tr><tr><td style="width:1
 00px\; text-align: left\;"><strong>Certificaci?:&nbsp\;</strong></td><td 
 style="text-align: left\;">Una vegada finalitzada l?acci? formativa\, els
  alumnes obtindran un certificat d?assist?ncia que es podran descarregar 
 a la plataforma.<br></td></tr><tr><td style="width:100px\; text-align: le
 ft\;"><strong>Instruccions per bonificar:</strong><br></td><td style="tex
 t-align: left\;"><p>1. Sol?licita els impresos al CETIT a formacio@enginy
 erstarragona.cat</p><p>2. Aporta tota la informaci? 10 dies naturals aban
 s de l'inici del curs.</p><p>3. NOTA IMPORTANT: les bonificacions es port
 en a terme per mitj? d'una assessoria externa. Aquells que vulguin acolli
 r-se a la bonificaci? de qualsevol acci? formativa\, el preu s'incrementa
 r? en un 20 % ( que tamb? es podr? bonificar i recuperar).</p><p>*Import 
 m?xim 150 ? (per empresa sol?licitant\, independentment del nombre de tre
 balladors que bonifiquin)<br></p></td></tr></tbody></table>
DTEND;TZID=Europe/Madrid:20260929T200000
DTSTAMP:20260422T085825Z
DTSTART;TZID=Europe/Madrid:20260929T150000
LOCATION:https://www.enginyerstarragona.cat/agenda/details/2252/2252-curs-
 legislacio-de-contractes-del-sector-publ
SEQUENCE:0
SUMMARY:[CURS] LEGISLACI? DE CONTRACTES DEL SECTOR P?BLIC PER A ENGINYERS.
  Modalitat streaming
UID:ET_Activitat_2252
URL:https://www.enginyerstarragona.cathttps://www.enginyerstarragona.cat/a
 genda/details/2252/2252-curs-legislacio-de-contractes-del-sector-publ
END:VEVENT
BEGIN:VEVENT
CATEGORIES:Licitacions
CREATED;TZID=Europe/Madrid:20260422T105825
DESCRIPTION:<input type="hidden" style="width: 100px\; height: 22px\;"><st
 rong></strong><strong><input type="hidden" style="width: 100px\; height: 
 22px\;"></strong><strong><input type="hidden" style="width: 100px\; heigh
 t: 22px\;"></strong><table class="table">\n	<tbody><tr>\n		<td style="wid
 th:100px\; text-align: left\;"><strong>Organitza:&nbsp\;</strong></td>\n	
 	<td style="text-align: left\;">ENGINYERS TARRAGONA</td>\n	</tr>\n	<tr>\n
 		<td style="width:100px\; text-align: left\;"><strong>Dates:</strong></t
 d>\n		<td style="text-align: left\;">28\, 29\, 30 de setembre i 1 d'octub
 re (dilluns\, dimarts\, dimecres i dijous)<br></td>\n	</tr>\n	<tr>\n		<td
  style="width:100px\; text-align: left\;"><strong>Horari:</strong></td>\n
 		<td style="text-align: left\;">De&nbsp\; les 16.00h a les 20.00h</td>\n
 	</tr>\n	\n	<tr>\n		<td style="width:100px\; text-align: left\;"><strong>
 Durada:</strong></td><td style="text-align: left\;">16 hores lectives</td
 >\n	</tr>\n	<tr><td style="width:100px\; text-align: left\;"><strong>Diri
 git a:</strong></td><td style="text-align: justify\;">El curs s?adre?a a 
 enginyers que exerceixen direccions facultatives o redacten projectes per
  al sector p?blic\, a enginyers que treballen en administracions p?blique
 s i representen la propietat o participen en la tramitaci? de contractes\
 , i a enginyers d?empreses constructores i instal?ladores que concorren h
 abitualment a licitacions p?bliques.<br></td></tr><tr><td style="width:10
 0px\; text-align: left\;"><strong>Objectius:</strong></td><td style="text
 -align: justify\;">Dotar els enginyers dels coneixements i les eines nece
 ss?ries per aplicar correctament la LCSP i el RGLCAP en la preparaci?\, l
 icitaci?\, direcci?\, execuci? i gesti? de contractes d?obres i de servei
 s en el sector p?blic\, tant des de l?Administraci? com des de les empres
 es i les direccions facultatives.<br></td></tr>\n\n<tr><td style="width:1
 00px\; text-align: left\;"><strong>Programa:</strong></td><td style="text
 -align: justify\;"><p><strong>Dia 1.</strong> Marc normatiu\, ?rgans de c
 ontractaci? i responsables del contracte. Preparaci? del contracte d?obre
 s: projecte\, plecs i expedient de contractaci?.</p><p><strong>Dia 2.</st
 rong> Procediments d?adjudicaci?\, criteris d?adjudicaci? i documentaci? 
 inicial. Execuci? del contracte d?obres (I): replanteig\, control t?cnic 
 i econ?mic.</p><p><strong>Dia 3</strong>. Execuci? del contracte d?obres 
 (II): modificacions\, pr?rrogues i incid?ncies. Execuci? del contracte d?
 obres (III): revisi? de preus\, penalitats\, recepci? i liquidaci?.</p><p
 ><strong>Dia 4</strong>. Bones pr?ctiques en licitacions d?obres i servei
 s: com preparar ofertes competitives. Cas pr?ctic.</p></td></tr><tr><td s
 tyle="width:100px\; text-align: left\;"><strong>Legislaci? i normativa ap
 licable:</strong></td><td style="text-align: left\;">"&nbsp\;Ley 9/2017\,
  de 8 de noviembre\, de Contratos del Sector P?blico.Real Decreto 1098/20
 01\, de 12 de octubre\, por el que se aprueba el Reglamento general de la
  Ley de Contratos de las Administraciones P?blicas."</td></tr><tr><td sty
 le="width:100px\; text-align: left\;"><strong>Documentaci?:</strong>&nbsp
 \;</td><td style="text-align: left\;">La documentaci? estar? disponible a
  la plataforma entre 24 i 48 hores abans de l?inici de la formaci?. En el
  cas que hi hagi documentaci? addicional una vegada finalitzada la formac
 i?\, us la facilitarem posteriorment.<br></td></tr><tr><td style="width:1
 00px\; text-align: left\;"><strong>Certificaci?:&nbsp\;</strong></td><td 
 style="text-align: left\;">Una vegada finalitzada l?acci? formativa\, els
  alumnes obtindran un certificat d?assist?ncia que es podran descarregar 
 a la plataforma.<br></td></tr><tr><td style="width:100px\; text-align: le
 ft\;"><strong>Instruccions per bonificar:</strong><br></td><td style="tex
 t-align: left\;"><p>1. Sol?licita els impresos al CETIT a formacio@enginy
 erstarragona.cat</p><p>2. Aporta tota la informaci? 10 dies naturals aban
 s de l'inici del curs.</p><p>3. NOTA IMPORTANT: les bonificacions es port
 en a terme per mitj? d'una assessoria externa. Aquells que vulguin acolli
 r-se a la bonificaci? de qualsevol acci? formativa\, el preu s'incrementa
 r? en un 20 % ( que tamb? es podr? bonificar i recuperar).</p><p>*Import 
 m?xim 150 ? (per empresa sol?licitant\, independentment del nombre de tre
 balladors que bonifiquin)<br></p></td></tr></tbody></table>
DTEND;TZID=Europe/Madrid:20260930T200000
DTSTAMP:20260422T085825Z
DTSTART;TZID=Europe/Madrid:20260930T150000
LOCATION:https://www.enginyerstarragona.cat/agenda/details/2252/2252-curs-
 legislacio-de-contractes-del-sector-publ
SEQUENCE:0
SUMMARY:[CURS] LEGISLACI? DE CONTRACTES DEL SECTOR P?BLIC PER A ENGINYERS.
  Modalitat streaming
UID:ET_Activitat_2252
URL:https://www.enginyerstarragona.cathttps://www.enginyerstarragona.cat/a
 genda/details/2252/2252-curs-legislacio-de-contractes-del-sector-publ
END:VEVENT
BEGIN:VEVENT
CATEGORIES:Licitacions
CREATED;TZID=Europe/Madrid:20260422T105825
DESCRIPTION:<input type="hidden" style="width: 100px\; height: 22px\;"><st
 rong></strong><strong><input type="hidden" style="width: 100px\; height: 
 22px\;"></strong><strong><input type="hidden" style="width: 100px\; heigh
 t: 22px\;"></strong><table class="table">\n	<tbody><tr>\n		<td style="wid
 th:100px\; text-align: left\;"><strong>Organitza:&nbsp\;</strong></td>\n	
 	<td style="text-align: left\;">ENGINYERS TARRAGONA</td>\n	</tr>\n	<tr>\n
 		<td style="width:100px\; text-align: left\;"><strong>Dates:</strong></t
 d>\n		<td style="text-align: left\;">28\, 29\, 30 de setembre i 1 d'octub
 re (dilluns\, dimarts\, dimecres i dijous)<br></td>\n	</tr>\n	<tr>\n		<td
  style="width:100px\; text-align: left\;"><strong>Horari:</strong></td>\n
 		<td style="text-align: left\;">De&nbsp\; les 16.00h a les 20.00h</td>\n
 	</tr>\n	\n	<tr>\n		<td style="width:100px\; text-align: left\;"><strong>
 Durada:</strong></td><td style="text-align: left\;">16 hores lectives</td
 >\n	</tr>\n	<tr><td style="width:100px\; text-align: left\;"><strong>Diri
 git a:</strong></td><td style="text-align: justify\;">El curs s?adre?a a 
 enginyers que exerceixen direccions facultatives o redacten projectes per
  al sector p?blic\, a enginyers que treballen en administracions p?blique
 s i representen la propietat o participen en la tramitaci? de contractes\
 , i a enginyers d?empreses constructores i instal?ladores que concorren h
 abitualment a licitacions p?bliques.<br></td></tr><tr><td style="width:10
 0px\; text-align: left\;"><strong>Objectius:</strong></td><td style="text
 -align: justify\;">Dotar els enginyers dels coneixements i les eines nece
 ss?ries per aplicar correctament la LCSP i el RGLCAP en la preparaci?\, l
 icitaci?\, direcci?\, execuci? i gesti? de contractes d?obres i de servei
 s en el sector p?blic\, tant des de l?Administraci? com des de les empres
 es i les direccions facultatives.<br></td></tr>\n\n<tr><td style="width:1
 00px\; text-align: left\;"><strong>Programa:</strong></td><td style="text
 -align: justify\;"><p><strong>Dia 1.</strong> Marc normatiu\, ?rgans de c
 ontractaci? i responsables del contracte. Preparaci? del contracte d?obre
 s: projecte\, plecs i expedient de contractaci?.</p><p><strong>Dia 2.</st
 rong> Procediments d?adjudicaci?\, criteris d?adjudicaci? i documentaci? 
 inicial. Execuci? del contracte d?obres (I): replanteig\, control t?cnic 
 i econ?mic.</p><p><strong>Dia 3</strong>. Execuci? del contracte d?obres 
 (II): modificacions\, pr?rrogues i incid?ncies. Execuci? del contracte d?
 obres (III): revisi? de preus\, penalitats\, recepci? i liquidaci?.</p><p
 ><strong>Dia 4</strong>. Bones pr?ctiques en licitacions d?obres i servei
 s: com preparar ofertes competitives. Cas pr?ctic.</p></td></tr><tr><td s
 tyle="width:100px\; text-align: left\;"><strong>Legislaci? i normativa ap
 licable:</strong></td><td style="text-align: left\;">"&nbsp\;Ley 9/2017\,
  de 8 de noviembre\, de Contratos del Sector P?blico.Real Decreto 1098/20
 01\, de 12 de octubre\, por el que se aprueba el Reglamento general de la
  Ley de Contratos de las Administraciones P?blicas."</td></tr><tr><td sty
 le="width:100px\; text-align: left\;"><strong>Documentaci?:</strong>&nbsp
 \;</td><td style="text-align: left\;">La documentaci? estar? disponible a
  la plataforma entre 24 i 48 hores abans de l?inici de la formaci?. En el
  cas que hi hagi documentaci? addicional una vegada finalitzada la formac
 i?\, us la facilitarem posteriorment.<br></td></tr><tr><td style="width:1
 00px\; text-align: left\;"><strong>Certificaci?:&nbsp\;</strong></td><td 
 style="text-align: left\;">Una vegada finalitzada l?acci? formativa\, els
  alumnes obtindran un certificat d?assist?ncia que es podran descarregar 
 a la plataforma.<br></td></tr><tr><td style="width:100px\; text-align: le
 ft\;"><strong>Instruccions per bonificar:</strong><br></td><td style="tex
 t-align: left\;"><p>1. Sol?licita els impresos al CETIT a formacio@enginy
 erstarragona.cat</p><p>2. Aporta tota la informaci? 10 dies naturals aban
 s de l'inici del curs.</p><p>3. NOTA IMPORTANT: les bonificacions es port
 en a terme per mitj? d'una assessoria externa. Aquells que vulguin acolli
 r-se a la bonificaci? de qualsevol acci? formativa\, el preu s'incrementa
 r? en un 20 % ( que tamb? es podr? bonificar i recuperar).</p><p>*Import 
 m?xim 150 ? (per empresa sol?licitant\, independentment del nombre de tre
 balladors que bonifiquin)<br></p></td></tr></tbody></table>
DTEND;TZID=Europe/Madrid:20260901T200000
DTSTAMP:20260422T085825Z
DTSTART;TZID=Europe/Madrid:20261001T150000
LOCATION:https://www.enginyerstarragona.cat/agenda/details/2252/2252-curs-
 legislacio-de-contractes-del-sector-publ
SEQUENCE:0
SUMMARY:[CURS] LEGISLACI? DE CONTRACTES DEL SECTOR P?BLIC PER A ENGINYERS.
  Modalitat streaming
UID:ET_Activitat_2252
URL:https://www.enginyerstarragona.cathttps://www.enginyerstarragona.cat/a
 genda/details/2252/2252-curs-legislacio-de-contractes-del-sector-publ
END:VEVENT
END:VCALENDAR
