BEGIN:VCALENDAR
PRODID:-//github.com/rianjs/ical.net//NONSGML ical.net 2.2//EN
VERSION:2.0
BEGIN:VEVENT
CATEGORIES:Medi Ambient
CREATED;TZID=Europe/Madrid:20260422T081250
DESCRIPTION:<table class="table">\n	<tbody><tr>\n		<td style="width:100px\
 ; text-align: left\;"><strong>Dirigit a:</strong></td>\n		<td style="text
 -align: left\;">Directius\, comandaments intermedis i departaments de com
 pres i vendes</td>\n	</tr>\n	<tr>\n		<td style="width:100px\; text-align:
  left\;"><strong>Dates:</strong></td>\n		<td style="text-align: left\;">1
 2 de juny (dijous)&nbsp\;</td>\n	</tr>\n	<tr>\n		<td style="width:100px\;
  text-align: left\;"><strong>Horari:</strong></td>\n		<td style="text-ali
 gn: left\;">De les 09.00h a les 18.30h</td>\n	</tr>\n	\n	\n	<tr><td style
 ="width:100px\; text-align: left\;"><strong>Objectiu:&nbsp\;</strong></td
 ><td style="text-align: justify\;">Establir un punt de partida en la sens
 ibilitzaci? de l'organitzaci? aplicada a la RSCP\, creant cultura d'empre
 sa sostenible i facilitant la implantaci? de mesures i accions per a la m
 illora de l'actual canvi clim?tic.<br></td></tr><tr>\n		<td style="width:
 100px\; text-align: left\;"><strong>Programaci?:</strong></td><td style="
 text-align: left\;"><ul><li>Introducci?. Qu? ?s la petjada de carboni i e
 ls seus tipus.</li><li><span style="background-color: transparent\;">C?lc
 uls i seccions de la petjada.</span></li><li><span style="background-colo
 r: transparent\;">Normatives i legislaci? (RD 214/2025)</span></li><li><s
 pan style="background-color: transparent\;">Procediment de treball.</span
 ></li><li><span style="background-color: transparent\;">Resultats que s'o
 btenen.</span></li><li><span style="background-color: transparent\;">Nece
 ssitats de realitzar el c?lcul.</span></li><li><span style="background-co
 lor: transparent\;">Qu? poden fer les empreses?</span></li><li><span styl
 e="background-color: transparent\;">Registres i verificacions.</span></li
 ><li><span style="background-color: transparent\;">Conclusions.</span></l
 i><li><span style="background-color: transparent\;">Examen tipus test.</s
 pan></li></ul></td>\n	</tr>\n	\n	\n	\n	\n	\n\n	\n\n<tr><td style="width:1
 00px\; text-align: left\;"><strong>Legislaci? i normativa aplicable:&nbsp
 \;</strong></td><td style="text-align: left\;">RD 214/2025</td></tr><tr><
 td style="width:100px\; text-align: left\;"><strong>Documentaci?:&nbsp\;<
 /strong></td><td style="text-align: left\;">&nbsp\;La documentaci? estar?
  disponible a la plataforma entre 24 i 48 hores abans de l?inici de la fo
 rmaci?. En el cas que hi hagi documentaci? addicional una vegada finalitz
 ada la formaci?\, us la facilitarem posteriorment.</td></tr><tr><td style
 ="width:100px\; text-align: left\;"><strong>Lloc:&nbsp\;</strong></td><td
  style="text-align: left\;"><p>A les instal?lacions Av. Roma\, n7\, 1r pi
 s\, Tarragona&nbsp\; (presencial)</p></td></tr><tr><td style="width:100px
 \; text-align: left\;"><strong>Bonificacions:</strong></td><td style="tex
 t-align: left\;">&nbsp\;Gestionem els tr?mits per tal que puguis benefici
 ar-te de la bonificaci? corresponent per formaci?.</td></tr><tr><td style
 ="width:100px\; text-align: left\;"><strong>Instruccions per bonificar :&
 nbsp\;</strong></td><td style="text-align: left\;"><p>1. Sol?licita els i
 mpresos al CETIT a formacio@enginyerstarragona.cat</p><p>2. Aporta tota l
 a informaci? 10 dies naturals abans de l'inici del curs.</p><p>3. NOTA IM
 PORTANT: les bonificacions es porten a terme per mitj? d'una assessoria e
 xterna.</p><p>Aquells que vulguin acollir-se a la bonificaci? de qualsevo
 l acci? formativa\, el preu s'incrementar? en un 20 % ( que tamb? es podr
 ? bonificar i recuperar).</p></td></tr></tbody></table>
DTEND;TZID=Europe/Madrid:20250612T183000
DTSTAMP:20260422T061250Z
DTSTART;TZID=Europe/Madrid:20250612T090000
LOCATION:https://www.enginyerstarragona.cat/agenda/details/2150/2150-curs-
 petjada-del-carboni-rd-2142025-modalitat
SEQUENCE:0
SUMMARY:[CURS]  PETJADA DEL CARBONI RD 214/2025. Modalitat Presencial
UID:ET_Activitat_2150
URL:https://www.enginyerstarragona.cathttps://www.enginyerstarragona.cat/a
 genda/details/2150/2150-curs-petjada-del-carboni-rd-2142025-modalitat
END:VEVENT
END:VCALENDAR
