BEGIN:VCALENDAR
PRODID:-//github.com/rianjs/ical.net//NONSGML ical.net 2.2//EN
VERSION:2.0
BEGIN:VEVENT
CATEGORIES:Efici?ncia energ?tica
CREATED;TZID=Europe/Madrid:20260422T163837
DESCRIPTION:<table class="table">\n	<tbody><tr>\n		<td style="width:100px\
 ; text-align: left\;"><strong>Dirigit a:</strong></td>\n		<td style="text
 -align: left\;">El curs est? destinat a professionals que es vulguin dedi
 car o aprofundir en l?assessorament energ?tic\, les auditories energ?tiqu
 es\, etc. en l?especialitat d?instal?lacions solars fotovoltaiques per au
 toconsum.</td>\n	</tr>\n	<tr>\n		<td style="width:100px\; text-align: lef
 t\;"><strong>Dates:</strong></td><td style="text-align: left\;">19 i 20 n
 ovembre (dimarts i dimecres)</td>\n	</tr>\n	<tr>\n		<td style="width:100p
 x\; text-align: left\;"><strong>Horari:</strong></td>\n		<td style="text-
 align: left\;">De les 9.00 a les 17.30 hores (parada d'una hora per dinar
 \, incl?s en el preu)</td>\n	</tr>\n	\n	<tr>\n		<td style="width:100px\; 
 text-align: left\;"><strong>Durada:</strong></td>\n		<td style="text-alig
 n: left\;">14 hores lectives</td>\n	</tr>\n	<tr><td style="width:100px\; 
 text-align: left\;"><strong>Objectius:</strong></td><td style="text-align
 : left\;"><p>El passat 5 d'abril es va aprovar el RD 244/2019 que regula 
 les condicions administratives\, t?cniques i econ?miques de l'autoconsum 
 d'energia el?ctrica. Formar a t?cnics per a poder dissenyar adequadament 
 instal?lacions d'energia solar fotovoltaica per autoconsum en totes les m
 odalitats que el RD 900/2015 contempla\, utilitzant un programa de c?lcul
  de valoritzaci? energ?tica i definici? dels perfils de consum.</p><p>L'a
 utoconsum fotovoltaic ?s una realitat que cada vegada s'implantar? m?s a 
 Catalunya\, dins del pla estrat?gic de la Transici? energ?tica de Catalun
 ya i l'impuls que lidera l'ICAEN.</p></td></tr><tr>\n		<td style="width:1
 00px\; text-align: left\;"><strong>Programaci?:</strong></td>\n		<td styl
 e="text-align: left\;"><p><strong>1. Marc normatiu i conceptes b?sics</st
 rong></p><p>Marc legal de l?autoconsum. RDL 15/2018\, RD 900/2015\, RD 16
 99/2011 i RD 842/2002 (REBT). Implicacions t?cniques del RD Autoconsum:</
 p><p>- Tipus d?instal?lacions. Sol?licitud del punt de connexi?. Tr?mits 
 amb la distribu?dora.</p><p>- Autoconsum compartit. Opcions.</p><p>- Lega
 litzaci? i inscripci? de les instal?lacions. Registre administratiu d?aut
 oconsum. Canal empresa.</p><p>- Projecte t?cnic i mem?ria t?cnica de diss
 eny. Certificat d?instal?laci?. Inspeccions inicials.</p><p>- Injecci? ze
 ro. UNE 217001.</p><p>- Normes t?cniques particulars de les distribu?dore
 s.</p><p><strong>2. Fonaments t?cnics de disseny i funcionament</strong><
 /p><p>- An?lisi del perfil de consum. Monitoratges de consums. Perfils de
  consum constants o estacionals. Diferents tipus de perfils de consum dia
 ris. Les tarifes el?ctriques i la discriminaci? hor?ria. Tarifes 3.0. Exe
 mples a partir de factures de clients.</p><p>- Radiaci? solar. Hor?ria i 
 mensual. Bases de dades. C?lcul de la producci? solar (diferents m?todes 
 de c?lcul\, eines i recursos). Disponibilitat d?espai de la coberta. Ombr
 es llunyanes i properes. C?lcul d?ombres. Solucions en configuraci? per o
 mbres.</p><p>- Caracter?stiques t?cniques\, de disseny i de funcionament 
 de tots els equips que formen part d?una instal?laci? solar (m?duls\, ond
 uladors\, a paraments el?ctrica\, quadres de proteccions DC i AC\, etc.).
  Sistemes de muntatge i fixaci?. Manteniment i operaci? de les instal?lac
 ions. Configuraci? de strings. Condicions de disseny.</p><p><strong>3. Es
 quemes de les instal?lacions fotovoltaiques d'autoconsum</strong></p><p>E
 n aquest bloc es presenten els esquemes b?sics de configuraci? de tots el
 s tipus d'instal?lacions fotovoltaiques d'autoconsum i la comparativa amb
  les altres modalitats existents (assistides\, a?llades i interconnectade
 s).</p><p>Esquema b?sic de les instal?lacions fotovoltaiques d'autoconsum
  (amb i sense gesti? d?excedents). </p><p>Esquema b?sic de les instal?lac
 ions fotovoltaiques d'autoconsum amb acumulaci? el?ctrica. Bateries</p><p
 >Comparativa amb esquema b?sic de les instal?lacions fotovoltaiques aut?n
 omes amb els diferents tipus de bateries que hi ha actualment.</p><p>Dife
 rents formes de representar esquemes unifilars i de configuraci?. Lay out
 s.</p><p><strong>4. C?lcul i disseny d'instal?lacions solars fotovoltaiqu
 es d'autoconsum. Valoritzaci? energ?tica. Softwares de c?lcul</strong></p
 ><p>Dimensionament detallat d'una instal?laci? d'autoconsum</p><p>- C?lcu
 l de la pot?ncia ?ptima segons factures o perfils de consum (horaris\, me
 nsuals).</p><p>- Implantaci? dels m?duls sobre coberta.</p><p>- Ondulador
 s. Centralitzats o descentralitzats. Configuraci? de strings.</p><p>- Cob
 ertura solar vs. r?tio d?autoconsum.</p><p>- Valoritzaci? de l'energia ge
 nerada.</p><p>- C?lculs el?ctrics. Proteccions. Cablejats i caigudes de t
 ensi?.</p><p><strong>5. Resoluci? d?exercicis. Exemples de c?lcul</strong
 ></p><p>Resoluci? d?exemples de c?lcul i disseny utilitzant diferents rec
 ursos i eines inform?tiques\, fulles Excel i softwares de configuraci? (S
 UNNY DESIGN\, Ampere energy\, PIKO PLAN).</p><p> Definir els perfils de c
 onsum apartir de factures el?ctriques o monitoratges. Importar consums ho
 raris reals. Implantaci? en planta dels m?duls (lay out). Dibuix d?esquem
 es unifilars. C?lculs el?ctrics. Informes i propostes t?cniques i comerci
 als.<br></p></td>\n	</tr>\n	<tr>\n		<td style="width:100px\; text-align: 
 left\;"><strong>Documentaci?:</strong></td>\n		<td style="text-align: lef
 t\;">La documentaci? estar? disponible a la plataforma entre 24 i 48 hore
 s abans de l?inici de la formaci?. En el cas que hi hagi documentaci? add
 icional una vegada finalitzada la formaci?\, us la facilitarem posteriorm
 ent.</td>\n	</tr>\n	<tr>\n		<td style="width:100px\; text-align: left\;">
 <strong>Certificaci?:</strong></td>\n		<td style="text-align: left\;">Una
  vegada finalitzada l?acci? formativa\, els alumnes obtindran un certific
 at d?assist?ncia que es podran descarregar a la plataforma.  </td>\n	</tr
 >\n	\n	<tr><td style="width:100px\; text-align: left\;"><strong>Lloc:&nbs
 p\;</strong>&nbsp\;</td><td style="text-align: left\;">A les instal?lacio
 ns del CETIT\, Av. de Roma\, 7 de Tarragona.&nbsp\;</td></tr><tr>\n		<td 
 style="width:100px\; text-align: left\;"><strong>Bonificacions:</strong><
 /td>\n		<td style="text-align: left\;"><strong>Gestionem els tr?mits per 
 tal que puguis beneficiar-te de la bonificaci? corresponent per formaci?.
 </strong></td>\n	</tr>\n	<tr>\n		<td style="width:100px\; text-align: lef
 t\;"><strong>Instruccions per bonificar:</strong></td>\n		<td style="text
 -align: left\;"><p>\n1. Sol?licita els impresos al CETIT a formacio@engin
 yerstarragona.cat\n</p><p>2. Aporta tota la informaci? 10 dies naturals a
 bans de l'inici del curs.\n</p><p>3. NOTA IMPORTANT:  les bonificacions e
 s porten a terme per mitj? d'una assessoria externa. Aquells que vulguin 
 acollir-se a la bonificaci? de qualsevol acci? formativa\, el preu s'incr
 ementar? en un  20 % ( que tamb? es podr? bonificar i recuperar).</p><p>*
 Import m?xim 150 ? (per empresa sol?licitant\, independentment del nombre
  de treballadors que bonifiquin)</p></td>\n	</tr>\n\n</tbody></table>
DTEND;TZID=Europe/Madrid:20241120T173000
DTSTAMP:20260422T143837Z
DTSTART;TZID=Europe/Madrid:20241119T090000
LOCATION:https://www.enginyerstarragona.cat/agenda/details/2077/2077-curs-
 calcul-i-disseny-dinstallacions-solars-f
SEQUENCE:0
SUMMARY:[Curs ] C?LCUL I DISSENY D'INSTAL?LACIONS SOLARS FOTOVOLTAIQUES PE
 R AUTOCONSUM. RD 244/2019. Modalitat presencial
UID:ET_Activitat_2077
URL:https://www.enginyerstarragona.cathttps://www.enginyerstarragona.cat/a
 genda/details/2077/2077-curs-calcul-i-disseny-dinstallacions-solars-f
END:VEVENT
END:VCALENDAR
