BEGIN:VCALENDAR
PRODID:-//github.com/rianjs/ical.net//NONSGML ical.net 2.2//EN
VERSION:2.0
BEGIN:VEVENT
CATEGORIES:Seguretat i salut
CREATED;TZID=Europe/Madrid:20260420T154729
DESCRIPTION:<table class="table">\n	<tbody><tr>\n		<td style="width:100px\
 ; text-align: left\;"><strong>Dirigit a:</strong></td>\n		<td style="text
 -align: left\;"><ul><li>Enginyeries que desenvolupin activitats en l'?mbi
 t de la Seguretat Industrial</li><li>Empreses instal?ladores en l'?mbit d
 e la Seguretat Industrial.</li><li>Organismes de control.</li><li>Persona
 l t?cnic de les administracions&nbsp\;p?bliques.</li></ul></td>\n	</tr>\n
 	<tr>\n		<td style="width:100px\; text-align: left\;"><strong>Dates:</str
 ong></td>\n		<td style="text-align: left\;">18 de juny (dimarts)&nbsp\;<b
 r></td>\n	</tr>\n	<tr>\n		<td style="width:100px\; text-align: left\;"><s
 trong>Horari:</strong></td>\n		<td style="text-align: left\;">De les&nbsp
 \; 9.00h a les 13.30h</td>\n	</tr>\n	<tr><td style="width:100px\; text-al
 ign: left\;"><strong>Durada:&nbsp\;</strong></td><td style="text-align: l
 eft\;">4 hores aproximadament</td></tr><tr><td style="width:100px\; text-
 align: left\;"><strong>Lloc:</strong>&nbsp\;</td><td style="text-align: l
 eft\;">Auditori del Districte Administratiu de la Generalitat (C/ del Foc
 \, 57 Barcelona)</td></tr>\n	\n	<tr><td style="width:100px\; text-align: 
 left\;"><strong>Objectius:&nbsp\;</strong></td><td style="text-align: lef
 t\;">Amb la publicaci? del Decret 192/2023 de seguretat industrial dels e
 stabliments\, les instal?lacions i els productes\, s'han derogat/anul?lat
  quasi 200 normes dediferents ?mbits reglamentaris. El Departament d'Empr
 esai Treball ha cregut necessari organitzar una Jornada t?cnica per expli
 car les novetats que suposa aquest Decret als diferents agents de la Segu
 retat Industrial. En aquesta Jornada s'explicar? quines s?n les funcions\
 ,responsabilitats i obligacions dels diferents agents de la Seguretat Ind
 ustrial que intervenen en qualsevol dels ?mbits d'aplicaci? d'aquest Decr
 et i es donar? a con?ixer el model de gesti? de la Seguretat Industrial a
  Catalunya.<br></td></tr><tr>\n		<td style="width:100px\; text-align: lef
 t\;"><strong>Programaci?:</strong></td>\n		<td style="text-align: left\;"
 ><p><strong>9:00h - 9:30h Acreditacions</strong></p><p><strong>9:30h ? 9:
 40h Inauguraci?</strong></p><p><strong>Oriol&nbsp\;Alcoba&nbsp\;i&nbsp\;M
 alaspina</strong>\, director general d'Ind?stria</p><p><strong>9:40h ? 10
 :45h La gesti? de la Seguretat Industrial a Catalunya</strong> </p><p><st
 rong>Florenci Hern?ndez Cardona</strong>\, subdirector general de Seguret
 at Industrial </p><p>Estructura general del Decret. Control i supervisi? 
 de la Seguretat Industrial</p><p><strong>Esteve Aguilar Ramos</strong>\, 
 cap del Servei d'Autom?bils\, Metrologia i Producte</p><p><strong>Joan Ca
 rles&nbsp\;Esteban&nbsp\;Monle?n</strong>\, responsable de la Gesti? i Co
 ntrol del Sistema de la Seguretat Industrial</p><p><strong>10:45h ? 11:15
 h Pausa caf?</strong></p><p><strong>11:15h ? 13:15h Regulaci? de les inst
 al?lacions i instruccions t?cniques addicionals (ITAs</strong>)</p><p><st
 rong>Ma Eug?nia Gil&nbsp\;Donate</strong>\, cap del Servei de Seguretat d
 'Instal?lacions</p><p>Regulaci? de les instal?lacions / Les&nbsp\;ITAs&nb
 sp\;/&nbsp\;ITA&nbsp\;1 (ascensors)</p><p><strong>Manuel de Pedro</strong
 >\, t?cnic del Servei de Seguretat d'Instal?lacions</p><p>ITA&nbsp\;9 (in
 stal?lacions t?rmiques en els edificis)</p><p>T?cnic del Servei de Segure
 tat d'Instal?lacions </p><p>ITA&nbsp\;12 (instal?lacions de baixa tensi?)
 </p><p><strong>13:15 h&nbsp\;Cloenda</strong></p></td>\n	</tr>\n	\n	\n	\n
 	\n	\n\n	\n\n<tr><td style="width:100px\; text-align: left\;"><strong>&nb
 sp\;Nota:</strong></td><td style="text-align: left\;">&nbsp\;Les inscripc
 ions es porten a terme externament\, pr?via sol?licitud a la nostra web. 
 Us farem arribar l'enlla? de la inscripci? pr?via sol?licitud de la inscr
 ipci? al nostre web.</td></tr></tbody></table>
DTEND;TZID=Europe/Madrid:20240618T130000
DTSTAMP:20260420T134729Z
DTSTART;TZID=Europe/Madrid:20240618T090000
LOCATION:https://www.enginyerstarragona.cat/agenda/details/2067/2067-jorna
 da-de-difusio-del-decret-1922023-de-la-s
SEQUENCE:0
SUMMARY:[JORNADA] DE DIFUSI? DEL DECRET 192/2023\, DE LA SEGURETAT INDUSTR
 IAL DELS ESTABLIMENTS\, LES INSTAL?LACIONS I ELS PRODUCTES. Modalitat h?b
 rida
UID:ET_Activitat_2067
URL:https://www.enginyerstarragona.cathttps://www.enginyerstarragona.cat/a
 genda/details/2067/2067-jornada-de-difusio-del-decret-1922023-de-la-s
END:VEVENT
END:VCALENDAR
