BEGIN:VCALENDAR
PRODID:-//github.com/rianjs/ical.net//NONSGML ical.net 2.2//EN
VERSION:2.0
BEGIN:VEVENT
CATEGORIES:Efici?ncia energ?tica
CREATED;TZID=Europe/Madrid:20260419T173546
DESCRIPTION:<table class="table">\n	<tbody><tr>\n		<td style="width:100px\
 ; text-align: left\;"><strong>Dirigit a:</strong></td>\n		<td style="text
 -align: left\;">Empreses i professionals del sector energ?tic que vulguin
  con?ixer b? el mercat CAE per valorar nous serveis a oferir o que ja tin
 guin clar que volen tenir un paper actiu.<br></td>\n	</tr>\n	<tr>\n		<td 
 style="width:100px\; text-align: left\;"><strong>Dates:</strong></td>\n		
 <td style="text-align: left\;">13\,14 i 20 de mar? (dimecres i dijous)&nb
 sp\;<br></td>\n	</tr>\n	<tr>\n		<td style="width:100px\; text-align: left
 \;"><strong>Horari:</strong></td>\n		<td style="text-align: left\;">De le
 s 17:00 h a les 20:00 h. Sessi? del 20 de mar? ?ntegrament en modalitat p
 resencial.&nbsp\;</td>\n	</tr>\n	\n	<tr>\n		<td style="width:100px\; text
 -align: left\;"><strong>Durada:</strong></td>\n		<td style="text-align: l
 eft\;">9 hores</td>\n	</tr>\n	<tr>\n		<td style="width:100px\; text-align
 : left\;"><p><strong>Programaci?:</strong></p><p><strong>&nbsp\;</strong>
 </p><p><strong>&nbsp\;</strong></p></td>\n		<td style="text-align: left\;
 "><div><br></div><ul><li>Els antecedents del sistema de Certificats d?Est
 alvi Energ?tic</li></ul><ul><li>&nbsp\;El Sistema CAE&nbsp\;</li></ul><p>
 &nbsp\; &nbsp\; &nbsp\; &nbsp\; &nbsp\; &nbsp\;a. Marc legal&nbsp\;</p><p
 >&nbsp\; &nbsp\; &nbsp\; &nbsp\; &nbsp\; &nbsp\;b. El mercat CAE&nbsp\;</
 p><p>&nbsp\; &nbsp\; &nbsp\; &nbsp\; &nbsp\; c. Els actors del sistema&nb
 sp\;</p><p>&nbsp\; &nbsp\; &nbsp\; &nbsp\; &nbsp\; d. Mesures d'estalvi e
 nerg?tic elegibles&nbsp\;</p><p>&nbsp\; &nbsp\; &nbsp\; &nbsp\; &nbsp\; e
 . Subhastes de CAEs&nbsp\;</p><p>&nbsp\; &nbsp\; &nbsp\; &nbsp\; &nbsp\; 
 f. CAEs i subvencions</p><ul><li>&nbsp\;Altres experi?ncies internacional
 s</li></ul><ul><li>Riscos i Oportunitats</li></ul><ul><li>Exercicis</li><
 /ul></td>\n	</tr>\n	\n	\n	<tr>\n		<td style="width:100px\; text-align: le
 ft\;"><strong>Objectius:</strong></td>\n		<td style="text-align: left\;">
 <ul><li>&nbsp\;Apropar el sistema de Certificats als professionals de l?e
 fici?ncia energ?tica per ajudar a identificar oportunitats de negoci.</li
 ><li>Ser conscients dels beneficis i riscos associats al nou mercat.</li>
 <li>Realitzaci? d?exercicis il?lustratius.</li><li>Resoldre dubtes sobre 
 el sistema de Certificats d?Estalvi Energ?tic.</li></ul></td>\n	</tr>\n	<
 tr>\n		<td style="width:100px\; text-align: left\;"><strong>Ponent:</stro
 ng></td>\n		<td style="text-align: justify\;"><strong>Isabel Tejero\,&nbs
 p\;</strong>Enginyera Industrial. Directora d'Energia a&nbsp\;Bureau&nbsp
 \;Veritas&nbsp\;Solutions&nbsp\;i especialista en efici?ncia energ?tica i
  en el mercat de Certificats d'Estalvi Energ?tic. Membre de la Junta de G
 overn del&nbsp\;COEIC&nbsp\;i d'ANESE. Membre de la Comissi?&nbsp\;CAE&nb
 sp\;d'ANESE. Coordinadora del grup de treball&nbsp\;CAEs&nbsp\;del Cl?ste
 r d'Energia Eficient de Catalunya (CEEC).</td>\n	</tr>\n	<tr>\n		<td styl
 e="width:100px\; text-align: left\;"><strong>Modalitat:</strong></td>\n		
 <td style="text-align: left\;"><p style="text-align: justify\;">Les sessi
 ons &nbsp\;d'aquest curs es realitzaran en directe\, seran enregistrades 
 i posteriorment estaran disponibles al campus virtual de Tecnoaula.</p><p
  style="text-align: justify\;">Per a la realitzaci? d?aquest curs de form
 aci?\, sota la modalitat presencial\, teniu a la vostra disposici? tiquet
 s d?aparcament gratu?t per una durada de 5&nbsp\; hores lectives que se u
 s entregaran a la recepci? de la seu col?legial. Un cop iniciat el curs\,
  nom?s caldr? que us identifiqueu amb el vostre nom i cognoms pel seu lli
 urament. Aquests tiquets s?n v?lids per:</p><p><strong>- Aparcaments Saba
  (C/Pau Claris 110\, 08007 BARCELONA)&nbsp\;<a href="https://www.google.e
 s/maps/place/C.+de+Pau+Claris\,+110\,+Eixample\,+08009+Barcelona/@41.3918
 742\,2.1685092\,17z/data=!3m1!4b1!4m6!3m5!1s0x12a4a2edeb71d213:0xbdac9e6e
 048972b9!8m2!3d41.3918742!4d2.1685092!16s%2Fg%2F11c5mjjz36?entry=ttu">Com
  arribar-hi</a></strong></p></td>\n	</tr>\n\n	\n\n<tr><td style="width:10
 0px\; text-align: left\;"><strong>&nbsp\;Nota:&nbsp\;</strong></td><td st
 yle="text-align: left\;">&nbsp\;Les inscripcions es porten a terme a trav
 ?s d' EBCN pr?via sol?licitud a la nostra web. Us farem arribar l'enlla? 
 de la inscripci? pr?via sol?licitud de la inscripci? al nostre web.</td><
 /tr></tbody></table>
DTEND;TZID=Europe/Madrid:20240313T200000
DTSTAMP:20260419T153546Z
DTSTART;TZID=Europe/Madrid:20240313T170000
LOCATION:https://www.enginyerstarragona.cat/agenda/details/2007/2007-curs-
 el-sistema-de-certificats-destalvi-energ
SEQUENCE:0
SUMMARY:[CURS] EL SISTEMA DE CERTIFICATS D?ESTALVI ENERG?TIC (CAE) AL DETA
 LL. Modalitat h?brida
UID:ET_Activitat_2007
URL:https://www.enginyerstarragona.cathttps://www.enginyerstarragona.cat/a
 genda/details/2007/2007-curs-el-sistema-de-certificats-destalvi-energ
END:VEVENT
END:VCALENDAR
