BEGIN:VCALENDAR
PRODID:-//github.com/rianjs/ical.net//NONSGML ical.net 2.2//EN
VERSION:2.0
BEGIN:VEVENT
CATEGORIES:Baixa Tensi?
CREATED;TZID=Europe/Madrid:20260419T204816
DESCRIPTION:<table class="table">\n	<tbody><tr>\n		<td style="width:100px\
 ; text-align: left\;"><strong>Organitza:</strong></td>\n		<td style="text
 -align: left\;">COGITI</td>\n	</tr>\n	<tr>\n		<td style="width:100px\; te
 xt-align: left\;"><strong>Dates:</strong></td>\n		<td style="text-align: 
 left\;">24 de gener (dimecres)&nbsp\;</td>\n	</tr>\n	<tr>\n		<td style="w
 idth:100px\; text-align: left\;"><strong>Horari:</strong></td>\n		<td sty
 le="text-align: left\;">A les 10.00 hores</td>\n	</tr>\n	\n	<tr>\n		<td s
 tyle="width:100px\; text-align: left\;"><strong>Durada:</strong></td>\n		
 <td style="text-align: left\;">2 hores aproximadament</td>\n	</tr>\n	<tr>
 \n		<td style="width:100px\; text-align: left\;"><strong>Programaci?:</st
 rong></td>\n		<td style="text-align: left\;"><p>? Necessitat d'estalvi en
 erg?tic.</p><p>? La digitalitzaci? mai havia estat tan senzilla.</p><p>? 
 Treu el m?xim profit dels teus quadres el?ctrics.</p><p>? Connecta els&nb
 sp\;Smarts Panels 4.0.&nbsp\;i&nbsp\;no et perdis ni un detall.</p><p>? T
 orn obert de preguntes.<br></p></td>\n	</tr>\n	\n	\n	<tr><td style="width
 :100px\; text-align: left\;">&nbsp\;<strong>Ponents:</strong></td><td sty
 le="text-align: left\;"><p>&nbsp\;<strong>Sr. Xavier Barnils:&nbsp\;</str
 ong>&nbsp\;Responsable d'Enginyeries d'Ib?ria en Schneider Electric&nbsp\
 ;Spain.</p><p><strong>Sr. Eduard Mirabet:&nbsp\;D</strong>igital&nbsp\;Po
 wer&nbsp\;Business&nbsp\;Development&nbsp\;en Schneider Electric&nbsp\;Sp
 ain.</p></td></tr><tr>\n		<td style="width:100px\; text-align: left\;"><s
 trong>Objectius:</strong></td>\n		<td style="text-align: left\;">L'object
 iu d'aquesta jornada ser? que els assistents puguin descobrir\, de primer
 a m?\, com la digitalitzaci? dels quadres el?ctrics ?s la millor eina per
  a poder monitorar els consums energ?tics\, localitzar punts de millora i
  gestionar les instal?lacions anticipant-nos a qualsevol incid?ncia. </td
 >\n	</tr>\n	\n	\n\n	<tr>\n		<td style="width:100px\; text-align: left\;">
 <strong>Nota:</strong></td>\n		<td style="text-align: left\;">\n&nbsp\;Le
 s inscripcions es porten a terme a trav?s del COGITI\, pr?via sol?licitud
  a la nostra web. Us farem arribar l'enlla? de la inscripci? pr?via sol?l
 icitud de la inscripci? al nostre web.</td>\n	</tr>\n\n</tbody></table>
DTEND;TZID=Europe/Madrid:20240124T120000
DTSTAMP:20260419T184816Z
DTSTART;TZID=Europe/Madrid:20240124T100000
LOCATION:https://www.enginyerstarragona.cat/agenda/details/1999/1999-webin
 ar-cogiti-smart-panels-40--maximiza-lefi
SEQUENCE:0
SUMMARY:[WEBINAR COGITI] "Smart Panels 4.0- MAXIMIZA L'EFICI?NCIA GR?CIES 
 A LA DIGITALITZACI? DELS QUADRES EL?CTRICS"
UID:ET_Activitat_1999
URL:https://www.enginyerstarragona.cathttps://www.enginyerstarragona.cat/a
 genda/details/1999/1999-webinar-cogiti-smart-panels-40--maximiza-lefi
END:VEVENT
END:VCALENDAR
