BEGIN:VCALENDAR
PRODID:-//github.com/rianjs/ical.net//NONSGML ical.net 2.2//EN
VERSION:2.0
BEGIN:VEVENT
CATEGORIES:Activitats
CREATED;TZID=Europe/Madrid:20260423T150820
DESCRIPTION:Us informem que <b>FECSA ENDESA </b>\nha preparat una exposici
 ? del 6 d'octubre a l'1 de novembre a la Fira de Reus\, Av. St. Jordi\, s
 /n\, coincidint amb les diferents fires que tinguin lloc al recinte firal
DTEND;TZID=Europe/Madrid;VALUE=DATE:20041102
DTSTAMP:20260423T130820Z
DTSTART;TZID=Europe/Madrid;VALUE=DATE:20041101
LOCATION:https://www.enginyerstarragona.cat/agenda/details/197/197-exposic
 io-la-forca-electrica-de-catalunya---f
SEQUENCE:0
SUMMARY:EXPOSICI?\, LA FOR?A EL?CTRICA DE CATALUNYA - FECSA ENDESA
UID:ET_Activitat_197
URL:https://www.enginyerstarragona.cathttps://www.enginyerstarragona.cat/a
 genda/details/197/197-exposicio-la-forca-electrica-de-catalunya---f
END:VEVENT
END:VCALENDAR
