BEGIN:VCALENDAR
PRODID:-//github.com/rianjs/ical.net//NONSGML ical.net 2.2//EN
VERSION:2.0
BEGIN:VEVENT
CATEGORIES:Activitats
CREATED;TZID=Europe/Madrid:20260425T185548
DESCRIPTION:<table class="table">\n	<tbody><tr>\n		<td style="width:100px\
 ; text-align: left\;"><strong>Dirigit a:</strong></td>\n		<td style="text
 -align: left\;">Col?legiats\, familiars i amics</td>\n	</tr>\n	<tr>\n		<t
 d style="width:100px\; text-align: left\;"><strong>Dates:</strong></td>\n
 		<td style="text-align: left\;">29 d'octubre (divendres)&nbsp\;</td>\n	<
 /tr>\n	<tr>\n		<td style="width:100px\; text-align: left\;"><strong>Horar
 i:</strong></td>\n		<td style="text-align: left\;">17:00h</td>\n	</tr>\n	
 <tr>\n		<td style="width:100px\; text-align: left\;"><strong>Assistents:<
 /strong></td>\n		<td style="text-align: left\;">M?nim 10 persones&nbsp\;<
 /td>\n	</tr>\n	<tr>\n		<td style="width:100px\; text-align: left\;"><stro
 ng>Durada:</strong></td>\n		<td style="text-align: left\;">2\,5 hores</td
 >\n	</tr>\n	<tr>\n		<td style="width:100px\; text-align: left\;"><strong>
 Sinopsis:</strong></td>\n		<td style="text-align: left\;"><p>Billy&nbsp\;
 Elliot\, El Musical\, ?s un dels espectacles m?s apassionats del m?n.&nbs
 p\;<span style="background-color: transparent\;">El Musical narra la hist
 ?ria del jove Billy\, nascut en una ciutat del nord d'Anglaterra\, en el 
 que els homes practiquen boxa i treballen a la mina.</span></p><p>A Billy
  no li agrada la boxa\, per? est? captivat per la gr?cia i la meravella d
 el ballet. Amb f?rria determinaci? lluitar? per aconseguir els seus somni
 s\, retornant la uni? a la seva fam?lia i la fe en una comunitat devastad
 a pel convuls final de la ind?stria minera brit?nica.</p><p>L'espectacle 
 arriba a BARCELONA\, despr?s de m?s d'onze anys a Londres i quatre a Broa
 dway\, amb un missatge carregat de for?a contra els prejudicis i els rols
  de g?nere.</p><p>La&nbsp\;BSO&nbsp\;en directe est? creada per Elton Joh
 n. Els ballarins han estat formats en claqu?\, dansa cl?ssica i cant dura
 nt m?s de dos anys\, exclusivament per aquest espectacle!</p></td>\n	</tr
 >\n	\n	\n	\n	\n	\n\n<tr><td style="width:100px\; text-align: left\;">&nbs
 p\;<strong>Preu:</strong></td><td style="text-align: left\;"><p><strong>P
 LATEA:</strong> 49 ? (en comptes de 75 ?)</p><p>Pots demanar tantes entra
 des com vulguis!</p></td></tr><tr><td style="width:100px\; text-align: le
 ft\;">&nbsp\;</td><td style="text-align: left\;">&nbsp\;</td></tr></tbody
 ></table>
DTEND;TZID=Europe/Madrid:20211029T193000
DTSTAMP:20260425T165548Z
DTSTART;TZID=Europe/Madrid:20211029T170000
LOCATION:https://www.enginyerstarragona.cat/agenda/details/1730/1730-teatr
 e-victoria-billy-elliot
SEQUENCE:0
SUMMARY:[Teatre Vict?ria ] "Billy Elliot"
UID:ET_Activitat_1730
URL:https://www.enginyerstarragona.cathttps://www.enginyerstarragona.cat/a
 genda/details/1730/1730-teatre-victoria-billy-elliot
END:VEVENT
END:VCALENDAR
